BEGIN:VCALENDAR
VERSION:2.0
PRODID:-//YGAMETIME.com//YGT iCal Creator//EN
METHOD:PUBLISH
X-PUBLISHED-TTL:PT6H
REFRESH-INTERVAL;VALUE=DURATION:PT6H
CALSCALE:GREGORIAN
X-WR-CALNAME:YGAMETIME CALENDAR
BEGIN:VTIMEZONE
TZID:America/New_York
X-LIC-LOCATION:America/New_York
BEGIN:DAYLIGHT
TZOFFSETFROM:-0500
TZOFFSETTO:-0400
TZNAME:EDT
DTSTART:19700308T020000
RRULE:FREQ=YEARLY;BYMONTH=3;BYDAY=2SU
END:DAYLIGHT
BEGIN:STANDARD
TZOFFSETFROM:-0400
TZOFFSETTO:-0500
TZNAME:EST
DTSTART:19701101T020000
RRULE:FREQ=YEARLY;BYMONTH=11;BYDAY=1SU
END:STANDARD
END:VTIMEZONE
BEGIN:VEVENT
UID:putnam-214569@ygametime.com
DTSTAMP:20200912T123000Z
DTSTART;TZID=America/New_York:20200912T083000
DURATION:PT0H60M0S
SUMMARY:Bottoms vs Grimm
DESCRIPTION:U6 | soccer\nPutnam County Family YMCA\n
URL;VALUE=URI:https://ygametime.com/branch/putnam/sports/2020-spring-soccer/8616/?utm_medium=calendar&utm_source=team_cal&utm_content=league_url#game-214569
LOCATION:Field 7 (3/4)
BEGIN:VALARM
TRIGGER:-P2H
ACTION:DISPLAY
DESCRIPTION:Bottoms vs Grimm
END:VALARM
END:VEVENT
BEGIN:VEVENT
UID:putnam-214570@ygametime.com
DTSTAMP:20200912T133000Z
DTSTART;TZID=America/New_York:20200912T093000
DURATION:PT0H60M0S
SUMMARY:Jolley vs Bottoms
DESCRIPTION:U6 | soccer\nPutnam County Family YMCA\n
URL;VALUE=URI:https://ygametime.com/branch/putnam/sports/2020-spring-soccer/8616/?utm_medium=calendar&utm_source=team_cal&utm_content=league_url#game-214570
LOCATION:Field 7 (3/4)
BEGIN:VALARM
TRIGGER:-P2H
ACTION:DISPLAY
DESCRIPTION:Jolley vs Bottoms
END:VALARM
END:VEVENT
BEGIN:VEVENT
UID:putnam-214574@ygametime.com
DTSTAMP:20200919T123000Z
DTSTART;TZID=America/New_York:20200919T083000
DURATION:PT0H60M0S
SUMMARY:Marc vs Bottoms
DESCRIPTION:U6 | soccer\nPutnam County Family YMCA\n
URL;VALUE=URI:https://ygametime.com/branch/putnam/sports/2020-spring-soccer/8616/?utm_medium=calendar&utm_source=team_cal&utm_content=league_url#game-214574
LOCATION:Field 7 (3/4)
BEGIN:VALARM
TRIGGER:-P2H
ACTION:DISPLAY
DESCRIPTION:Marc vs Bottoms
END:VALARM
END:VEVENT
BEGIN:VEVENT
UID:putnam-214579@ygametime.com
DTSTAMP:20200926T123000Z
DTSTART;TZID=America/New_York:20200926T083000
DURATION:PT0H60M0S
SUMMARY:Bottoms vs Null
DESCRIPTION:U6 | soccer\nPutnam County Family YMCA\n
URL;VALUE=URI:https://ygametime.com/branch/putnam/sports/2020-spring-soccer/8616/?utm_medium=calendar&utm_source=team_cal&utm_content=league_url#game-214579
LOCATION:Field 7 (3/4)
BEGIN:VALARM
TRIGGER:-P2H
ACTION:DISPLAY
DESCRIPTION:Bottoms vs Null
END:VALARM
END:VEVENT
BEGIN:VEVENT
UID:putnam-214584@ygametime.com
DTSTAMP:20201003T123000Z
DTSTART;TZID=America/New_York:20201003T083000
DURATION:PT0H60M0S
SUMMARY:Copeland vs Bottoms
DESCRIPTION:U6 | soccer\nPutnam County Family YMCA\n
URL;VALUE=URI:https://ygametime.com/branch/putnam/sports/2020-spring-soccer/8616/?utm_medium=calendar&utm_source=team_cal&utm_content=league_url#game-214584
LOCATION:Field 7 (3/4)
BEGIN:VALARM
TRIGGER:-P2H
ACTION:DISPLAY
DESCRIPTION:Copeland vs Bottoms
END:VALARM
END:VEVENT
BEGIN:VEVENT
UID:putnam-214606@ygametime.com
DTSTAMP:20201024T123000Z
DTSTART;TZID=America/New_York:20201024T083000
DURATION:PT0H60M0S
SUMMARY:Courtney vs Bottoms
DESCRIPTION:U6 | soccer\nPutnam County Family YMCA\n
URL;VALUE=URI:https://ygametime.com/branch/putnam/sports/2020-spring-soccer/8616/?utm_medium=calendar&utm_source=team_cal&utm_content=league_url#game-214606
LOCATION:Field 9 (3/4)
BEGIN:VALARM
TRIGGER:-P2H
ACTION:DISPLAY
DESCRIPTION:Courtney vs Bottoms
END:VALARM
END:VEVENT
BEGIN:VEVENT
UID:putnam-214598@ygametime.com
DTSTAMP:20201031T163000Z
DTSTART;TZID=America/New_York:20201031T123000
DURATION:PT0H60M0S
SUMMARY:Jolley vs Bottoms
DESCRIPTION:U6 | soccer\nPutnam County Family YMCA\n
URL;VALUE=URI:https://ygametime.com/branch/putnam/sports/2020-spring-soccer/8616/?utm_medium=calendar&utm_source=team_cal&utm_content=league_url#game-214598
LOCATION:Field 9 (3/4)
BEGIN:VALARM
TRIGGER:-P2H
ACTION:DISPLAY
DESCRIPTION:Jolley vs Bottoms
END:VALARM
END:VEVENT
BEGIN:VEVENT
UID:putnam-214602@ygametime.com
DTSTAMP:20201107T163000Z
DTSTART;TZID=America/New_York:20201107T113000
DURATION:PT0H60M0S
SUMMARY:Huddleston vs Bottoms
DESCRIPTION:U6 | soccer\nPutnam County Family YMCA\n
URL;VALUE=URI:https://ygametime.com/branch/putnam/sports/2020-spring-soccer/8616/?utm_medium=calendar&utm_source=team_cal&utm_content=league_url#game-214602
LOCATION:Field 7 (3/4)
BEGIN:VALARM
TRIGGER:-P2H
ACTION:DISPLAY
DESCRIPTION:Huddleston vs Bottoms
END:VALARM
END:VEVENT
END:VCALENDAR

