BEGIN:VCALENDAR
VERSION:2.0
PRODID:-//YGAMETIME.com//YGT iCal Creator//EN
METHOD:PUBLISH
X-PUBLISHED-TTL:PT6H
REFRESH-INTERVAL;VALUE=DURATION:PT6H
CALSCALE:GREGORIAN
X-WR-CALNAME:YGAMETIME CALENDAR
BEGIN:VTIMEZONE
TZID:America/New_York
X-LIC-LOCATION:America/New_York
BEGIN:DAYLIGHT
TZOFFSETFROM:-0500
TZOFFSETTO:-0400
TZNAME:EDT
DTSTART:19700308T020000
RRULE:FREQ=YEARLY;BYMONTH=3;BYDAY=2SU
END:DAYLIGHT
BEGIN:STANDARD
TZOFFSETFROM:-0400
TZOFFSETTO:-0500
TZNAME:EST
DTSTART:19701101T020000
RRULE:FREQ=YEARLY;BYMONTH=11;BYDAY=1SU
END:STANDARD
END:VTIMEZONE
BEGIN:VEVENT
UID:putnam-214611@ygametime.com
DTSTAMP:20200912T123000Z
DTSTART;TZID=America/New_York:20200912T083000
DURATION:PT0H60M0S
SUMMARY:Fancher vs Tony
DESCRIPTION:U8 | soccer\nPutnam County Family YMCA\n
URL;VALUE=URI:https://ygametime.com/branch/putnam/sports/2020-spring-soccer/8623/?utm_medium=calendar&utm_source=team_cal&utm_content=league_url#game-214611
LOCATION:Field 4 (7/8)
BEGIN:VALARM
TRIGGER:-P2H
ACTION:DISPLAY
DESCRIPTION:Fancher vs Tony
END:VALARM
END:VEVENT
BEGIN:VEVENT
UID:putnam-214617@ygametime.com
DTSTAMP:20200919T143000Z
DTSTART;TZID=America/New_York:20200919T103000
DURATION:PT0H60M0S
SUMMARY:Brown vs Tony
DESCRIPTION:U8 | soccer\nPutnam County Family YMCA\n
URL;VALUE=URI:https://ygametime.com/branch/putnam/sports/2020-spring-soccer/8623/?utm_medium=calendar&utm_source=team_cal&utm_content=league_url#game-214617
LOCATION:Field 4 (7/8)
BEGIN:VALARM
TRIGGER:-P2H
ACTION:DISPLAY
DESCRIPTION:Brown vs Tony
END:VALARM
END:VEVENT
BEGIN:VEVENT
UID:putnam-215137@ygametime.com
DTSTAMP:20200921T213000Z
DTSTART;TZID=America/New_York:20200921T173000
DURATION:PT0H60M0S
SUMMARY:Bowers vs Tony
DESCRIPTION:U8 | soccer\nPutnam County Family YMCA\n
URL;VALUE=URI:https://ygametime.com/branch/putnam/sports/2020-spring-soccer/8623/?utm_medium=calendar&utm_source=team_cal&utm_content=league_url#game-215137
LOCATION:Field 4 (7/8)
BEGIN:VALARM
TRIGGER:-P2H
ACTION:DISPLAY
DESCRIPTION:Bowers vs Tony
END:VALARM
END:VEVENT
BEGIN:VEVENT
UID:putnam-214620@ygametime.com
DTSTAMP:20200926T153000Z
DTSTART;TZID=America/New_York:20200926T113000
DURATION:PT0H60M0S
SUMMARY:Tony vs Sisco
DESCRIPTION:U8 | soccer\nPutnam County Family YMCA\n
URL;VALUE=URI:https://ygametime.com/branch/putnam/sports/2020-spring-soccer/8623/?utm_medium=calendar&utm_source=team_cal&utm_content=league_url#game-214620
LOCATION:Field 5 (7/8)
BEGIN:VALARM
TRIGGER:-P2H
ACTION:DISPLAY
DESCRIPTION:Tony vs Sisco
END:VALARM
END:VEVENT
BEGIN:VEVENT
UID:putnam-214626@ygametime.com
DTSTAMP:20201003T143000Z
DTSTART;TZID=America/New_York:20201003T103000
DURATION:PT0H60M0S
SUMMARY:Presley vs Tony
DESCRIPTION:U8 | soccer\nPutnam County Family YMCA\n
URL;VALUE=URI:https://ygametime.com/branch/putnam/sports/2020-spring-soccer/8623/?utm_medium=calendar&utm_source=team_cal&utm_content=league_url#game-214626
LOCATION:Field 4 (7/8)
BEGIN:VALARM
TRIGGER:-P2H
ACTION:DISPLAY
DESCRIPTION:Presley vs Tony
END:VALARM
END:VEVENT
BEGIN:VEVENT
UID:putnam-214638@ygametime.com
DTSTAMP:20201024T153000Z
DTSTART;TZID=America/New_York:20201024T113000
DURATION:PT0H60M0S
SUMMARY:Brown vs Tony
DESCRIPTION:U8 | soccer\nPutnam County Family YMCA\n
URL;VALUE=URI:https://ygametime.com/branch/putnam/sports/2020-spring-soccer/8623/?utm_medium=calendar&utm_source=team_cal&utm_content=league_url#game-214638
LOCATION:Field 4 (7/8)
BEGIN:VALARM
TRIGGER:-P2H
ACTION:DISPLAY
DESCRIPTION:Brown vs Tony
END:VALARM
END:VEVENT
BEGIN:VEVENT
UID:putnam-214634@ygametime.com
DTSTAMP:20201031T123000Z
DTSTART;TZID=America/New_York:20201031T083000
DURATION:PT0H60M0S
SUMMARY:Bowers vs Tony
DESCRIPTION:U8 | soccer\nPutnam County Family YMCA\n
URL;VALUE=URI:https://ygametime.com/branch/putnam/sports/2020-spring-soccer/8623/?utm_medium=calendar&utm_source=team_cal&utm_content=league_url#game-214634
LOCATION:Field 5 (7/8)
BEGIN:VALARM
TRIGGER:-P2H
ACTION:DISPLAY
DESCRIPTION:Bowers vs Tony
END:VALARM
END:VEVENT
BEGIN:VEVENT
UID:putnam-214628@ygametime.com
DTSTAMP:20201107T133000Z
DTSTART;TZID=America/New_York:20201107T083000
DURATION:PT0H60M0S
SUMMARY:Tony vs Fikes
DESCRIPTION:U8 | soccer\nPutnam County Family YMCA\n
URL;VALUE=URI:https://ygametime.com/branch/putnam/sports/2020-spring-soccer/8623/?utm_medium=calendar&utm_source=team_cal&utm_content=league_url#game-214628
LOCATION:Field 4 (7/8)
BEGIN:VALARM
TRIGGER:-P2H
ACTION:DISPLAY
DESCRIPTION:Tony vs Fikes
END:VALARM
END:VEVENT
END:VCALENDAR

