BEGIN:VCALENDAR
VERSION:2.0
PRODID:-//YGAMETIME.com//YGT iCal Creator//EN
METHOD:PUBLISH
X-PUBLISHED-TTL:PT6H
REFRESH-INTERVAL;VALUE=DURATION:PT6H
CALSCALE:GREGORIAN
X-WR-CALNAME:YGAMETIME CALENDAR
BEGIN:VTIMEZONE
TZID:America/New_York
X-LIC-LOCATION:America/New_York
BEGIN:DAYLIGHT
TZOFFSETFROM:-0500
TZOFFSETTO:-0400
TZNAME:EDT
DTSTART:19700308T020000
RRULE:FREQ=YEARLY;BYMONTH=3;BYDAY=2SU
END:DAYLIGHT
BEGIN:STANDARD
TZOFFSETFROM:-0400
TZOFFSETTO:-0500
TZNAME:EST
DTSTART:19701101T020000
RRULE:FREQ=YEARLY;BYMONTH=11;BYDAY=1SU
END:STANDARD
END:VTIMEZONE
BEGIN:VEVENT
UID:putnam-214611@ygametime.com
DTSTAMP:20200912T123000Z
DTSTART;TZID=America/New_York:20200912T083000
DURATION:PT0H60M0S
SUMMARY:Fancher vs Tony
DESCRIPTION:U8 | soccer\nPutnam County Family YMCA\n
URL;VALUE=URI:https://ygametime.com/branch/putnam/sports/2020-spring-soccer/8623/?utm_medium=calendar&utm_source=team_cal&utm_content=league_url#game-214611
LOCATION:Field 4 (7/8)
BEGIN:VALARM
TRIGGER:-P2H
ACTION:DISPLAY
DESCRIPTION:Fancher vs Tony
END:VALARM
END:VEVENT
BEGIN:VEVENT
UID:putnam-214612@ygametime.com
DTSTAMP:20200912T133000Z
DTSTART;TZID=America/New_York:20200912T093000
DURATION:PT0H60M0S
SUMMARY:Fancher vs Sisco
DESCRIPTION:U8 | soccer\nPutnam County Family YMCA\n
URL;VALUE=URI:https://ygametime.com/branch/putnam/sports/2020-spring-soccer/8623/?utm_medium=calendar&utm_source=team_cal&utm_content=league_url#game-214612
LOCATION:Field 4 (7/8)
BEGIN:VALARM
TRIGGER:-P2H
ACTION:DISPLAY
DESCRIPTION:Fancher vs Sisco
END:VALARM
END:VEVENT
BEGIN:VEVENT
UID:putnam-214618@ygametime.com
DTSTAMP:20200919T133000Z
DTSTART;TZID=America/New_York:20200919T093000
DURATION:PT0H60M0S
SUMMARY:Fancher vs Presley
DESCRIPTION:U8 | soccer\nPutnam County Family YMCA\n
URL;VALUE=URI:https://ygametime.com/branch/putnam/sports/2020-spring-soccer/8623/?utm_medium=calendar&utm_source=team_cal&utm_content=league_url#game-214618
LOCATION:Field 5 (7/8)
BEGIN:VALARM
TRIGGER:-P2H
ACTION:DISPLAY
DESCRIPTION:Fancher vs Presley
END:VALARM
END:VEVENT
BEGIN:VEVENT
UID:putnam-214619@ygametime.com
DTSTAMP:20200926T133000Z
DTSTART;TZID=America/New_York:20200926T093000
DURATION:PT0H60M0S
SUMMARY:Fancher vs Fikes
DESCRIPTION:U8 | soccer\nPutnam County Family YMCA\n
URL;VALUE=URI:https://ygametime.com/branch/putnam/sports/2020-spring-soccer/8623/?utm_medium=calendar&utm_source=team_cal&utm_content=league_url#game-214619
LOCATION:Field 4 (7/8)
BEGIN:VALARM
TRIGGER:-P2H
ACTION:DISPLAY
DESCRIPTION:Fancher vs Fikes
END:VALARM
END:VEVENT
BEGIN:VEVENT
UID:putnam-216537@ygametime.com
DTSTAMP:20201002T213000Z
DTSTART;TZID=America/New_York:20201002T173000
DURATION:PT0H60M0S
SUMMARY:Sisco vs Fancher
DESCRIPTION:U8 | soccer\nPutnam County Family YMCA\n
URL;VALUE=URI:https://ygametime.com/branch/putnam/sports/2020-spring-soccer/8623/?utm_medium=calendar&utm_source=team_cal&utm_content=league_url#game-216537
LOCATION:
BEGIN:VALARM
TRIGGER:-P2H
ACTION:DISPLAY
DESCRIPTION:Sisco vs Fancher
END:VALARM
END:VEVENT
BEGIN:VEVENT
UID:putnam-219937@ygametime.com
DTSTAMP:20201017T140000Z
DTSTART;TZID=America/New_York:20201017T100000
DURATION:PT0H60M0S
SUMMARY:Bowers vs Fancher
DESCRIPTION:U8 | soccer\nPutnam County Family YMCA\n
URL;VALUE=URI:https://ygametime.com/branch/putnam/sports/2020-spring-soccer/8623/?utm_medium=calendar&utm_source=team_cal&utm_content=league_url#game-219937
LOCATION:
BEGIN:VALARM
TRIGGER:-P2H
ACTION:DISPLAY
DESCRIPTION:Bowers vs Fancher
END:VALARM
END:VEVENT
BEGIN:VEVENT
UID:putnam-214632@ygametime.com
DTSTAMP:20201031T143000Z
DTSTART;TZID=America/New_York:20201031T103000
DURATION:PT0H60M0S
SUMMARY:Presley vs Fancher
DESCRIPTION:U8 | soccer\nPutnam County Family YMCA\n
URL;VALUE=URI:https://ygametime.com/branch/putnam/sports/2020-spring-soccer/8623/?utm_medium=calendar&utm_source=team_cal&utm_content=league_url#game-214632
LOCATION:Field 4 (7/8)
BEGIN:VALARM
TRIGGER:-P2H
ACTION:DISPLAY
DESCRIPTION:Presley vs Fancher
END:VALARM
END:VEVENT
BEGIN:VEVENT
UID:putnam-214627@ygametime.com
DTSTAMP:20201107T163000Z
DTSTART;TZID=America/New_York:20201107T113000
DURATION:PT0H60M0S
SUMMARY:Brown vs Fancher
DESCRIPTION:U8 | soccer\nPutnam County Family YMCA\n
URL;VALUE=URI:https://ygametime.com/branch/putnam/sports/2020-spring-soccer/8623/?utm_medium=calendar&utm_source=team_cal&utm_content=league_url#game-214627
LOCATION:Field 5 (7/8)
BEGIN:VALARM
TRIGGER:-P2H
ACTION:DISPLAY
DESCRIPTION:Brown vs Fancher
END:VALARM
END:VEVENT
END:VCALENDAR

