BEGIN:VCALENDAR
VERSION:2.0
PRODID:-//YGAMETIME.com//YGT iCal Creator//EN
METHOD:PUBLISH
X-PUBLISHED-TTL:PT6H
REFRESH-INTERVAL;VALUE=DURATION:PT6H
CALSCALE:GREGORIAN
X-WR-CALNAME:YGAMETIME CALENDAR
BEGIN:VTIMEZONE
TZID:America/New_York
X-LIC-LOCATION:America/New_York
BEGIN:DAYLIGHT
TZOFFSETFROM:-0500
TZOFFSETTO:-0400
TZNAME:EDT
DTSTART:19700308T020000
RRULE:FREQ=YEARLY;BYMONTH=3;BYDAY=2SU
END:DAYLIGHT
BEGIN:STANDARD
TZOFFSETFROM:-0400
TZOFFSETTO:-0500
TZNAME:EST
DTSTART:19701101T020000
RRULE:FREQ=YEARLY;BYMONTH=11;BYDAY=1SU
END:STANDARD
END:VTIMEZONE
BEGIN:VEVENT
UID:putnam-214614@ygametime.com
DTSTAMP:20200912T153000Z
DTSTART;TZID=America/New_York:20200912T113000
DURATION:PT0H60M0S
SUMMARY:Fikes vs Presley
DESCRIPTION:U8 | soccer\nPutnam County Family YMCA\n
URL;VALUE=URI:https://ygametime.com/branch/putnam/sports/2020-spring-soccer/8623/?utm_medium=calendar&utm_source=team_cal&utm_content=league_url#game-214614
LOCATION:Field 4 (7/8)
BEGIN:VALARM
TRIGGER:-P2H
ACTION:DISPLAY
DESCRIPTION:Fikes vs Presley
END:VALARM
END:VEVENT
BEGIN:VEVENT
UID:putnam-214618@ygametime.com
DTSTAMP:20200919T133000Z
DTSTART;TZID=America/New_York:20200919T093000
DURATION:PT0H60M0S
SUMMARY:Fancher vs Presley
DESCRIPTION:U8 | soccer\nPutnam County Family YMCA\n
URL;VALUE=URI:https://ygametime.com/branch/putnam/sports/2020-spring-soccer/8623/?utm_medium=calendar&utm_source=team_cal&utm_content=league_url#game-214618
LOCATION:Field 5 (7/8)
BEGIN:VALARM
TRIGGER:-P2H
ACTION:DISPLAY
DESCRIPTION:Fancher vs Presley
END:VALARM
END:VEVENT
BEGIN:VEVENT
UID:putnam-215138@ygametime.com
DTSTAMP:20200928T211500Z
DTSTART;TZID=America/New_York:20200928T171500
DURATION:PT0H60M0S
SUMMARY:Bowers vs Presley
DESCRIPTION:U8 | soccer\nPutnam County Family YMCA\n
URL;VALUE=URI:https://ygametime.com/branch/putnam/sports/2020-spring-soccer/8623/?utm_medium=calendar&utm_source=team_cal&utm_content=league_url#game-215138
LOCATION:Field 4 (7/8)
BEGIN:VALARM
TRIGGER:-P2H
ACTION:DISPLAY
DESCRIPTION:Bowers vs Presley
END:VALARM
END:VEVENT
BEGIN:VEVENT
UID:putnam-214626@ygametime.com
DTSTAMP:20201003T143000Z
DTSTART;TZID=America/New_York:20201003T103000
DURATION:PT0H60M0S
SUMMARY:Presley vs Tony
DESCRIPTION:U8 | soccer\nPutnam County Family YMCA\n
URL;VALUE=URI:https://ygametime.com/branch/putnam/sports/2020-spring-soccer/8623/?utm_medium=calendar&utm_source=team_cal&utm_content=league_url#game-214626
LOCATION:Field 4 (7/8)
BEGIN:VALARM
TRIGGER:-P2H
ACTION:DISPLAY
DESCRIPTION:Presley vs Tony
END:VALARM
END:VEVENT
BEGIN:VEVENT
UID:putnam-219216@ygametime.com
DTSTAMP:20201017T130000Z
DTSTART;TZID=America/New_York:20201017T090000
DURATION:PT0H60M0S
SUMMARY:Presley vs Bowers
DESCRIPTION:U8 | soccer\nPutnam County Family YMCA\n
URL;VALUE=URI:https://ygametime.com/branch/putnam/sports/2020-spring-soccer/8623/?utm_medium=calendar&utm_source=team_cal&utm_content=league_url#game-219216
LOCATION:
BEGIN:VALARM
TRIGGER:-P2H
ACTION:DISPLAY
DESCRIPTION:Presley vs Bowers
END:VALARM
END:VEVENT
BEGIN:VEVENT
UID:putnam-214637@ygametime.com
DTSTAMP:20201024T143000Z
DTSTART;TZID=America/New_York:20201024T103000
DURATION:PT0H60M0S
SUMMARY:Sisco vs Presley
DESCRIPTION:U8 | soccer\nPutnam County Family YMCA\n
URL;VALUE=URI:https://ygametime.com/branch/putnam/sports/2020-spring-soccer/8623/?utm_medium=calendar&utm_source=team_cal&utm_content=league_url#game-214637
LOCATION:Field 5 (7/8)
BEGIN:VALARM
TRIGGER:-P2H
ACTION:DISPLAY
DESCRIPTION:Sisco vs Presley
END:VALARM
END:VEVENT
BEGIN:VEVENT
UID:putnam-214632@ygametime.com
DTSTAMP:20201031T143000Z
DTSTART;TZID=America/New_York:20201031T103000
DURATION:PT0H60M0S
SUMMARY:Presley vs Fancher
DESCRIPTION:U8 | soccer\nPutnam County Family YMCA\n
URL;VALUE=URI:https://ygametime.com/branch/putnam/sports/2020-spring-soccer/8623/?utm_medium=calendar&utm_source=team_cal&utm_content=league_url#game-214632
LOCATION:Field 4 (7/8)
BEGIN:VALARM
TRIGGER:-P2H
ACTION:DISPLAY
DESCRIPTION:Presley vs Fancher
END:VALARM
END:VEVENT
BEGIN:VEVENT
UID:putnam-214633@ygametime.com
DTSTAMP:20201031T153000Z
DTSTART;TZID=America/New_York:20201031T113000
DURATION:PT0H60M0S
SUMMARY:Presley vs Fikes
DESCRIPTION:U8 | soccer\nPutnam County Family YMCA\n
URL;VALUE=URI:https://ygametime.com/branch/putnam/sports/2020-spring-soccer/8623/?utm_medium=calendar&utm_source=team_cal&utm_content=league_url#game-214633
LOCATION:Field 4 (7/8)
BEGIN:VALARM
TRIGGER:-P2H
ACTION:DISPLAY
DESCRIPTION:Presley vs Fikes
END:VALARM
END:VEVENT
BEGIN:VEVENT
UID:putnam-214630@ygametime.com
DTSTAMP:20201107T143000Z
DTSTART;TZID=America/New_York:20201107T093000
DURATION:PT0H60M0S
SUMMARY:Bowers vs Presley
DESCRIPTION:U8 | soccer\nPutnam County Family YMCA\n
URL;VALUE=URI:https://ygametime.com/branch/putnam/sports/2020-spring-soccer/8623/?utm_medium=calendar&utm_source=team_cal&utm_content=league_url#game-214630
LOCATION:Field 4 (7/8)
BEGIN:VALARM
TRIGGER:-P2H
ACTION:DISPLAY
DESCRIPTION:Bowers vs Presley
END:VALARM
END:VEVENT
END:VCALENDAR

