BEGIN:VCALENDAR
VERSION:2.0
PRODID:-//YGAMETIME.com//YGT iCal Creator//EN
METHOD:PUBLISH
X-PUBLISHED-TTL:PT6H
REFRESH-INTERVAL;VALUE=DURATION:PT6H
CALSCALE:GREGORIAN
X-WR-CALNAME:YGAMETIME CALENDAR
BEGIN:VTIMEZONE
TZID:America/New_York
X-LIC-LOCATION:America/New_York
BEGIN:DAYLIGHT
TZOFFSETFROM:-0500
TZOFFSETTO:-0400
TZNAME:EDT
DTSTART:19700308T020000
RRULE:FREQ=YEARLY;BYMONTH=3;BYDAY=2SU
END:DAYLIGHT
BEGIN:STANDARD
TZOFFSETFROM:-0400
TZOFFSETTO:-0500
TZNAME:EST
DTSTART:19701101T020000
RRULE:FREQ=YEARLY;BYMONTH=11;BYDAY=1SU
END:STANDARD
END:VTIMEZONE
BEGIN:VEVENT
UID:putnam-214641@ygametime.com
DTSTAMP:20200912T150000Z
DTSTART;TZID=America/New_York:20200912T110000
DURATION:PT0H90M0S
SUMMARY:Cason vs Bates
DESCRIPTION:U10 | soccer\nPutnam County Family YMCA\n
URL;VALUE=URI:https://ygametime.com/branch/putnam/sports/2020-spring-soccer/8624/?utm_medium=calendar&utm_source=team_cal&utm_content=league_url#game-214641
LOCATION:Field 1 (9/11) Practice field
BEGIN:VALARM
TRIGGER:-P2H
ACTION:DISPLAY
DESCRIPTION:Cason vs Bates
END:VALARM
END:VEVENT
BEGIN:VEVENT
UID:putnam-216462@ygametime.com
DTSTAMP:20200922T213000Z
DTSTART;TZID=America/New_York:20200922T173000
DURATION:PT0H90M0S
SUMMARY:Bates vs Will
DESCRIPTION:U10 | soccer\nPutnam County Family YMCA\n
URL;VALUE=URI:https://ygametime.com/branch/putnam/sports/2020-spring-soccer/8624/?utm_medium=calendar&utm_source=team_cal&utm_content=league_url#game-216462
LOCATION:
BEGIN:VALARM
TRIGGER:-P2H
ACTION:DISPLAY
DESCRIPTION:Bates vs Will
END:VALARM
END:VEVENT
BEGIN:VEVENT
UID:putnam-216461@ygametime.com
DTSTAMP:20200929T213000Z
DTSTART;TZID=America/New_York:20200929T173000
DURATION:PT0H90M0S
SUMMARY:Bates vs Bowers
DESCRIPTION:U10 | soccer\nPutnam County Family YMCA\n
URL;VALUE=URI:https://ygametime.com/branch/putnam/sports/2020-spring-soccer/8624/?utm_medium=calendar&utm_source=team_cal&utm_content=league_url#game-216461
LOCATION:
BEGIN:VALARM
TRIGGER:-P2H
ACTION:DISPLAY
DESCRIPTION:Bates vs Bowers
END:VALARM
END:VEVENT
BEGIN:VEVENT
UID:putnam-219060@ygametime.com
DTSTAMP:20201013T213000Z
DTSTART;TZID=America/New_York:20201013T173000
DURATION:PT0H90M0S
SUMMARY:Bowen vs Bates
DESCRIPTION:U10 | soccer\nPutnam County Family YMCA\n
URL;VALUE=URI:https://ygametime.com/branch/putnam/sports/2020-spring-soccer/8624/?utm_medium=calendar&utm_source=team_cal&utm_content=league_url#game-219060
LOCATION:
BEGIN:VALARM
TRIGGER:-P2H
ACTION:DISPLAY
DESCRIPTION:Bowen vs Bates
END:VALARM
END:VEVENT
BEGIN:VEVENT
UID:putnam-214657@ygametime.com
DTSTAMP:20201024T133000Z
DTSTART;TZID=America/New_York:20201024T093000
DURATION:PT0H90M0S
SUMMARY:Bates vs Groves
DESCRIPTION:U10 | soccer\nPutnam County Family YMCA\n
URL;VALUE=URI:https://ygametime.com/branch/putnam/sports/2020-spring-soccer/8624/?utm_medium=calendar&utm_source=team_cal&utm_content=league_url#game-214657
LOCATION:Field 1 (9/11) Practice field
BEGIN:VALARM
TRIGGER:-P2H
ACTION:DISPLAY
DESCRIPTION:Bates vs Groves
END:VALARM
END:VEVENT
BEGIN:VEVENT
UID:putnam-214654@ygametime.com
DTSTAMP:20201031T150000Z
DTSTART;TZID=America/New_York:20201031T110000
DURATION:PT0H90M0S
SUMMARY:Cason vs Bates
DESCRIPTION:U10 | soccer\nPutnam County Family YMCA\n
URL;VALUE=URI:https://ygametime.com/branch/putnam/sports/2020-spring-soccer/8624/?utm_medium=calendar&utm_source=team_cal&utm_content=league_url#game-214654
LOCATION:Field 1 (9/11) Practice field
BEGIN:VALARM
TRIGGER:-P2H
ACTION:DISPLAY
DESCRIPTION:Cason vs Bates
END:VALARM
END:VEVENT
BEGIN:VEVENT
UID:putnam-220590@ygametime.com
DTSTAMP:20201107T170000Z
DTSTART;TZID=America/New_York:20201107T120000
DURATION:PT0H90M0S
SUMMARY:Bates vs -
DESCRIPTION:U10 | soccer\nPutnam County Family YMCA\n
URL;VALUE=URI:https://ygametime.com/branch/putnam/sports/2020-spring-soccer/8624/?utm_medium=calendar&utm_source=team_cal&utm_content=league_url#game-220590
LOCATION:Field 1 (9/11) Practice field
BEGIN:VALARM
TRIGGER:-P2H
ACTION:DISPLAY
DESCRIPTION:Bates vs -
END:VALARM
END:VEVENT
END:VCALENDAR

