BEGIN:VCALENDAR
VERSION:2.0
PRODID:-//YGAMETIME.com//YGT iCal Creator//EN
METHOD:PUBLISH
X-PUBLISHED-TTL:PT6H
REFRESH-INTERVAL;VALUE=DURATION:PT6H
CALSCALE:GREGORIAN
X-WR-CALNAME:YGAMETIME CALENDAR
BEGIN:VTIMEZONE
TZID:America/New_York
X-LIC-LOCATION:America/New_York
BEGIN:DAYLIGHT
TZOFFSETFROM:-0500
TZOFFSETTO:-0400
TZNAME:EDT
DTSTART:19700308T020000
RRULE:FREQ=YEARLY;BYMONTH=3;BYDAY=2SU
END:DAYLIGHT
BEGIN:STANDARD
TZOFFSETFROM:-0400
TZOFFSETTO:-0500
TZNAME:EST
DTSTART:19701101T020000
RRULE:FREQ=YEARLY;BYMONTH=11;BYDAY=1SU
END:STANDARD
END:VTIMEZONE
BEGIN:VEVENT
UID:putnam-214640@ygametime.com
DTSTAMP:20200912T163000Z
DTSTART;TZID=America/New_York:20200912T123000
DURATION:PT0H90M0S
SUMMARY:Will vs Bowers
DESCRIPTION:U10 | soccer\nPutnam County Family YMCA\n
URL;VALUE=URI:https://ygametime.com/branch/putnam/sports/2020-spring-soccer/8624/?utm_medium=calendar&utm_source=team_cal&utm_content=league_url#game-214640
LOCATION:Field 1 (9/11) Practice field
BEGIN:VALARM
TRIGGER:-P2H
ACTION:DISPLAY
DESCRIPTION:Will vs Bowers
END:VALARM
END:VEVENT
BEGIN:VEVENT
UID:putnam-216459@ygametime.com
DTSTAMP:20200915T213000Z
DTSTART;TZID=America/New_York:20200915T173000
DURATION:PT0H90M0S
SUMMARY:Bowen vs Bowers
DESCRIPTION:U10 | soccer\nPutnam County Family YMCA\n
URL;VALUE=URI:https://ygametime.com/branch/putnam/sports/2020-spring-soccer/8624/?utm_medium=calendar&utm_source=team_cal&utm_content=league_url#game-216459
LOCATION:
BEGIN:VALARM
TRIGGER:-P2H
ACTION:DISPLAY
DESCRIPTION:Bowen vs Bowers
END:VALARM
END:VEVENT
BEGIN:VEVENT
UID:putnam-216461@ygametime.com
DTSTAMP:20200929T213000Z
DTSTART;TZID=America/New_York:20200929T173000
DURATION:PT0H90M0S
SUMMARY:Bates vs Bowers
DESCRIPTION:U10 | soccer\nPutnam County Family YMCA\n
URL;VALUE=URI:https://ygametime.com/branch/putnam/sports/2020-spring-soccer/8624/?utm_medium=calendar&utm_source=team_cal&utm_content=league_url#game-216461
LOCATION:
BEGIN:VALARM
TRIGGER:-P2H
ACTION:DISPLAY
DESCRIPTION:Bates vs Bowers
END:VALARM
END:VEVENT
BEGIN:VEVENT
UID:putnam-214649@ygametime.com
DTSTAMP:20201003T133000Z
DTSTART;TZID=America/New_York:20201003T093000
DURATION:PT0H90M0S
SUMMARY:Bowers vs Cason
DESCRIPTION:U10 | soccer\nPutnam County Family YMCA\n
URL;VALUE=URI:https://ygametime.com/branch/putnam/sports/2020-spring-soccer/8624/?utm_medium=calendar&utm_source=team_cal&utm_content=league_url#game-214649
LOCATION:Field 1 (9/11) Practice field
BEGIN:VALARM
TRIGGER:-P2H
ACTION:DISPLAY
DESCRIPTION:Bowers vs Cason
END:VALARM
END:VEVENT
BEGIN:VEVENT
UID:putnam-220593@ygametime.com
DTSTAMP:20201024T163000Z
DTSTART;TZID=America/New_York:20201024T123000
DURATION:PT0H90M0S
SUMMARY:Bowers vs Bowen
DESCRIPTION:U10 | soccer\nPutnam County Family YMCA\n
URL;VALUE=URI:https://ygametime.com/branch/putnam/sports/2020-spring-soccer/8624/?utm_medium=calendar&utm_source=team_cal&utm_content=league_url#game-220593
LOCATION:
BEGIN:VALARM
TRIGGER:-P2H
ACTION:DISPLAY
DESCRIPTION:Bowers vs Bowen
END:VALARM
END:VEVENT
BEGIN:VEVENT
UID:putnam-214656@ygametime.com
DTSTAMP:20201031T133000Z
DTSTART;TZID=America/New_York:20201031T093000
DURATION:PT0H90M0S
SUMMARY:Groves vs Bowers
DESCRIPTION:U10 | soccer\nPutnam County Family YMCA\n
URL;VALUE=URI:https://ygametime.com/branch/putnam/sports/2020-spring-soccer/8624/?utm_medium=calendar&utm_source=team_cal&utm_content=league_url#game-214656
LOCATION:Field 1 (9/11) Practice field
BEGIN:VALARM
TRIGGER:-P2H
ACTION:DISPLAY
DESCRIPTION:Groves vs Bowers
END:VALARM
END:VEVENT
BEGIN:VEVENT
UID:putnam-220589@ygametime.com
DTSTAMP:20201107T153000Z
DTSTART;TZID=America/New_York:20201107T103000
DURATION:PT0H90M0S
SUMMARY:Bowers vs Will
DESCRIPTION:U10 | soccer\nPutnam County Family YMCA\n
URL;VALUE=URI:https://ygametime.com/branch/putnam/sports/2020-spring-soccer/8624/?utm_medium=calendar&utm_source=team_cal&utm_content=league_url#game-220589
LOCATION:Field 1 (9/11) Practice field
BEGIN:VALARM
TRIGGER:-P2H
ACTION:DISPLAY
DESCRIPTION:Bowers vs Will
END:VALARM
END:VEVENT
END:VCALENDAR

