BEGIN:VCALENDAR
VERSION:2.0
PRODID:-//YGAMETIME.com//YGT iCal Creator//EN
METHOD:PUBLISH
X-PUBLISHED-TTL:PT6H
REFRESH-INTERVAL;VALUE=DURATION:PT6H
CALSCALE:GREGORIAN
X-WR-CALNAME:YGAMETIME CALENDAR
BEGIN:VTIMEZONE
TZID:America/New_York
X-LIC-LOCATION:America/New_York
BEGIN:DAYLIGHT
TZOFFSETFROM:-0500
TZOFFSETTO:-0400
TZNAME:EDT
DTSTART:19700308T020000
RRULE:FREQ=YEARLY;BYMONTH=3;BYDAY=2SU
END:DAYLIGHT
BEGIN:STANDARD
TZOFFSETFROM:-0400
TZOFFSETTO:-0500
TZNAME:EST
DTSTART:19701101T020000
RRULE:FREQ=YEARLY;BYMONTH=11;BYDAY=1SU
END:STANDARD
END:VTIMEZONE
BEGIN:VEVENT
UID:putnam-214639@ygametime.com
DTSTAMP:20200912T133000Z
DTSTART;TZID=America/New_York:20200912T093000
DURATION:PT0H90M0S
SUMMARY:Groves vs Bowen
DESCRIPTION:U10 | soccer\nPutnam County Family YMCA\n
URL;VALUE=URI:https://ygametime.com/branch/putnam/sports/2020-spring-soccer/8624/?utm_medium=calendar&utm_source=team_cal&utm_content=league_url#game-214639
LOCATION:Field 1 (9/11) Practice field
BEGIN:VALARM
TRIGGER:-P2H
ACTION:DISPLAY
DESCRIPTION:Groves vs Bowen
END:VALARM
END:VEVENT
BEGIN:VEVENT
UID:putnam-216460@ygametime.com
DTSTAMP:20200919T133000Z
DTSTART;TZID=America/New_York:20200919T093000
DURATION:PT0H90M0S
SUMMARY:Groves vs Cason
DESCRIPTION:U10 | soccer\nPutnam County Family YMCA\n
URL;VALUE=URI:https://ygametime.com/branch/putnam/sports/2020-spring-soccer/8624/?utm_medium=calendar&utm_source=team_cal&utm_content=league_url#game-216460
LOCATION:
BEGIN:VALARM
TRIGGER:-P2H
ACTION:DISPLAY
DESCRIPTION:Groves vs Cason
END:VALARM
END:VEVENT
BEGIN:VEVENT
UID:putnam-214645@ygametime.com
DTSTAMP:20200926T150000Z
DTSTART;TZID=America/New_York:20200926T110000
DURATION:PT0H90M0S
SUMMARY:Groves vs Will
DESCRIPTION:U10 | soccer\nPutnam County Family YMCA\n
URL;VALUE=URI:https://ygametime.com/branch/putnam/sports/2020-spring-soccer/8624/?utm_medium=calendar&utm_source=team_cal&utm_content=league_url#game-214645
LOCATION:Field 1 (9/11) Practice field
BEGIN:VALARM
TRIGGER:-P2H
ACTION:DISPLAY
DESCRIPTION:Groves vs Will
END:VALARM
END:VEVENT
BEGIN:VEVENT
UID:putnam-214657@ygametime.com
DTSTAMP:20201024T133000Z
DTSTART;TZID=America/New_York:20201024T093000
DURATION:PT0H90M0S
SUMMARY:Bates vs Groves
DESCRIPTION:U10 | soccer\nPutnam County Family YMCA\n
URL;VALUE=URI:https://ygametime.com/branch/putnam/sports/2020-spring-soccer/8624/?utm_medium=calendar&utm_source=team_cal&utm_content=league_url#game-214657
LOCATION:Field 1 (9/11) Practice field
BEGIN:VALARM
TRIGGER:-P2H
ACTION:DISPLAY
DESCRIPTION:Bates vs Groves
END:VALARM
END:VEVENT
BEGIN:VEVENT
UID:putnam-214656@ygametime.com
DTSTAMP:20201031T133000Z
DTSTART;TZID=America/New_York:20201031T093000
DURATION:PT0H90M0S
SUMMARY:Groves vs Bowers
DESCRIPTION:U10 | soccer\nPutnam County Family YMCA\n
URL;VALUE=URI:https://ygametime.com/branch/putnam/sports/2020-spring-soccer/8624/?utm_medium=calendar&utm_source=team_cal&utm_content=league_url#game-214656
LOCATION:Field 1 (9/11) Practice field
BEGIN:VALARM
TRIGGER:-P2H
ACTION:DISPLAY
DESCRIPTION:Groves vs Bowers
END:VALARM
END:VEVENT
BEGIN:VEVENT
UID:putnam-220591@ygametime.com
DTSTAMP:20201107T183000Z
DTSTART;TZID=America/New_York:20201107T133000
DURATION:PT0H90M0S
SUMMARY:Groves vs -
DESCRIPTION:U10 | soccer\nPutnam County Family YMCA\n
URL;VALUE=URI:https://ygametime.com/branch/putnam/sports/2020-spring-soccer/8624/?utm_medium=calendar&utm_source=team_cal&utm_content=league_url#game-220591
LOCATION:Field 1 (9/11) Practice field
BEGIN:VALARM
TRIGGER:-P2H
ACTION:DISPLAY
DESCRIPTION:Groves vs -
END:VALARM
END:VEVENT
END:VCALENDAR

