BEGIN:VCALENDAR
VERSION:2.0
PRODID:-//YGAMETIME.com//YGT iCal Creator//EN
METHOD:PUBLISH
X-PUBLISHED-TTL:PT6H
REFRESH-INTERVAL;VALUE=DURATION:PT6H
CALSCALE:GREGORIAN
X-WR-CALNAME:YGAMETIME CALENDAR
BEGIN:VTIMEZONE
TZID:America/New_York
X-LIC-LOCATION:America/New_York
BEGIN:DAYLIGHT
TZOFFSETFROM:-0500
TZOFFSETTO:-0400
TZNAME:EDT
DTSTART:19700308T020000
RRULE:FREQ=YEARLY;BYMONTH=3;BYDAY=2SU
END:DAYLIGHT
BEGIN:STANDARD
TZOFFSETFROM:-0400
TZOFFSETTO:-0500
TZNAME:EST
DTSTART:19701101T020000
RRULE:FREQ=YEARLY;BYMONTH=11;BYDAY=1SU
END:STANDARD
END:VTIMEZONE
BEGIN:VEVENT
UID:putnam-214572@ygametime.com
DTSTAMP:20200912T153000Z
DTSTART;TZID=America/New_York:20200912T113000
DURATION:PT0H60M0S
SUMMARY:French vs Copeland
DESCRIPTION:U6 | soccer\nPutnam County Family YMCA\n
URL;VALUE=URI:https://ygametime.com/branch/putnam/sports/2020-spring-soccer/8616/?utm_medium=calendar&utm_source=team_cal&utm_content=league_url#game-214572
LOCATION:Field 7 (3/4)
BEGIN:VALARM
TRIGGER:-P2H
ACTION:DISPLAY
DESCRIPTION:French vs Copeland
END:VALARM
END:VEVENT
BEGIN:VEVENT
UID:putnam-214575@ygametime.com
DTSTAMP:20200919T133000Z
DTSTART;TZID=America/New_York:20200919T093000
DURATION:PT0H60M0S
SUMMARY:Courtney vs French
DESCRIPTION:U6 | soccer\nPutnam County Family YMCA\n
URL;VALUE=URI:https://ygametime.com/branch/putnam/sports/2020-spring-soccer/8616/?utm_medium=calendar&utm_source=team_cal&utm_content=league_url#game-214575
LOCATION:Field 9 (3/4)
BEGIN:VALARM
TRIGGER:-P2H
ACTION:DISPLAY
DESCRIPTION:Courtney vs French
END:VALARM
END:VEVENT
BEGIN:VEVENT
UID:putnam-214583@ygametime.com
DTSTAMP:20200926T163000Z
DTSTART;TZID=America/New_York:20200926T123000
DURATION:PT0H60M0S
SUMMARY:French vs Jolley
DESCRIPTION:U6 | soccer\nPutnam County Family YMCA\n
URL;VALUE=URI:https://ygametime.com/branch/putnam/sports/2020-spring-soccer/8616/?utm_medium=calendar&utm_source=team_cal&utm_content=league_url#game-214583
LOCATION:Field 9 (3/4)
BEGIN:VALARM
TRIGGER:-P2H
ACTION:DISPLAY
DESCRIPTION:French vs Jolley
END:VALARM
END:VEVENT
BEGIN:VEVENT
UID:putnam-214586@ygametime.com
DTSTAMP:20201003T143000Z
DTSTART;TZID=America/New_York:20201003T103000
DURATION:PT0H60M0S
SUMMARY:Grimm vs French
DESCRIPTION:U6 | soccer\nPutnam County Family YMCA\n
URL;VALUE=URI:https://ygametime.com/branch/putnam/sports/2020-spring-soccer/8616/?utm_medium=calendar&utm_source=team_cal&utm_content=league_url#game-214586
LOCATION:Field 7 (3/4)
BEGIN:VALARM
TRIGGER:-P2H
ACTION:DISPLAY
DESCRIPTION:Grimm vs French
END:VALARM
END:VEVENT
BEGIN:VEVENT
UID:putnam-214587@ygametime.com
DTSTAMP:20201003T153000Z
DTSTART;TZID=America/New_York:20201003T113000
DURATION:PT0H60M0S
SUMMARY:French vs Marc
DESCRIPTION:U6 | soccer\nPutnam County Family YMCA\n
URL;VALUE=URI:https://ygametime.com/branch/putnam/sports/2020-spring-soccer/8616/?utm_medium=calendar&utm_source=team_cal&utm_content=league_url#game-214587
LOCATION:Field 7 (3/4)
BEGIN:VALARM
TRIGGER:-P2H
ACTION:DISPLAY
DESCRIPTION:French vs Marc
END:VALARM
END:VEVENT
BEGIN:VEVENT
UID:putnam-214610@ygametime.com
DTSTAMP:20201024T163000Z
DTSTART;TZID=America/New_York:20201024T123000
DURATION:PT0H60M0S
SUMMARY:Huddleston vs French
DESCRIPTION:U6 | soccer\nPutnam County Family YMCA\n
URL;VALUE=URI:https://ygametime.com/branch/putnam/sports/2020-spring-soccer/8616/?utm_medium=calendar&utm_source=team_cal&utm_content=league_url#game-214610
LOCATION:Field 7 (3/4)
BEGIN:VALARM
TRIGGER:-P2H
ACTION:DISPLAY
DESCRIPTION:Huddleston vs French
END:VALARM
END:VEVENT
BEGIN:VEVENT
UID:putnam-214596@ygametime.com
DTSTAMP:20201031T143000Z
DTSTART;TZID=America/New_York:20201031T103000
DURATION:PT0H60M0S
SUMMARY:French vs Null
DESCRIPTION:U6 | soccer\nPutnam County Family YMCA\n
URL;VALUE=URI:https://ygametime.com/branch/putnam/sports/2020-spring-soccer/8616/?utm_medium=calendar&utm_source=team_cal&utm_content=league_url#game-214596
LOCATION:Field 9 (3/4)
BEGIN:VALARM
TRIGGER:-P2H
ACTION:DISPLAY
DESCRIPTION:French vs Null
END:VALARM
END:VEVENT
BEGIN:VEVENT
UID:putnam-214600@ygametime.com
DTSTAMP:20201107T143000Z
DTSTART;TZID=America/New_York:20201107T093000
DURATION:PT0H60M0S
SUMMARY:Null vs French
DESCRIPTION:U6 | soccer\nPutnam County Family YMCA\n
URL;VALUE=URI:https://ygametime.com/branch/putnam/sports/2020-spring-soccer/8616/?utm_medium=calendar&utm_source=team_cal&utm_content=league_url#game-214600
LOCATION:Field 7 (3/4)
BEGIN:VALARM
TRIGGER:-P2H
ACTION:DISPLAY
DESCRIPTION:Null vs French
END:VALARM
END:VEVENT
END:VCALENDAR

