BEGIN:VCALENDAR
VERSION:2.0
PRODID:-//YGAMETIME.com//YGT iCal Creator//EN
METHOD:PUBLISH
X-PUBLISHED-TTL:PT6H
REFRESH-INTERVAL;VALUE=DURATION:PT6H
CALSCALE:GREGORIAN
X-WR-CALNAME:YGAMETIME CALENDAR
BEGIN:VTIMEZONE
TZID:America/New_York
X-LIC-LOCATION:America/New_York
BEGIN:DAYLIGHT
TZOFFSETFROM:-0500
TZOFFSETTO:-0400
TZNAME:EDT
DTSTART:19700308T020000
RRULE:FREQ=YEARLY;BYMONTH=3;BYDAY=2SU
END:DAYLIGHT
BEGIN:STANDARD
TZOFFSETFROM:-0400
TZOFFSETTO:-0500
TZNAME:EST
DTSTART:19701101T020000
RRULE:FREQ=YEARLY;BYMONTH=11;BYDAY=1SU
END:STANDARD
END:VTIMEZONE
BEGIN:VEVENT
UID:putnam-214614@ygametime.com
DTSTAMP:20200912T153000Z
DTSTART;TZID=America/New_York:20200912T113000
DURATION:PT0H60M0S
SUMMARY:Fikes vs Presley
DESCRIPTION:U8 | soccer\nPutnam County Family YMCA\n
URL;VALUE=URI:https://ygametime.com/branch/putnam/sports/2020-spring-soccer/8623/?utm_medium=calendar&utm_source=team_cal&utm_content=league_url#game-214614
LOCATION:Field 4 (7/8)
BEGIN:VALARM
TRIGGER:-P2H
ACTION:DISPLAY
DESCRIPTION:Fikes vs Presley
END:VALARM
END:VEVENT
BEGIN:VEVENT
UID:putnam-214615@ygametime.com
DTSTAMP:20200919T123000Z
DTSTART;TZID=America/New_York:20200919T083000
DURATION:PT0H60M0S
SUMMARY:Fikes vs Sisco
DESCRIPTION:U8 | soccer\nPutnam County Family YMCA\n
URL;VALUE=URI:https://ygametime.com/branch/putnam/sports/2020-spring-soccer/8623/?utm_medium=calendar&utm_source=team_cal&utm_content=league_url#game-214615
LOCATION:Field 4 (7/8)
BEGIN:VALARM
TRIGGER:-P2H
ACTION:DISPLAY
DESCRIPTION:Fikes vs Sisco
END:VALARM
END:VEVENT
BEGIN:VEVENT
UID:putnam-214619@ygametime.com
DTSTAMP:20200926T133000Z
DTSTART;TZID=America/New_York:20200926T093000
DURATION:PT0H60M0S
SUMMARY:Fancher vs Fikes
DESCRIPTION:U8 | soccer\nPutnam County Family YMCA\n
URL;VALUE=URI:https://ygametime.com/branch/putnam/sports/2020-spring-soccer/8623/?utm_medium=calendar&utm_source=team_cal&utm_content=league_url#game-214619
LOCATION:Field 4 (7/8)
BEGIN:VALARM
TRIGGER:-P2H
ACTION:DISPLAY
DESCRIPTION:Fancher vs Fikes
END:VALARM
END:VEVENT
BEGIN:VEVENT
UID:putnam-214621@ygametime.com
DTSTAMP:20200926T143000Z
DTSTART;TZID=America/New_York:20200926T103000
DURATION:PT0H60M0S
SUMMARY:Fikes vs Brown
DESCRIPTION:U8 | soccer\nPutnam County Family YMCA\n
URL;VALUE=URI:https://ygametime.com/branch/putnam/sports/2020-spring-soccer/8623/?utm_medium=calendar&utm_source=team_cal&utm_content=league_url#game-214621
LOCATION:Field 4 (7/8)
BEGIN:VALARM
TRIGGER:-P2H
ACTION:DISPLAY
DESCRIPTION:Fikes vs Brown
END:VALARM
END:VEVENT
BEGIN:VEVENT
UID:putnam-219061@ygametime.com
DTSTAMP:20200929T220000Z
DTSTART;TZID=America/New_York:20200929T180000
DURATION:PT0H60M0S
SUMMARY:Brown vs Fikes
DESCRIPTION:U8 | soccer\nPutnam County Family YMCA\n
URL;VALUE=URI:https://ygametime.com/branch/putnam/sports/2020-spring-soccer/8623/?utm_medium=calendar&utm_source=team_cal&utm_content=league_url#game-219061
LOCATION:
BEGIN:VALARM
TRIGGER:-P2H
ACTION:DISPLAY
DESCRIPTION:Brown vs Fikes
END:VALARM
END:VEVENT
BEGIN:VEVENT
UID:putnam-214636@ygametime.com
DTSTAMP:20201024T123000Z
DTSTART;TZID=America/New_York:20201024T083000
DURATION:PT0H60M0S
SUMMARY:Bowers vs Fikes
DESCRIPTION:U8 | soccer\nPutnam County Family YMCA\n
URL;VALUE=URI:https://ygametime.com/branch/putnam/sports/2020-spring-soccer/8623/?utm_medium=calendar&utm_source=team_cal&utm_content=league_url#game-214636
LOCATION:Field 4 (7/8)
BEGIN:VALARM
TRIGGER:-P2H
ACTION:DISPLAY
DESCRIPTION:Bowers vs Fikes
END:VALARM
END:VEVENT
BEGIN:VEVENT
UID:putnam-214633@ygametime.com
DTSTAMP:20201031T153000Z
DTSTART;TZID=America/New_York:20201031T113000
DURATION:PT0H60M0S
SUMMARY:Presley vs Fikes
DESCRIPTION:U8 | soccer\nPutnam County Family YMCA\n
URL;VALUE=URI:https://ygametime.com/branch/putnam/sports/2020-spring-soccer/8623/?utm_medium=calendar&utm_source=team_cal&utm_content=league_url#game-214633
LOCATION:Field 4 (7/8)
BEGIN:VALARM
TRIGGER:-P2H
ACTION:DISPLAY
DESCRIPTION:Presley vs Fikes
END:VALARM
END:VEVENT
BEGIN:VEVENT
UID:putnam-214628@ygametime.com
DTSTAMP:20201107T133000Z
DTSTART;TZID=America/New_York:20201107T083000
DURATION:PT0H60M0S
SUMMARY:Tony vs Fikes
DESCRIPTION:U8 | soccer\nPutnam County Family YMCA\n
URL;VALUE=URI:https://ygametime.com/branch/putnam/sports/2020-spring-soccer/8623/?utm_medium=calendar&utm_source=team_cal&utm_content=league_url#game-214628
LOCATION:Field 4 (7/8)
BEGIN:VALARM
TRIGGER:-P2H
ACTION:DISPLAY
DESCRIPTION:Tony vs Fikes
END:VALARM
END:VEVENT
END:VCALENDAR

