BEGIN:VCALENDAR
VERSION:2.0
PRODID:-//YGAMETIME.com//YGT iCal Creator//EN
METHOD:PUBLISH
X-PUBLISHED-TTL:PT6H
REFRESH-INTERVAL;VALUE=DURATION:PT6H
CALSCALE:GREGORIAN
X-WR-CALNAME:YGAMETIME CALENDAR
BEGIN:VTIMEZONE
TZID:America/New_York
X-LIC-LOCATION:America/New_York
BEGIN:DAYLIGHT
TZOFFSETFROM:-0500
TZOFFSETTO:-0400
TZNAME:EDT
DTSTART:19700308T020000
RRULE:FREQ=YEARLY;BYMONTH=3;BYDAY=2SU
END:DAYLIGHT
BEGIN:STANDARD
TZOFFSETFROM:-0400
TZOFFSETTO:-0500
TZNAME:EST
DTSTART:19701101T020000
RRULE:FREQ=YEARLY;BYMONTH=11;BYDAY=1SU
END:STANDARD
END:VTIMEZONE
BEGIN:VEVENT
UID:putnam-234236@ygametime.com
DTSTAMP:20210329T210000Z
DTSTART;TZID=America/New_York:20210329T170000
DURATION:PT0H60M0S
SUMMARY:Smith vs Betcher
DESCRIPTION:U4 | 2021 Spring Soccer\nPutnam County Family YMCA\n
URL;VALUE=URI:https://ygametime.com/branch/putnam/sports/2021-spring-2021-spring-soccer/9427/?utm_medium=calendar&utm_source=team_cal&utm_content=league_url#game-234236
LOCATION:Field 3 (5/6)
BEGIN:VALARM
TRIGGER:-P2H
ACTION:DISPLAY
DESCRIPTION:Smith vs Betcher
END:VALARM
END:VEVENT
BEGIN:VEVENT
UID:putnam-228575@ygametime.com
DTSTAMP:20210417T130000Z
DTSTART;TZID=America/New_York:20210417T090000
DURATION:PT0H60M0S
SUMMARY:Betcher vs Gelinas
DESCRIPTION:U4 | 2021 Spring Soccer\nPutnam County Family YMCA\n
URL;VALUE=URI:https://ygametime.com/branch/putnam/sports/2021-spring-2021-spring-soccer/9427/?utm_medium=calendar&utm_source=team_cal&utm_content=league_url#game-228575
LOCATION:Field 3 (5/6)
BEGIN:VALARM
TRIGGER:-P2H
ACTION:DISPLAY
DESCRIPTION:Betcher vs Gelinas
END:VALARM
END:VEVENT
BEGIN:VEVENT
UID:putnam-228582@ygametime.com
DTSTAMP:20210501T140000Z
DTSTART;TZID=America/New_York:20210501T100000
DURATION:PT0H60M0S
SUMMARY:Smith vs Betcher
DESCRIPTION:U4 | 2021 Spring Soccer\nPutnam County Family YMCA\n
URL;VALUE=URI:https://ygametime.com/branch/putnam/sports/2021-spring-2021-spring-soccer/9427/?utm_medium=calendar&utm_source=team_cal&utm_content=league_url#game-228582
LOCATION:Field 3 (5/6)
BEGIN:VALARM
TRIGGER:-P2H
ACTION:DISPLAY
DESCRIPTION:Smith vs Betcher
END:VALARM
END:VEVENT
BEGIN:VEVENT
UID:putnam-228584@ygametime.com
DTSTAMP:20210508T123000Z
DTSTART;TZID=America/New_York:20210508T083000
DURATION:PT0H60M0S
SUMMARY:Betcher vs Crabtree
DESCRIPTION:U4 | 2021 Spring Soccer\nPutnam County Family YMCA\n
URL;VALUE=URI:https://ygametime.com/branch/putnam/sports/2021-spring-2021-spring-soccer/9427/?utm_medium=calendar&utm_source=team_cal&utm_content=league_url#game-228584
LOCATION:Field 2 (5/6)
BEGIN:VALARM
TRIGGER:-P2H
ACTION:DISPLAY
DESCRIPTION:Betcher vs Crabtree
END:VALARM
END:VEVENT
BEGIN:VEVENT
UID:putnam-238660@ygametime.com
DTSTAMP:20210513T213000Z
DTSTART;TZID=America/New_York:20210513T173000
DURATION:PT0H60M0S
SUMMARY:Bucher vs Betcher
DESCRIPTION:U4 | 2021 Spring Soccer\nPutnam County Family YMCA\n
URL;VALUE=URI:https://ygametime.com/branch/putnam/sports/2021-spring-2021-spring-soccer/9427/?utm_medium=calendar&utm_source=team_cal&utm_content=league_url#game-238660
LOCATION:
BEGIN:VALARM
TRIGGER:-P2H
ACTION:DISPLAY
DESCRIPTION:Bucher vs Betcher
END:VALARM
END:VEVENT
BEGIN:VEVENT
UID:putnam-228589@ygametime.com
DTSTAMP:20210515T130000Z
DTSTART;TZID=America/New_York:20210515T090000
DURATION:PT0H60M0S
SUMMARY:Reep vs Betcher
DESCRIPTION:U4 | 2021 Spring Soccer\nPutnam County Family YMCA\n
URL;VALUE=URI:https://ygametime.com/branch/putnam/sports/2021-spring-2021-spring-soccer/9427/?utm_medium=calendar&utm_source=team_cal&utm_content=league_url#game-228589
LOCATION:Field 3 (5/6)
BEGIN:VALARM
TRIGGER:-P2H
ACTION:DISPLAY
DESCRIPTION:Reep vs Betcher
END:VALARM
END:VEVENT
BEGIN:VEVENT
UID:putnam-237644@ygametime.com
DTSTAMP:20210517T220000Z
DTSTART;TZID=America/New_York:20210517T180000
DURATION:PT0H60M0S
SUMMARY:Betcher vs Reep
DESCRIPTION:U4 | 2021 Spring Soccer\nPutnam County Family YMCA\n
URL;VALUE=URI:https://ygametime.com/branch/putnam/sports/2021-spring-2021-spring-soccer/9427/?utm_medium=calendar&utm_source=team_cal&utm_content=league_url#game-237644
LOCATION:
BEGIN:VALARM
TRIGGER:-P2H
ACTION:DISPLAY
DESCRIPTION:Betcher vs Reep
END:VALARM
END:VEVENT
BEGIN:VEVENT
UID:putnam-228571@ygametime.com
DTSTAMP:20210522T123000Z
DTSTART;TZID=America/New_York:20210522T083000
DURATION:PT0H60M0S
SUMMARY:Betcher vs Crabtree
DESCRIPTION:U4 | 2021 Spring Soccer\nPutnam County Family YMCA\n
URL;VALUE=URI:https://ygametime.com/branch/putnam/sports/2021-spring-2021-spring-soccer/9427/?utm_medium=calendar&utm_source=team_cal&utm_content=league_url#game-228571
LOCATION:Field 2 (5/6)
BEGIN:VALARM
TRIGGER:-P2H
ACTION:DISPLAY
DESCRIPTION:Betcher vs Crabtree
END:VALARM
END:VEVENT
END:VCALENDAR

