BEGIN:VCALENDAR
VERSION:2.0
PRODID:-//YGAMETIME.com//YGT iCal Creator//EN
METHOD:PUBLISH
X-PUBLISHED-TTL:PT6H
REFRESH-INTERVAL;VALUE=DURATION:PT6H
CALSCALE:GREGORIAN
X-WR-CALNAME:YGAMETIME CALENDAR
BEGIN:VTIMEZONE
TZID:America/New_York
X-LIC-LOCATION:America/New_York
BEGIN:DAYLIGHT
TZOFFSETFROM:-0500
TZOFFSETTO:-0400
TZNAME:EDT
DTSTART:19700308T020000
RRULE:FREQ=YEARLY;BYMONTH=3;BYDAY=2SU
END:DAYLIGHT
BEGIN:STANDARD
TZOFFSETFROM:-0400
TZOFFSETTO:-0500
TZNAME:EST
DTSTART:19701101T020000
RRULE:FREQ=YEARLY;BYMONTH=11;BYDAY=1SU
END:STANDARD
END:VTIMEZONE
BEGIN:VEVENT
UID:putnam-228643@ygametime.com
DTSTAMP:20210417T123000Z
DTSTART;TZID=America/New_York:20210417T083000
DURATION:PT0H60M0S
SUMMARY:Huddleston vs Mason
DESCRIPTION:U6 | 2021 Spring Soccer\nPutnam County Family YMCA\n
URL;VALUE=URI:https://ygametime.com/branch/putnam/sports/2021-spring-2021-spring-soccer/9428/?utm_medium=calendar&utm_source=team_cal&utm_content=league_url#game-228643
LOCATION:Field 9 (3/4)
BEGIN:VALARM
TRIGGER:-P2H
ACTION:DISPLAY
DESCRIPTION:Huddleston vs Mason
END:VALARM
END:VEVENT
BEGIN:VEVENT
UID:putnam-237301@ygametime.com
DTSTAMP:20210423T213000Z
DTSTART;TZID=America/New_York:20210423T173000
DURATION:PT0H60M0S
SUMMARY:Randolph vs Huddleston
DESCRIPTION:U6 | 2021 Spring Soccer\nPutnam County Family YMCA\n
URL;VALUE=URI:https://ygametime.com/branch/putnam/sports/2021-spring-2021-spring-soccer/9428/?utm_medium=calendar&utm_source=team_cal&utm_content=league_url#game-237301
LOCATION:
BEGIN:VALARM
TRIGGER:-P2H
ACTION:DISPLAY
DESCRIPTION:Randolph vs Huddleston
END:VALARM
END:VEVENT
BEGIN:VEVENT
UID:putnam-228651@ygametime.com
DTSTAMP:20210501T123000Z
DTSTART;TZID=America/New_York:20210501T083000
DURATION:PT0H60M0S
SUMMARY:Huddleston vs Birdwell
DESCRIPTION:U6 | 2021 Spring Soccer\nPutnam County Family YMCA\n
URL;VALUE=URI:https://ygametime.com/branch/putnam/sports/2021-spring-2021-spring-soccer/9428/?utm_medium=calendar&utm_source=team_cal&utm_content=league_url#game-228651
LOCATION:Field 7 (3/4)
BEGIN:VALARM
TRIGGER:-P2H
ACTION:DISPLAY
DESCRIPTION:Huddleston vs Birdwell
END:VALARM
END:VEVENT
BEGIN:VEVENT
UID:putnam-237369@ygametime.com
DTSTAMP:20210506T210000Z
DTSTART;TZID=America/New_York:20210506T170000
DURATION:PT0H60M0S
SUMMARY:Huddleston vs Scantland
DESCRIPTION:U6 | 2021 Spring Soccer\nPutnam County Family YMCA\n
URL;VALUE=URI:https://ygametime.com/branch/putnam/sports/2021-spring-2021-spring-soccer/9428/?utm_medium=calendar&utm_source=team_cal&utm_content=league_url#game-237369
LOCATION:Field 7 (3/4)
BEGIN:VALARM
TRIGGER:-P2H
ACTION:DISPLAY
DESCRIPTION:Huddleston vs Scantland
END:VALARM
END:VEVENT
BEGIN:VEVENT
UID:putnam-228660@ygametime.com
DTSTAMP:20210508T123000Z
DTSTART;TZID=America/New_York:20210508T083000
DURATION:PT0H60M0S
SUMMARY:Scantland vs Huddleston
DESCRIPTION:U6 | 2021 Spring Soccer\nPutnam County Family YMCA\n
URL;VALUE=URI:https://ygametime.com/branch/putnam/sports/2021-spring-2021-spring-soccer/9428/?utm_medium=calendar&utm_source=team_cal&utm_content=league_url#game-228660
LOCATION:Field 7 (3/4)
BEGIN:VALARM
TRIGGER:-P2H
ACTION:DISPLAY
DESCRIPTION:Scantland vs Huddleston
END:VALARM
END:VEVENT
BEGIN:VEVENT
UID:putnam-237526@ygametime.com
DTSTAMP:20210513T210000Z
DTSTART;TZID=America/New_York:20210513T170000
DURATION:PT0H60M0S
SUMMARY:Huddleston vs Smith
DESCRIPTION:U6 | 2021 Spring Soccer\nPutnam County Family YMCA\n
URL;VALUE=URI:https://ygametime.com/branch/putnam/sports/2021-spring-2021-spring-soccer/9428/?utm_medium=calendar&utm_source=team_cal&utm_content=league_url#game-237526
LOCATION:
BEGIN:VALARM
TRIGGER:-P2H
ACTION:DISPLAY
DESCRIPTION:Huddleston vs Smith
END:VALARM
END:VEVENT
BEGIN:VEVENT
UID:putnam-228663@ygametime.com
DTSTAMP:20210515T143000Z
DTSTART;TZID=America/New_York:20210515T103000
DURATION:PT0H60M0S
SUMMARY:Mason vs Huddleston
DESCRIPTION:U6 | 2021 Spring Soccer\nPutnam County Family YMCA\n
URL;VALUE=URI:https://ygametime.com/branch/putnam/sports/2021-spring-2021-spring-soccer/9428/?utm_medium=calendar&utm_source=team_cal&utm_content=league_url#game-228663
LOCATION:Field 9 (3/4)
BEGIN:VALARM
TRIGGER:-P2H
ACTION:DISPLAY
DESCRIPTION:Mason vs Huddleston
END:VALARM
END:VEVENT
BEGIN:VEVENT
UID:putnam-228635@ygametime.com
DTSTAMP:20210522T123000Z
DTSTART;TZID=America/New_York:20210522T083000
DURATION:PT0H60M0S
SUMMARY:Huddleston vs Flatt
DESCRIPTION:U6 | 2021 Spring Soccer\nPutnam County Family YMCA\n
URL;VALUE=URI:https://ygametime.com/branch/putnam/sports/2021-spring-2021-spring-soccer/9428/?utm_medium=calendar&utm_source=team_cal&utm_content=league_url#game-228635
LOCATION:Field 7 (3/4)
BEGIN:VALARM
TRIGGER:-P2H
ACTION:DISPLAY
DESCRIPTION:Huddleston vs Flatt
END:VALARM
END:VEVENT
END:VCALENDAR

