BEGIN:VCALENDAR
VERSION:2.0
PRODID:-//YGAMETIME.com//YGT iCal Creator//EN
METHOD:PUBLISH
X-PUBLISHED-TTL:PT6H
REFRESH-INTERVAL;VALUE=DURATION:PT6H
CALSCALE:GREGORIAN
X-WR-CALNAME:YGAMETIME CALENDAR
BEGIN:VTIMEZONE
TZID:America/New_York
X-LIC-LOCATION:America/New_York
BEGIN:DAYLIGHT
TZOFFSETFROM:-0500
TZOFFSETTO:-0400
TZNAME:EDT
DTSTART:19700308T020000
RRULE:FREQ=YEARLY;BYMONTH=3;BYDAY=2SU
END:DAYLIGHT
BEGIN:STANDARD
TZOFFSETFROM:-0400
TZOFFSETTO:-0500
TZNAME:EST
DTSTART:19701101T020000
RRULE:FREQ=YEARLY;BYMONTH=11;BYDAY=1SU
END:STANDARD
END:VTIMEZONE
BEGIN:VEVENT
UID:putnam-228641@ygametime.com
DTSTAMP:20210417T153000Z
DTSTART;TZID=America/New_York:20210417T113000
DURATION:PT0H60M0S
SUMMARY:Scantland vs Randolph
DESCRIPTION:U6 | 2021 Spring Soccer\nPutnam County Family YMCA\n
URL;VALUE=URI:https://ygametime.com/branch/putnam/sports/2021-spring-2021-spring-soccer/9428/?utm_medium=calendar&utm_source=team_cal&utm_content=league_url#game-228641
LOCATION:Field 9 (3/4)
BEGIN:VALARM
TRIGGER:-P2H
ACTION:DISPLAY
DESCRIPTION:Scantland vs Randolph
END:VALARM
END:VEVENT
BEGIN:VEVENT
UID:putnam-228652@ygametime.com
DTSTAMP:20210501T133000Z
DTSTART;TZID=America/New_York:20210501T093000
DURATION:PT0H60M0S
SUMMARY:Scantland vs Birdwell
DESCRIPTION:U6 | 2021 Spring Soccer\nPutnam County Family YMCA\n
URL;VALUE=URI:https://ygametime.com/branch/putnam/sports/2021-spring-2021-spring-soccer/9428/?utm_medium=calendar&utm_source=team_cal&utm_content=league_url#game-228652
LOCATION:Field 7 (3/4)
BEGIN:VALARM
TRIGGER:-P2H
ACTION:DISPLAY
DESCRIPTION:Scantland vs Birdwell
END:VALARM
END:VEVENT
BEGIN:VEVENT
UID:putnam-237369@ygametime.com
DTSTAMP:20210506T210000Z
DTSTART;TZID=America/New_York:20210506T170000
DURATION:PT0H60M0S
SUMMARY:Huddleston vs Scantland
DESCRIPTION:U6 | 2021 Spring Soccer\nPutnam County Family YMCA\n
URL;VALUE=URI:https://ygametime.com/branch/putnam/sports/2021-spring-2021-spring-soccer/9428/?utm_medium=calendar&utm_source=team_cal&utm_content=league_url#game-237369
LOCATION:Field 7 (3/4)
BEGIN:VALARM
TRIGGER:-P2H
ACTION:DISPLAY
DESCRIPTION:Huddleston vs Scantland
END:VALARM
END:VEVENT
BEGIN:VEVENT
UID:putnam-228660@ygametime.com
DTSTAMP:20210508T123000Z
DTSTART;TZID=America/New_York:20210508T083000
DURATION:PT0H60M0S
SUMMARY:Scantland vs Huddleston
DESCRIPTION:U6 | 2021 Spring Soccer\nPutnam County Family YMCA\n
URL;VALUE=URI:https://ygametime.com/branch/putnam/sports/2021-spring-2021-spring-soccer/9428/?utm_medium=calendar&utm_source=team_cal&utm_content=league_url#game-228660
LOCATION:Field 7 (3/4)
BEGIN:VALARM
TRIGGER:-P2H
ACTION:DISPLAY
DESCRIPTION:Scantland vs Huddleston
END:VALARM
END:VEVENT
BEGIN:VEVENT
UID:putnam-238896@ygametime.com
DTSTAMP:20210514T220000Z
DTSTART;TZID=America/New_York:20210514T180000
DURATION:PT0H60M0S
SUMMARY:Scantland vs Stiles
DESCRIPTION:U6 | 2021 Spring Soccer\nPutnam County Family YMCA\n
URL;VALUE=URI:https://ygametime.com/branch/putnam/sports/2021-spring-2021-spring-soccer/9428/?utm_medium=calendar&utm_source=team_cal&utm_content=league_url#game-238896
LOCATION:Field 9 (3/4)
BEGIN:VALARM
TRIGGER:-P2H
ACTION:DISPLAY
DESCRIPTION:Scantland vs Stiles
END:VALARM
END:VEVENT
BEGIN:VEVENT
UID:putnam-228665@ygametime.com
DTSTAMP:20210515T153000Z
DTSTART;TZID=America/New_York:20210515T113000
DURATION:PT0H60M0S
SUMMARY:Smith vs Scantland
DESCRIPTION:U6 | 2021 Spring Soccer\nPutnam County Family YMCA\n
URL;VALUE=URI:https://ygametime.com/branch/putnam/sports/2021-spring-2021-spring-soccer/9428/?utm_medium=calendar&utm_source=team_cal&utm_content=league_url#game-228665
LOCATION:Field 7 (3/4)
BEGIN:VALARM
TRIGGER:-P2H
ACTION:DISPLAY
DESCRIPTION:Smith vs Scantland
END:VALARM
END:VEVENT
BEGIN:VEVENT
UID:putnam-234358@ygametime.com
DTSTAMP:20210515T163000Z
DTSTART;TZID=America/New_York:20210515T123000
DURATION:PT0H60M0S
SUMMARY:Mason vs Scantland
DESCRIPTION:U6 | 2021 Spring Soccer\nPutnam County Family YMCA\n
URL;VALUE=URI:https://ygametime.com/branch/putnam/sports/2021-spring-2021-spring-soccer/9428/?utm_medium=calendar&utm_source=team_cal&utm_content=league_url#game-234358
LOCATION:Field 9 (3/4)
BEGIN:VALARM
TRIGGER:-P2H
ACTION:DISPLAY
DESCRIPTION:Mason vs Scantland
END:VALARM
END:VEVENT
BEGIN:VEVENT
UID:putnam-237527@ygametime.com
DTSTAMP:20210517T220000Z
DTSTART;TZID=America/New_York:20210517T180000
DURATION:PT0H60M0S
SUMMARY:Birdwell vs Scantland
DESCRIPTION:U6 | 2021 Spring Soccer\nPutnam County Family YMCA\n
URL;VALUE=URI:https://ygametime.com/branch/putnam/sports/2021-spring-2021-spring-soccer/9428/?utm_medium=calendar&utm_source=team_cal&utm_content=league_url#game-237527
LOCATION:
BEGIN:VALARM
TRIGGER:-P2H
ACTION:DISPLAY
DESCRIPTION:Birdwell vs Scantland
END:VALARM
END:VEVENT
BEGIN:VEVENT
UID:putnam-228633@ygametime.com
DTSTAMP:20210522T143000Z
DTSTART;TZID=America/New_York:20210522T103000
DURATION:PT0H60M0S
SUMMARY:Scantland vs Ross
DESCRIPTION:U6 | 2021 Spring Soccer\nPutnam County Family YMCA\n
URL;VALUE=URI:https://ygametime.com/branch/putnam/sports/2021-spring-2021-spring-soccer/9428/?utm_medium=calendar&utm_source=team_cal&utm_content=league_url#game-228633
LOCATION:Field 9 (3/4)
BEGIN:VALARM
TRIGGER:-P2H
ACTION:DISPLAY
DESCRIPTION:Scantland vs Ross
END:VALARM
END:VEVENT
END:VCALENDAR

