BEGIN:VCALENDAR
VERSION:2.0
PRODID:-//YGAMETIME.com//YGT iCal Creator//EN
METHOD:PUBLISH
X-PUBLISHED-TTL:PT6H
REFRESH-INTERVAL;VALUE=DURATION:PT6H
CALSCALE:GREGORIAN
X-WR-CALNAME:YGAMETIME CALENDAR
BEGIN:VTIMEZONE
TZID:America/New_York
X-LIC-LOCATION:America/New_York
BEGIN:DAYLIGHT
TZOFFSETFROM:-0500
TZOFFSETTO:-0400
TZNAME:EDT
DTSTART:19700308T020000
RRULE:FREQ=YEARLY;BYMONTH=3;BYDAY=2SU
END:DAYLIGHT
BEGIN:STANDARD
TZOFFSETFROM:-0400
TZOFFSETTO:-0500
TZNAME:EST
DTSTART:19701101T020000
RRULE:FREQ=YEARLY;BYMONTH=11;BYDAY=1SU
END:STANDARD
END:VTIMEZONE
BEGIN:VEVENT
UID:putnam-234240@ygametime.com
DTSTAMP:20210401T221500Z
DTSTART;TZID=America/New_York:20210401T181500
DURATION:PT0H60M0S
SUMMARY:Grimm vs Huddleston
DESCRIPTION:U8 | 2021 Spring Soccer\nPutnam County Family YMCA\n
URL;VALUE=URI:https://ygametime.com/branch/putnam/sports/2021-spring-2021-spring-soccer/9429/?utm_medium=calendar&utm_source=team_cal&utm_content=league_url#game-234240
LOCATION:Field 5 (7/8)
BEGIN:VALARM
TRIGGER:-P2H
ACTION:DISPLAY
DESCRIPTION:Grimm vs Huddleston
END:VALARM
END:VEVENT
BEGIN:VEVENT
UID:putnam-228688@ygametime.com
DTSTAMP:20210417T153000Z
DTSTART;TZID=America/New_York:20210417T113000
DURATION:PT0H60M0S
SUMMARY:Huddleston vs Eldridge
DESCRIPTION:U8 | 2021 Spring Soccer\nPutnam County Family YMCA\n
URL;VALUE=URI:https://ygametime.com/branch/putnam/sports/2021-spring-2021-spring-soccer/9429/?utm_medium=calendar&utm_source=team_cal&utm_content=league_url#game-228688
LOCATION:Field 5 (7/8)
BEGIN:VALARM
TRIGGER:-P2H
ACTION:DISPLAY
DESCRIPTION:Huddleston vs Eldridge
END:VALARM
END:VEVENT
BEGIN:VEVENT
UID:putnam-228711@ygametime.com
DTSTAMP:20210427T210000Z
DTSTART;TZID=America/New_York:20210427T170000
DURATION:PT0H60M0S
SUMMARY:Bottoms vs Huddleston
DESCRIPTION:U8 | 2021 Spring Soccer\nPutnam County Family YMCA\n
URL;VALUE=URI:https://ygametime.com/branch/putnam/sports/2021-spring-2021-spring-soccer/9429/?utm_medium=calendar&utm_source=team_cal&utm_content=league_url#game-228711
LOCATION:
BEGIN:VALARM
TRIGGER:-P2H
ACTION:DISPLAY
DESCRIPTION:Bottoms vs Huddleston
END:VALARM
END:VEVENT
BEGIN:VEVENT
UID:putnam-228698@ygametime.com
DTSTAMP:20210501T153000Z
DTSTART;TZID=America/New_York:20210501T113000
DURATION:PT0H60M0S
SUMMARY:Huddleston vs Grimm
DESCRIPTION:U8 | 2021 Spring Soccer\nPutnam County Family YMCA\n
URL;VALUE=URI:https://ygametime.com/branch/putnam/sports/2021-spring-2021-spring-soccer/9429/?utm_medium=calendar&utm_source=team_cal&utm_content=league_url#game-228698
LOCATION:Field 5 (7/8)
BEGIN:VALARM
TRIGGER:-P2H
ACTION:DISPLAY
DESCRIPTION:Huddleston vs Grimm
END:VALARM
END:VEVENT
BEGIN:VEVENT
UID:putnam-237638@ygametime.com
DTSTAMP:20210506T223000Z
DTSTART;TZID=America/New_York:20210506T183000
DURATION:PT0H60M0S
SUMMARY:Stiles vs Huddleston
DESCRIPTION:U8 | 2021 Spring Soccer\nPutnam County Family YMCA\n
URL;VALUE=URI:https://ygametime.com/branch/putnam/sports/2021-spring-2021-spring-soccer/9429/?utm_medium=calendar&utm_source=team_cal&utm_content=league_url#game-237638
LOCATION:
BEGIN:VALARM
TRIGGER:-P2H
ACTION:DISPLAY
DESCRIPTION:Stiles vs Huddleston
END:VALARM
END:VEVENT
BEGIN:VEVENT
UID:putnam-228701@ygametime.com
DTSTAMP:20210508T153000Z
DTSTART;TZID=America/New_York:20210508T113000
DURATION:PT0H60M0S
SUMMARY:Fancher vs Huddleston
DESCRIPTION:U8 | 2021 Spring Soccer\nPutnam County Family YMCA\n
URL;VALUE=URI:https://ygametime.com/branch/putnam/sports/2021-spring-2021-spring-soccer/9429/?utm_medium=calendar&utm_source=team_cal&utm_content=league_url#game-228701
LOCATION:Field 5 (7/8)
BEGIN:VALARM
TRIGGER:-P2H
ACTION:DISPLAY
DESCRIPTION:Fancher vs Huddleston
END:VALARM
END:VEVENT
BEGIN:VEVENT
UID:putnam-228704@ygametime.com
DTSTAMP:20210515T133000Z
DTSTART;TZID=America/New_York:20210515T093000
DURATION:PT0H60M0S
SUMMARY:Null vs Huddleston
DESCRIPTION:U8 | 2021 Spring Soccer\nPutnam County Family YMCA\n
URL;VALUE=URI:https://ygametime.com/branch/putnam/sports/2021-spring-2021-spring-soccer/9429/?utm_medium=calendar&utm_source=team_cal&utm_content=league_url#game-228704
LOCATION:Field 4 (7/8)
BEGIN:VALARM
TRIGGER:-P2H
ACTION:DISPLAY
DESCRIPTION:Null vs Huddleston
END:VALARM
END:VEVENT
BEGIN:VEVENT
UID:putnam-228682@ygametime.com
DTSTAMP:20210522T143000Z
DTSTART;TZID=America/New_York:20210522T103000
DURATION:PT0H60M0S
SUMMARY:Huddleston vs Tony
DESCRIPTION:U8 | 2021 Spring Soccer\nPutnam County Family YMCA\n
URL;VALUE=URI:https://ygametime.com/branch/putnam/sports/2021-spring-2021-spring-soccer/9429/?utm_medium=calendar&utm_source=team_cal&utm_content=league_url#game-228682
LOCATION:Field 4 (7/8)
BEGIN:VALARM
TRIGGER:-P2H
ACTION:DISPLAY
DESCRIPTION:Huddleston vs Tony
END:VALARM
END:VEVENT
END:VCALENDAR

