BEGIN:VCALENDAR
VERSION:2.0
PRODID:-//YGAMETIME.com//YGT iCal Creator//EN
METHOD:PUBLISH
X-PUBLISHED-TTL:PT6H
REFRESH-INTERVAL;VALUE=DURATION:PT6H
CALSCALE:GREGORIAN
X-WR-CALNAME:YGAMETIME CALENDAR
BEGIN:VTIMEZONE
TZID:America/New_York
X-LIC-LOCATION:America/New_York
BEGIN:DAYLIGHT
TZOFFSETFROM:-0500
TZOFFSETTO:-0400
TZNAME:EDT
DTSTART:19700308T020000
RRULE:FREQ=YEARLY;BYMONTH=3;BYDAY=2SU
END:DAYLIGHT
BEGIN:STANDARD
TZOFFSETFROM:-0400
TZOFFSETTO:-0500
TZNAME:EST
DTSTART:19701101T020000
RRULE:FREQ=YEARLY;BYMONTH=11;BYDAY=1SU
END:STANDARD
END:VTIMEZONE
BEGIN:VEVENT
UID:putnam-234243@ygametime.com
DTSTAMP:20210401T211500Z
DTSTART;TZID=America/New_York:20210401T171500
DURATION:PT0H60M0S
SUMMARY:Fancher vs Stiles
DESCRIPTION:U8 | 2021 Spring Soccer\nPutnam County Family YMCA\n
URL;VALUE=URI:https://ygametime.com/branch/putnam/sports/2021-spring-2021-spring-soccer/9429/?utm_medium=calendar&utm_source=team_cal&utm_content=league_url#game-234243
LOCATION:Field 4 (7/8)
BEGIN:VALARM
TRIGGER:-P2H
ACTION:DISPLAY
DESCRIPTION:Fancher vs Stiles
END:VALARM
END:VEVENT
BEGIN:VEVENT
UID:putnam-228708@ygametime.com
DTSTAMP:20210415T213000Z
DTSTART;TZID=America/New_York:20210415T173000
DURATION:PT0H60M0S
SUMMARY:Grimm vs Fancher
DESCRIPTION:U8 | 2021 Spring Soccer\nPutnam County Family YMCA\n
URL;VALUE=URI:https://ygametime.com/branch/putnam/sports/2021-spring-2021-spring-soccer/9429/?utm_medium=calendar&utm_source=team_cal&utm_content=league_url#game-228708
LOCATION:Field 5 (7/8)
BEGIN:VALARM
TRIGGER:-P2H
ACTION:DISPLAY
DESCRIPTION:Grimm vs Fancher
END:VALARM
END:VEVENT
BEGIN:VEVENT
UID:putnam-228687@ygametime.com
DTSTAMP:20210417T143000Z
DTSTART;TZID=America/New_York:20210417T103000
DURATION:PT0H60M0S
SUMMARY:Fancher vs Null
DESCRIPTION:U8 | 2021 Spring Soccer\nPutnam County Family YMCA\n
URL;VALUE=URI:https://ygametime.com/branch/putnam/sports/2021-spring-2021-spring-soccer/9429/?utm_medium=calendar&utm_source=team_cal&utm_content=league_url#game-228687
LOCATION:Field 4 (7/8)
BEGIN:VALARM
TRIGGER:-P2H
ACTION:DISPLAY
DESCRIPTION:Fancher vs Null
END:VALARM
END:VEVENT
BEGIN:VEVENT
UID:putnam-228695@ygametime.com
DTSTAMP:20210501T133000Z
DTSTART;TZID=America/New_York:20210501T093000
DURATION:PT0H60M0S
SUMMARY:Fancher vs Bottoms
DESCRIPTION:U8 | 2021 Spring Soccer\nPutnam County Family YMCA\n
URL;VALUE=URI:https://ygametime.com/branch/putnam/sports/2021-spring-2021-spring-soccer/9429/?utm_medium=calendar&utm_source=team_cal&utm_content=league_url#game-228695
LOCATION:Field 5 (7/8)
BEGIN:VALARM
TRIGGER:-P2H
ACTION:DISPLAY
DESCRIPTION:Fancher vs Bottoms
END:VALARM
END:VEVENT
BEGIN:VEVENT
UID:putnam-228701@ygametime.com
DTSTAMP:20210508T153000Z
DTSTART;TZID=America/New_York:20210508T113000
DURATION:PT0H60M0S
SUMMARY:Fancher vs Huddleston
DESCRIPTION:U8 | 2021 Spring Soccer\nPutnam County Family YMCA\n
URL;VALUE=URI:https://ygametime.com/branch/putnam/sports/2021-spring-2021-spring-soccer/9429/?utm_medium=calendar&utm_source=team_cal&utm_content=league_url#game-228701
LOCATION:Field 5 (7/8)
BEGIN:VALARM
TRIGGER:-P2H
ACTION:DISPLAY
DESCRIPTION:Fancher vs Huddleston
END:VALARM
END:VEVENT
BEGIN:VEVENT
UID:putnam-238465@ygametime.com
DTSTAMP:20210513T213000Z
DTSTART;TZID=America/New_York:20210513T173000
DURATION:PT0H60M0S
SUMMARY:Fancher vs Grimm
DESCRIPTION:U8 | 2021 Spring Soccer\nPutnam County Family YMCA\n
URL;VALUE=URI:https://ygametime.com/branch/putnam/sports/2021-spring-2021-spring-soccer/9429/?utm_medium=calendar&utm_source=team_cal&utm_content=league_url#game-238465
LOCATION:Field 5 (7/8)
BEGIN:VALARM
TRIGGER:-P2H
ACTION:DISPLAY
DESCRIPTION:Fancher vs Grimm
END:VALARM
END:VEVENT
BEGIN:VEVENT
UID:putnam-228705@ygametime.com
DTSTAMP:20210515T143000Z
DTSTART;TZID=America/New_York:20210515T103000
DURATION:PT0H60M0S
SUMMARY:Tony vs Fancher
DESCRIPTION:U8 | 2021 Spring Soccer\nPutnam County Family YMCA\n
URL;VALUE=URI:https://ygametime.com/branch/putnam/sports/2021-spring-2021-spring-soccer/9429/?utm_medium=calendar&utm_source=team_cal&utm_content=league_url#game-228705
LOCATION:Field 5 (7/8)
BEGIN:VALARM
TRIGGER:-P2H
ACTION:DISPLAY
DESCRIPTION:Tony vs Fancher
END:VALARM
END:VEVENT
BEGIN:VEVENT
UID:putnam-228680@ygametime.com
DTSTAMP:20210522T133000Z
DTSTART;TZID=America/New_York:20210522T093000
DURATION:PT0H60M0S
SUMMARY:Fancher vs Eldridge
DESCRIPTION:U8 | 2021 Spring Soccer\nPutnam County Family YMCA\n
URL;VALUE=URI:https://ygametime.com/branch/putnam/sports/2021-spring-2021-spring-soccer/9429/?utm_medium=calendar&utm_source=team_cal&utm_content=league_url#game-228680
LOCATION:Field 5 (7/8)
BEGIN:VALARM
TRIGGER:-P2H
ACTION:DISPLAY
DESCRIPTION:Fancher vs Eldridge
END:VALARM
END:VEVENT
END:VCALENDAR

