BEGIN:VCALENDAR
VERSION:2.0
PRODID:-//YGAMETIME.com//YGT iCal Creator//EN
METHOD:PUBLISH
X-PUBLISHED-TTL:PT6H
REFRESH-INTERVAL;VALUE=DURATION:PT6H
CALSCALE:GREGORIAN
X-WR-CALNAME:YGAMETIME CALENDAR
BEGIN:VTIMEZONE
TZID:America/New_York
X-LIC-LOCATION:America/New_York
BEGIN:DAYLIGHT
TZOFFSETFROM:-0500
TZOFFSETTO:-0400
TZNAME:EDT
DTSTART:19700308T020000
RRULE:FREQ=YEARLY;BYMONTH=3;BYDAY=2SU
END:DAYLIGHT
BEGIN:STANDARD
TZOFFSETFROM:-0400
TZOFFSETTO:-0500
TZNAME:EST
DTSTART:19701101T020000
RRULE:FREQ=YEARLY;BYMONTH=11;BYDAY=1SU
END:STANDARD
END:VTIMEZONE
BEGIN:VEVENT
UID:putnam-234284@ygametime.com
DTSTAMP:20210412T213000Z
DTSTART;TZID=America/New_York:20210412T173000
DURATION:PT0H60M0S
SUMMARY:Eldridge vs Tony
DESCRIPTION:U8 | 2021 Spring Soccer\nPutnam County Family YMCA\n
URL;VALUE=URI:https://ygametime.com/branch/putnam/sports/2021-spring-2021-spring-soccer/9429/?utm_medium=calendar&utm_source=team_cal&utm_content=league_url#game-234284
LOCATION:Field 5 (7/8)
BEGIN:VALARM
TRIGGER:-P2H
ACTION:DISPLAY
DESCRIPTION:Eldridge vs Tony
END:VALARM
END:VEVENT
BEGIN:VEVENT
UID:putnam-228690@ygametime.com
DTSTAMP:20210417T133000Z
DTSTART;TZID=America/New_York:20210417T093000
DURATION:PT0H60M0S
SUMMARY:Tony vs Grimm
DESCRIPTION:U8 | 2021 Spring Soccer\nPutnam County Family YMCA\n
URL;VALUE=URI:https://ygametime.com/branch/putnam/sports/2021-spring-2021-spring-soccer/9429/?utm_medium=calendar&utm_source=team_cal&utm_content=league_url#game-228690
LOCATION:Field 5 (7/8)
BEGIN:VALARM
TRIGGER:-P2H
ACTION:DISPLAY
DESCRIPTION:Tony vs Grimm
END:VALARM
END:VEVENT
BEGIN:VEVENT
UID:putnam-228697@ygametime.com
DTSTAMP:20210501T143000Z
DTSTART;TZID=America/New_York:20210501T103000
DURATION:PT0H60M0S
SUMMARY:Tony vs Stiles
DESCRIPTION:U8 | 2021 Spring Soccer\nPutnam County Family YMCA\n
URL;VALUE=URI:https://ygametime.com/branch/putnam/sports/2021-spring-2021-spring-soccer/9429/?utm_medium=calendar&utm_source=team_cal&utm_content=league_url#game-228697
LOCATION:Field 4 (7/8)
BEGIN:VALARM
TRIGGER:-P2H
ACTION:DISPLAY
DESCRIPTION:Tony vs Stiles
END:VALARM
END:VEVENT
BEGIN:VEVENT
UID:putnam-228699@ygametime.com
DTSTAMP:20210508T123000Z
DTSTART;TZID=America/New_York:20210508T083000
DURATION:PT0H60M0S
SUMMARY:Bottoms vs Tony
DESCRIPTION:U8 | 2021 Spring Soccer\nPutnam County Family YMCA\n
URL;VALUE=URI:https://ygametime.com/branch/putnam/sports/2021-spring-2021-spring-soccer/9429/?utm_medium=calendar&utm_source=team_cal&utm_content=league_url#game-228699
LOCATION:Field 4 (7/8)
BEGIN:VALARM
TRIGGER:-P2H
ACTION:DISPLAY
DESCRIPTION:Bottoms vs Tony
END:VALARM
END:VEVENT
BEGIN:VEVENT
UID:putnam-237525@ygametime.com
DTSTAMP:20210510T213000Z
DTSTART;TZID=America/New_York:20210510T173000
DURATION:PT0H60M0S
SUMMARY:Null vs Tony
DESCRIPTION:U8 | 2021 Spring Soccer\nPutnam County Family YMCA\n
URL;VALUE=URI:https://ygametime.com/branch/putnam/sports/2021-spring-2021-spring-soccer/9429/?utm_medium=calendar&utm_source=team_cal&utm_content=league_url#game-237525
LOCATION:
BEGIN:VALARM
TRIGGER:-P2H
ACTION:DISPLAY
DESCRIPTION:Null vs Tony
END:VALARM
END:VEVENT
BEGIN:VEVENT
UID:putnam-228705@ygametime.com
DTSTAMP:20210515T143000Z
DTSTART;TZID=America/New_York:20210515T103000
DURATION:PT0H60M0S
SUMMARY:Tony vs Fancher
DESCRIPTION:U8 | 2021 Spring Soccer\nPutnam County Family YMCA\n
URL;VALUE=URI:https://ygametime.com/branch/putnam/sports/2021-spring-2021-spring-soccer/9429/?utm_medium=calendar&utm_source=team_cal&utm_content=league_url#game-228705
LOCATION:Field 5 (7/8)
BEGIN:VALARM
TRIGGER:-P2H
ACTION:DISPLAY
DESCRIPTION:Tony vs Fancher
END:VALARM
END:VEVENT
BEGIN:VEVENT
UID:putnam-237989@ygametime.com
DTSTAMP:20210517T213000Z
DTSTART;TZID=America/New_York:20210517T173000
DURATION:PT0H60M0S
SUMMARY:Tony vs Null
DESCRIPTION:U8 | 2021 Spring Soccer\nPutnam County Family YMCA\n
URL;VALUE=URI:https://ygametime.com/branch/putnam/sports/2021-spring-2021-spring-soccer/9429/?utm_medium=calendar&utm_source=team_cal&utm_content=league_url#game-237989
LOCATION:Field 4 (7/8)
BEGIN:VALARM
TRIGGER:-P2H
ACTION:DISPLAY
DESCRIPTION:Tony vs Null
END:VALARM
END:VEVENT
BEGIN:VEVENT
UID:putnam-228682@ygametime.com
DTSTAMP:20210522T143000Z
DTSTART;TZID=America/New_York:20210522T103000
DURATION:PT0H60M0S
SUMMARY:Huddleston vs Tony
DESCRIPTION:U8 | 2021 Spring Soccer\nPutnam County Family YMCA\n
URL;VALUE=URI:https://ygametime.com/branch/putnam/sports/2021-spring-2021-spring-soccer/9429/?utm_medium=calendar&utm_source=team_cal&utm_content=league_url#game-228682
LOCATION:Field 4 (7/8)
BEGIN:VALARM
TRIGGER:-P2H
ACTION:DISPLAY
DESCRIPTION:Huddleston vs Tony
END:VALARM
END:VEVENT
END:VCALENDAR

