BEGIN:VCALENDAR
VERSION:2.0
PRODID:-//YGAMETIME.com//YGT iCal Creator//EN
METHOD:PUBLISH
X-PUBLISHED-TTL:PT6H
REFRESH-INTERVAL;VALUE=DURATION:PT6H
CALSCALE:GREGORIAN
X-WR-CALNAME:YGAMETIME CALENDAR
BEGIN:VTIMEZONE
TZID:America/New_York
X-LIC-LOCATION:America/New_York
BEGIN:DAYLIGHT
TZOFFSETFROM:-0500
TZOFFSETTO:-0400
TZNAME:EDT
DTSTART:19700308T020000
RRULE:FREQ=YEARLY;BYMONTH=3;BYDAY=2SU
END:DAYLIGHT
BEGIN:STANDARD
TZOFFSETFROM:-0400
TZOFFSETTO:-0500
TZNAME:EST
DTSTART:19701101T020000
RRULE:FREQ=YEARLY;BYMONTH=11;BYDAY=1SU
END:STANDARD
END:VTIMEZONE
BEGIN:VEVENT
UID:putnam-234242@ygametime.com
DTSTAMP:20210330T214500Z
DTSTART;TZID=America/New_York:20210330T174500
DURATION:PT0H90M0S
SUMMARY:Bowers vs Will
DESCRIPTION:U10 | 2021 Spring Soccer\nPutnam County Family YMCA\n
URL;VALUE=URI:https://ygametime.com/branch/putnam/sports/2021-spring-2021-spring-soccer/9430/?utm_medium=calendar&utm_source=team_cal&utm_content=league_url#game-234242
LOCATION:Field 1 (9/11) Practice field
BEGIN:VALARM
TRIGGER:-P2H
ACTION:DISPLAY
DESCRIPTION:Bowers vs Will
END:VALARM
END:VEVENT
BEGIN:VEVENT
UID:putnam-228720@ygametime.com
DTSTAMP:20210410T123000Z
DTSTART;TZID=America/New_York:20210410T083000
DURATION:PT0H90M0S
SUMMARY:Fikes vs Bowers
DESCRIPTION:U10 | 2021 Spring Soccer\nPutnam County Family YMCA\n
URL;VALUE=URI:https://ygametime.com/branch/putnam/sports/2021-spring-2021-spring-soccer/9430/?utm_medium=calendar&utm_source=team_cal&utm_content=league_url#game-228720
LOCATION:Field 1 (9/11) Practice field
BEGIN:VALARM
TRIGGER:-P2H
ACTION:DISPLAY
DESCRIPTION:Fikes vs Bowers
END:VALARM
END:VEVENT
BEGIN:VEVENT
UID:putnam-228722@ygametime.com
DTSTAMP:20210417T143000Z
DTSTART;TZID=America/New_York:20210417T103000
DURATION:PT0H90M0S
SUMMARY:Bowers vs Grimm
DESCRIPTION:U10 | 2021 Spring Soccer\nPutnam County Family YMCA\n
URL;VALUE=URI:https://ygametime.com/branch/putnam/sports/2021-spring-2021-spring-soccer/9430/?utm_medium=calendar&utm_source=team_cal&utm_content=league_url#game-228722
LOCATION:Field 1 (9/11) Practice field
BEGIN:VALARM
TRIGGER:-P2H
ACTION:DISPLAY
DESCRIPTION:Bowers vs Grimm
END:VALARM
END:VEVENT
BEGIN:VEVENT
UID:putnam-228734@ygametime.com
DTSTAMP:20210420T213000Z
DTSTART;TZID=America/New_York:20210420T173000
DURATION:PT0H90M0S
SUMMARY:Bates vs Bowers
DESCRIPTION:U10 | 2021 Spring Soccer\nPutnam County Family YMCA\n
URL;VALUE=URI:https://ygametime.com/branch/putnam/sports/2021-spring-2021-spring-soccer/9430/?utm_medium=calendar&utm_source=team_cal&utm_content=league_url#game-228734
LOCATION:Field 1 (9/11) Practice field
BEGIN:VALARM
TRIGGER:-P2H
ACTION:DISPLAY
DESCRIPTION:Bates vs Bowers
END:VALARM
END:VEVENT
BEGIN:VEVENT
UID:putnam-228728@ygametime.com
DTSTAMP:20210501T160000Z
DTSTART;TZID=America/New_York:20210501T120000
DURATION:PT0H90M0S
SUMMARY:Groves vs Bowers
DESCRIPTION:U10 | 2021 Spring Soccer\nPutnam County Family YMCA\n
URL;VALUE=URI:https://ygametime.com/branch/putnam/sports/2021-spring-2021-spring-soccer/9430/?utm_medium=calendar&utm_source=team_cal&utm_content=league_url#game-228728
LOCATION:Field 1 (9/11) Practice field
BEGIN:VALARM
TRIGGER:-P2H
ACTION:DISPLAY
DESCRIPTION:Groves vs Bowers
END:VALARM
END:VEVENT
BEGIN:VEVENT
UID:putnam-228731@ygametime.com
DTSTAMP:20210508T143000Z
DTSTART;TZID=America/New_York:20210508T103000
DURATION:PT0H90M0S
SUMMARY:Bowers vs Groves
DESCRIPTION:U10 | 2021 Spring Soccer\nPutnam County Family YMCA\n
URL;VALUE=URI:https://ygametime.com/branch/putnam/sports/2021-spring-2021-spring-soccer/9430/?utm_medium=calendar&utm_source=team_cal&utm_content=league_url#game-228731
LOCATION:Field 1 (9/11) Practice field
BEGIN:VALARM
TRIGGER:-P2H
ACTION:DISPLAY
DESCRIPTION:Bowers vs Groves
END:VALARM
END:VEVENT
BEGIN:VEVENT
UID:putnam-228736@ygametime.com
DTSTAMP:20210511T213000Z
DTSTART;TZID=America/New_York:20210511T173000
DURATION:PT0H90M0S
SUMMARY:Bowers vs Will
DESCRIPTION:U10 | 2021 Spring Soccer\nPutnam County Family YMCA\n
URL;VALUE=URI:https://ygametime.com/branch/putnam/sports/2021-spring-2021-spring-soccer/9430/?utm_medium=calendar&utm_source=team_cal&utm_content=league_url#game-228736
LOCATION:
BEGIN:VALARM
TRIGGER:-P2H
ACTION:DISPLAY
DESCRIPTION:Bowers vs Will
END:VALARM
END:VEVENT
BEGIN:VEVENT
UID:putnam-237520@ygametime.com
DTSTAMP:20210522T173000Z
DTSTART;TZID=America/New_York:20210522T133000
DURATION:PT0H90M0S
SUMMARY:Bowers vs -
DESCRIPTION:U10 | 2021 Spring Soccer\nPutnam County Family YMCA\n
URL;VALUE=URI:https://ygametime.com/branch/putnam/sports/2021-spring-2021-spring-soccer/9430/?utm_medium=calendar&utm_source=team_cal&utm_content=league_url#game-237520
LOCATION:Field 1 (9/11) Practice field
BEGIN:VALARM
TRIGGER:-P2H
ACTION:DISPLAY
DESCRIPTION:Bowers vs -
END:VALARM
END:VEVENT
END:VCALENDAR

