BEGIN:VCALENDAR
VERSION:2.0
PRODID:-//YGAMETIME.com//YGT iCal Creator//EN
METHOD:PUBLISH
X-PUBLISHED-TTL:PT6H
REFRESH-INTERVAL;VALUE=DURATION:PT6H
CALSCALE:GREGORIAN
X-WR-CALNAME:YGAMETIME CALENDAR
BEGIN:VTIMEZONE
TZID:America/New_York
X-LIC-LOCATION:America/New_York
BEGIN:DAYLIGHT
TZOFFSETFROM:-0500
TZOFFSETTO:-0400
TZNAME:EDT
DTSTART:19700308T020000
RRULE:FREQ=YEARLY;BYMONTH=3;BYDAY=2SU
END:DAYLIGHT
BEGIN:STANDARD
TZOFFSETFROM:-0400
TZOFFSETTO:-0500
TZNAME:EST
DTSTART:19701101T020000
RRULE:FREQ=YEARLY;BYMONTH=11;BYDAY=1SU
END:STANDARD
END:VTIMEZONE
BEGIN:VEVENT
UID:putnam-234283@ygametime.com
DTSTAMP:20210409T213000Z
DTSTART;TZID=America/New_York:20210409T173000
DURATION:PT0H90M0S
SUMMARY:Bates vs Fikes
DESCRIPTION:U10 | 2021 Spring Soccer\nPutnam County Family YMCA\n
URL;VALUE=URI:https://ygametime.com/branch/putnam/sports/2021-spring-2021-spring-soccer/9430/?utm_medium=calendar&utm_source=team_cal&utm_content=league_url#game-234283
LOCATION:Field 1 (9/11) Practice field
BEGIN:VALARM
TRIGGER:-P2H
ACTION:DISPLAY
DESCRIPTION:Bates vs Fikes
END:VALARM
END:VEVENT
BEGIN:VEVENT
UID:putnam-228719@ygametime.com
DTSTAMP:20210410T123000Z
DTSTART;TZID=America/New_York:20210410T083000
DURATION:PT0H90M0S
SUMMARY:Grimm vs Bates
DESCRIPTION:U10 | 2021 Spring Soccer\nPutnam County Family YMCA\n
URL;VALUE=URI:https://ygametime.com/branch/putnam/sports/2021-spring-2021-spring-soccer/9430/?utm_medium=calendar&utm_source=team_cal&utm_content=league_url#game-228719
LOCATION:Field 6 (9/11 Game Field)
BEGIN:VALARM
TRIGGER:-P2H
ACTION:DISPLAY
DESCRIPTION:Grimm vs Bates
END:VALARM
END:VEVENT
BEGIN:VEVENT
UID:putnam-228723@ygametime.com
DTSTAMP:20210417T160000Z
DTSTART;TZID=America/New_York:20210417T120000
DURATION:PT0H90M0S
SUMMARY:Bates vs Groves
DESCRIPTION:U10 | 2021 Spring Soccer\nPutnam County Family YMCA\n
URL;VALUE=URI:https://ygametime.com/branch/putnam/sports/2021-spring-2021-spring-soccer/9430/?utm_medium=calendar&utm_source=team_cal&utm_content=league_url#game-228723
LOCATION:Field 1 (9/11) Practice field
BEGIN:VALARM
TRIGGER:-P2H
ACTION:DISPLAY
DESCRIPTION:Bates vs Groves
END:VALARM
END:VEVENT
BEGIN:VEVENT
UID:putnam-228734@ygametime.com
DTSTAMP:20210420T213000Z
DTSTART;TZID=America/New_York:20210420T173000
DURATION:PT0H90M0S
SUMMARY:Bates vs Bowers
DESCRIPTION:U10 | 2021 Spring Soccer\nPutnam County Family YMCA\n
URL;VALUE=URI:https://ygametime.com/branch/putnam/sports/2021-spring-2021-spring-soccer/9430/?utm_medium=calendar&utm_source=team_cal&utm_content=league_url#game-228734
LOCATION:Field 1 (9/11) Practice field
BEGIN:VALARM
TRIGGER:-P2H
ACTION:DISPLAY
DESCRIPTION:Bates vs Bowers
END:VALARM
END:VEVENT
BEGIN:VEVENT
UID:putnam-228730@ygametime.com
DTSTAMP:20210501T143000Z
DTSTART;TZID=America/New_York:20210501T103000
DURATION:PT0H90M0S
SUMMARY:Fikes vs Bates
DESCRIPTION:U10 | 2021 Spring Soccer\nPutnam County Family YMCA\n
URL;VALUE=URI:https://ygametime.com/branch/putnam/sports/2021-spring-2021-spring-soccer/9430/?utm_medium=calendar&utm_source=team_cal&utm_content=league_url#game-228730
LOCATION:Field 1 (9/11) Practice field
BEGIN:VALARM
TRIGGER:-P2H
ACTION:DISPLAY
DESCRIPTION:Fikes vs Bates
END:VALARM
END:VEVENT
BEGIN:VEVENT
UID:putnam-228733@ygametime.com
DTSTAMP:20210508T130000Z
DTSTART;TZID=America/New_York:20210508T090000
DURATION:PT0H90M0S
SUMMARY:Bates vs Will
DESCRIPTION:U10 | 2021 Spring Soccer\nPutnam County Family YMCA\n
URL;VALUE=URI:https://ygametime.com/branch/putnam/sports/2021-spring-2021-spring-soccer/9430/?utm_medium=calendar&utm_source=team_cal&utm_content=league_url#game-228733
LOCATION:Field 1 (9/11) Practice field
BEGIN:VALARM
TRIGGER:-P2H
ACTION:DISPLAY
DESCRIPTION:Bates vs Will
END:VALARM
END:VEVENT
BEGIN:VEVENT
UID:putnam-228737@ygametime.com
DTSTAMP:20210518T213000Z
DTSTART;TZID=America/New_York:20210518T173000
DURATION:PT0H90M0S
SUMMARY:Bates vs Grimm
DESCRIPTION:U10 | 2021 Spring Soccer\nPutnam County Family YMCA\n
URL;VALUE=URI:https://ygametime.com/branch/putnam/sports/2021-spring-2021-spring-soccer/9430/?utm_medium=calendar&utm_source=team_cal&utm_content=league_url#game-228737
LOCATION:
BEGIN:VALARM
TRIGGER:-P2H
ACTION:DISPLAY
DESCRIPTION:Bates vs Grimm
END:VALARM
END:VEVENT
BEGIN:VEVENT
UID:putnam-237518@ygametime.com
DTSTAMP:20210522T143000Z
DTSTART;TZID=America/New_York:20210522T103000
DURATION:PT0H90M0S
SUMMARY:Bates vs Fikes
DESCRIPTION:U10 | 2021 Spring Soccer\nPutnam County Family YMCA\n
URL;VALUE=URI:https://ygametime.com/branch/putnam/sports/2021-spring-2021-spring-soccer/9430/?utm_medium=calendar&utm_source=team_cal&utm_content=league_url#game-237518
LOCATION:Field 1 (9/11) Practice field
BEGIN:VALARM
TRIGGER:-P2H
ACTION:DISPLAY
DESCRIPTION:Bates vs Fikes
END:VALARM
END:VEVENT
END:VCALENDAR

