BEGIN:VCALENDAR
VERSION:2.0
PRODID:-//YGAMETIME.com//YGT iCal Creator//EN
METHOD:PUBLISH
X-PUBLISHED-TTL:PT6H
REFRESH-INTERVAL;VALUE=DURATION:PT6H
CALSCALE:GREGORIAN
X-WR-CALNAME:YGAMETIME CALENDAR
BEGIN:VTIMEZONE
TZID:America/New_York
X-LIC-LOCATION:America/New_York
BEGIN:DAYLIGHT
TZOFFSETFROM:-0500
TZOFFSETTO:-0400
TZNAME:EDT
DTSTART:19700308T020000
RRULE:FREQ=YEARLY;BYMONTH=3;BYDAY=2SU
END:DAYLIGHT
BEGIN:STANDARD
TZOFFSETFROM:-0400
TZOFFSETTO:-0500
TZNAME:EST
DTSTART:19701101T020000
RRULE:FREQ=YEARLY;BYMONTH=11;BYDAY=1SU
END:STANDARD
END:VTIMEZONE
BEGIN:VEVENT
UID:putnam-228723@ygametime.com
DTSTAMP:20210417T160000Z
DTSTART;TZID=America/New_York:20210417T120000
DURATION:PT0H90M0S
SUMMARY:Bates vs Groves
DESCRIPTION:U10 | 2021 Spring Soccer\nPutnam County Family YMCA\n
URL;VALUE=URI:https://ygametime.com/branch/putnam/sports/2021-spring-2021-spring-soccer/9430/?utm_medium=calendar&utm_source=team_cal&utm_content=league_url#game-228723
LOCATION:Field 1 (9/11) Practice field
BEGIN:VALARM
TRIGGER:-P2H
ACTION:DISPLAY
DESCRIPTION:Bates vs Groves
END:VALARM
END:VEVENT
BEGIN:VEVENT
UID:putnam-228735@ygametime.com
DTSTAMP:20210422T223000Z
DTSTART;TZID=America/New_York:20210422T183000
DURATION:PT0H90M0S
SUMMARY:Grimm vs Groves
DESCRIPTION:U10 | 2021 Spring Soccer\nPutnam County Family YMCA\n
URL;VALUE=URI:https://ygametime.com/branch/putnam/sports/2021-spring-2021-spring-soccer/9430/?utm_medium=calendar&utm_source=team_cal&utm_content=league_url#game-228735
LOCATION:
BEGIN:VALARM
TRIGGER:-P2H
ACTION:DISPLAY
DESCRIPTION:Grimm vs Groves
END:VALARM
END:VEVENT
BEGIN:VEVENT
UID:putnam-228728@ygametime.com
DTSTAMP:20210501T160000Z
DTSTART;TZID=America/New_York:20210501T120000
DURATION:PT0H90M0S
SUMMARY:Groves vs Bowers
DESCRIPTION:U10 | 2021 Spring Soccer\nPutnam County Family YMCA\n
URL;VALUE=URI:https://ygametime.com/branch/putnam/sports/2021-spring-2021-spring-soccer/9430/?utm_medium=calendar&utm_source=team_cal&utm_content=league_url#game-228728
LOCATION:Field 1 (9/11) Practice field
BEGIN:VALARM
TRIGGER:-P2H
ACTION:DISPLAY
DESCRIPTION:Groves vs Bowers
END:VALARM
END:VEVENT
BEGIN:VEVENT
UID:putnam-228731@ygametime.com
DTSTAMP:20210508T143000Z
DTSTART;TZID=America/New_York:20210508T103000
DURATION:PT0H90M0S
SUMMARY:Bowers vs Groves
DESCRIPTION:U10 | 2021 Spring Soccer\nPutnam County Family YMCA\n
URL;VALUE=URI:https://ygametime.com/branch/putnam/sports/2021-spring-2021-spring-soccer/9430/?utm_medium=calendar&utm_source=team_cal&utm_content=league_url#game-228731
LOCATION:Field 1 (9/11) Practice field
BEGIN:VALARM
TRIGGER:-P2H
ACTION:DISPLAY
DESCRIPTION:Bowers vs Groves
END:VALARM
END:VEVENT
BEGIN:VEVENT
UID:putnam-228716@ygametime.com
DTSTAMP:20210515T130000Z
DTSTART;TZID=America/New_York:20210515T090000
DURATION:PT0H90M0S
SUMMARY:Fikes vs Groves
DESCRIPTION:U10 | 2021 Spring Soccer\nPutnam County Family YMCA\n
URL;VALUE=URI:https://ygametime.com/branch/putnam/sports/2021-spring-2021-spring-soccer/9430/?utm_medium=calendar&utm_source=team_cal&utm_content=league_url#game-228716
LOCATION:Field 1 (9/11) Practice field
BEGIN:VALARM
TRIGGER:-P2H
ACTION:DISPLAY
DESCRIPTION:Fikes vs Groves
END:VALARM
END:VEVENT
BEGIN:VEVENT
UID:putnam-237514@ygametime.com
DTSTAMP:20210515T143000Z
DTSTART;TZID=America/New_York:20210515T103000
DURATION:PT0H90M0S
SUMMARY:Will vs Groves
DESCRIPTION:U10 | 2021 Spring Soccer\nPutnam County Family YMCA\n
URL;VALUE=URI:https://ygametime.com/branch/putnam/sports/2021-spring-2021-spring-soccer/9430/?utm_medium=calendar&utm_source=team_cal&utm_content=league_url#game-237514
LOCATION:
BEGIN:VALARM
TRIGGER:-P2H
ACTION:DISPLAY
DESCRIPTION:Will vs Groves
END:VALARM
END:VEVENT
BEGIN:VEVENT
UID:putnam-237516@ygametime.com
DTSTAMP:20210520T223000Z
DTSTART;TZID=America/New_York:20210520T183000
DURATION:PT0H90M0S
SUMMARY:Grimm vs Groves
DESCRIPTION:U10 | 2021 Spring Soccer\nPutnam County Family YMCA\n
URL;VALUE=URI:https://ygametime.com/branch/putnam/sports/2021-spring-2021-spring-soccer/9430/?utm_medium=calendar&utm_source=team_cal&utm_content=league_url#game-237516
LOCATION:
BEGIN:VALARM
TRIGGER:-P2H
ACTION:DISPLAY
DESCRIPTION:Grimm vs Groves
END:VALARM
END:VEVENT
BEGIN:VEVENT
UID:putnam-237517@ygametime.com
DTSTAMP:20210522T130000Z
DTSTART;TZID=America/New_York:20210522T090000
DURATION:PT0H90M0S
SUMMARY:Groves vs Will
DESCRIPTION:U10 | 2021 Spring Soccer\nPutnam County Family YMCA\n
URL;VALUE=URI:https://ygametime.com/branch/putnam/sports/2021-spring-2021-spring-soccer/9430/?utm_medium=calendar&utm_source=team_cal&utm_content=league_url#game-237517
LOCATION:Field 1 (9/11) Practice field
BEGIN:VALARM
TRIGGER:-P2H
ACTION:DISPLAY
DESCRIPTION:Groves vs Will
END:VALARM
END:VEVENT
END:VCALENDAR

