BEGIN:VCALENDAR
VERSION:2.0
PRODID:-//YGAMETIME.com//YGT iCal Creator//EN
METHOD:PUBLISH
X-PUBLISHED-TTL:PT6H
REFRESH-INTERVAL;VALUE=DURATION:PT6H
CALSCALE:GREGORIAN
X-WR-CALNAME:YGAMETIME CALENDAR
BEGIN:VTIMEZONE
TZID:America/New_York
X-LIC-LOCATION:America/New_York
BEGIN:DAYLIGHT
TZOFFSETFROM:-0500
TZOFFSETTO:-0400
TZNAME:EDT
DTSTART:19700308T020000
RRULE:FREQ=YEARLY;BYMONTH=3;BYDAY=2SU
END:DAYLIGHT
BEGIN:STANDARD
TZOFFSETFROM:-0400
TZOFFSETTO:-0500
TZNAME:EST
DTSTART:19701101T020000
RRULE:FREQ=YEARLY;BYMONTH=11;BYDAY=1SU
END:STANDARD
END:VTIMEZONE
BEGIN:VEVENT
UID:putnam-234239@ygametime.com
DTSTAMP:20210409T213000Z
DTSTART;TZID=America/New_York:20210409T173000
DURATION:PT0H60M0S
SUMMARY:Bucher vs Crabtree
DESCRIPTION:U4 | 2021 Spring Soccer\nPutnam County Family YMCA\n
URL;VALUE=URI:https://ygametime.com/branch/putnam/sports/2021-spring-2021-spring-soccer/9427/?utm_medium=calendar&utm_source=team_cal&utm_content=league_url#game-234239
LOCATION:Field 3 (5/6)
BEGIN:VALARM
TRIGGER:-P2H
ACTION:DISPLAY
DESCRIPTION:Bucher vs Crabtree
END:VALARM
END:VEVENT
BEGIN:VEVENT
UID:putnam-228576@ygametime.com
DTSTAMP:20210417T140000Z
DTSTART;TZID=America/New_York:20210417T100000
DURATION:PT0H60M0S
SUMMARY:Bucher vs Reep
DESCRIPTION:U4 | 2021 Spring Soccer\nPutnam County Family YMCA\n
URL;VALUE=URI:https://ygametime.com/branch/putnam/sports/2021-spring-2021-spring-soccer/9427/?utm_medium=calendar&utm_source=team_cal&utm_content=league_url#game-228576
LOCATION:Field 2 (5/6)
BEGIN:VALARM
TRIGGER:-P2H
ACTION:DISPLAY
DESCRIPTION:Bucher vs Reep
END:VALARM
END:VEVENT
BEGIN:VEVENT
UID:putnam-228583@ygametime.com
DTSTAMP:20210501T130000Z
DTSTART;TZID=America/New_York:20210501T090000
DURATION:PT0H60M0S
SUMMARY:Crabtree vs Bucher
DESCRIPTION:U4 | 2021 Spring Soccer\nPutnam County Family YMCA\n
URL;VALUE=URI:https://ygametime.com/branch/putnam/sports/2021-spring-2021-spring-soccer/9427/?utm_medium=calendar&utm_source=team_cal&utm_content=league_url#game-228583
LOCATION:Field 2 (5/6)
BEGIN:VALARM
TRIGGER:-P2H
ACTION:DISPLAY
DESCRIPTION:Crabtree vs Bucher
END:VALARM
END:VEVENT
BEGIN:VEVENT
UID:putnam-228586@ygametime.com
DTSTAMP:20210508T140000Z
DTSTART;TZID=America/New_York:20210508T100000
DURATION:PT0H60M0S
SUMMARY:Bucher vs Gelinas
DESCRIPTION:U4 | 2021 Spring Soccer\nPutnam County Family YMCA\n
URL;VALUE=URI:https://ygametime.com/branch/putnam/sports/2021-spring-2021-spring-soccer/9427/?utm_medium=calendar&utm_source=team_cal&utm_content=league_url#game-228586
LOCATION:Field 2 (5/6)
BEGIN:VALARM
TRIGGER:-P2H
ACTION:DISPLAY
DESCRIPTION:Bucher vs Gelinas
END:VALARM
END:VEVENT
BEGIN:VEVENT
UID:putnam-237990@ygametime.com
DTSTAMP:20210510T211500Z
DTSTART;TZID=America/New_York:20210510T171500
DURATION:PT0H60M0S
SUMMARY:Bucher vs Smith
DESCRIPTION:U4 | 2021 Spring Soccer\nPutnam County Family YMCA\n
URL;VALUE=URI:https://ygametime.com/branch/putnam/sports/2021-spring-2021-spring-soccer/9427/?utm_medium=calendar&utm_source=team_cal&utm_content=league_url#game-237990
LOCATION:
BEGIN:VALARM
TRIGGER:-P2H
ACTION:DISPLAY
DESCRIPTION:Bucher vs Smith
END:VALARM
END:VEVENT
BEGIN:VEVENT
UID:putnam-238660@ygametime.com
DTSTAMP:20210513T213000Z
DTSTART;TZID=America/New_York:20210513T173000
DURATION:PT0H60M0S
SUMMARY:Bucher vs Betcher
DESCRIPTION:U4 | 2021 Spring Soccer\nPutnam County Family YMCA\n
URL;VALUE=URI:https://ygametime.com/branch/putnam/sports/2021-spring-2021-spring-soccer/9427/?utm_medium=calendar&utm_source=team_cal&utm_content=league_url#game-238660
LOCATION:
BEGIN:VALARM
TRIGGER:-P2H
ACTION:DISPLAY
DESCRIPTION:Bucher vs Betcher
END:VALARM
END:VEVENT
BEGIN:VEVENT
UID:putnam-228588@ygametime.com
DTSTAMP:20210515T140000Z
DTSTART;TZID=America/New_York:20210515T100000
DURATION:PT0H60M0S
SUMMARY:Smith vs Bucher
DESCRIPTION:U4 | 2021 Spring Soccer\nPutnam County Family YMCA\n
URL;VALUE=URI:https://ygametime.com/branch/putnam/sports/2021-spring-2021-spring-soccer/9427/?utm_medium=calendar&utm_source=team_cal&utm_content=league_url#game-228588
LOCATION:Field 2 (5/6)
BEGIN:VALARM
TRIGGER:-P2H
ACTION:DISPLAY
DESCRIPTION:Smith vs Bucher
END:VALARM
END:VEVENT
BEGIN:VEVENT
UID:putnam-228570@ygametime.com
DTSTAMP:20210522T143000Z
DTSTART;TZID=America/New_York:20210522T103000
DURATION:PT0H60M0S
SUMMARY:Bucher vs Gelinas
DESCRIPTION:U4 | 2021 Spring Soccer\nPutnam County Family YMCA\n
URL;VALUE=URI:https://ygametime.com/branch/putnam/sports/2021-spring-2021-spring-soccer/9427/?utm_medium=calendar&utm_source=team_cal&utm_content=league_url#game-228570
LOCATION:Field 2 (5/6)
BEGIN:VALARM
TRIGGER:-P2H
ACTION:DISPLAY
DESCRIPTION:Bucher vs Gelinas
END:VALARM
END:VEVENT
END:VCALENDAR

