BEGIN:VCALENDAR
VERSION:2.0
PRODID:-//YGAMETIME.com//YGT iCal Creator//EN
METHOD:PUBLISH
X-PUBLISHED-TTL:PT6H
REFRESH-INTERVAL;VALUE=DURATION:PT6H
CALSCALE:GREGORIAN
X-WR-CALNAME:YGAMETIME CALENDAR
BEGIN:VTIMEZONE
TZID:America/New_York
X-LIC-LOCATION:America/New_York
BEGIN:DAYLIGHT
TZOFFSETFROM:-0500
TZOFFSETTO:-0400
TZNAME:EDT
DTSTART:19700308T020000
RRULE:FREQ=YEARLY;BYMONTH=3;BYDAY=2SU
END:DAYLIGHT
BEGIN:STANDARD
TZOFFSETFROM:-0400
TZOFFSETTO:-0500
TZNAME:EST
DTSTART:19701101T020000
RRULE:FREQ=YEARLY;BYMONTH=11;BYDAY=1SU
END:STANDARD
END:VTIMEZONE
BEGIN:VEVENT
UID:putnam-234237@ygametime.com
DTSTAMP:20210406T214500Z
DTSTART;TZID=America/New_York:20210406T174500
DURATION:PT0H60M0S
SUMMARY:Reep vs Gelinas
DESCRIPTION:U4 | 2021 Spring Soccer\nPutnam County Family YMCA\n
URL;VALUE=URI:https://ygametime.com/branch/putnam/sports/2021-spring-2021-spring-soccer/9427/?utm_medium=calendar&utm_source=team_cal&utm_content=league_url#game-234237
LOCATION:Field 2 (5/6)
BEGIN:VALARM
TRIGGER:-P2H
ACTION:DISPLAY
DESCRIPTION:Reep vs Gelinas
END:VALARM
END:VEVENT
BEGIN:VEVENT
UID:putnam-228575@ygametime.com
DTSTAMP:20210417T130000Z
DTSTART;TZID=America/New_York:20210417T090000
DURATION:PT0H60M0S
SUMMARY:Betcher vs Gelinas
DESCRIPTION:U4 | 2021 Spring Soccer\nPutnam County Family YMCA\n
URL;VALUE=URI:https://ygametime.com/branch/putnam/sports/2021-spring-2021-spring-soccer/9427/?utm_medium=calendar&utm_source=team_cal&utm_content=league_url#game-228575
LOCATION:Field 3 (5/6)
BEGIN:VALARM
TRIGGER:-P2H
ACTION:DISPLAY
DESCRIPTION:Betcher vs Gelinas
END:VALARM
END:VEVENT
BEGIN:VEVENT
UID:putnam-236898@ygametime.com
DTSTAMP:20210420T213000Z
DTSTART;TZID=America/New_York:20210420T173000
DURATION:PT0H60M0S
SUMMARY:Gelinas vs Crabtree
DESCRIPTION:U4 | 2021 Spring Soccer\nPutnam County Family YMCA\n
URL;VALUE=URI:https://ygametime.com/branch/putnam/sports/2021-spring-2021-spring-soccer/9427/?utm_medium=calendar&utm_source=team_cal&utm_content=league_url#game-236898
LOCATION:
BEGIN:VALARM
TRIGGER:-P2H
ACTION:DISPLAY
DESCRIPTION:Gelinas vs Crabtree
END:VALARM
END:VEVENT
BEGIN:VEVENT
UID:putnam-228581@ygametime.com
DTSTAMP:20210501T123000Z
DTSTART;TZID=America/New_York:20210501T083000
DURATION:PT0H60M0S
SUMMARY:Gelinas vs Reep
DESCRIPTION:U4 | 2021 Spring Soccer\nPutnam County Family YMCA\n
URL;VALUE=URI:https://ygametime.com/branch/putnam/sports/2021-spring-2021-spring-soccer/9427/?utm_medium=calendar&utm_source=team_cal&utm_content=league_url#game-228581
LOCATION:Field 3 (5/6)
BEGIN:VALARM
TRIGGER:-P2H
ACTION:DISPLAY
DESCRIPTION:Gelinas vs Reep
END:VALARM
END:VEVENT
BEGIN:VEVENT
UID:putnam-228586@ygametime.com
DTSTAMP:20210508T140000Z
DTSTART;TZID=America/New_York:20210508T100000
DURATION:PT0H60M0S
SUMMARY:Bucher vs Gelinas
DESCRIPTION:U4 | 2021 Spring Soccer\nPutnam County Family YMCA\n
URL;VALUE=URI:https://ygametime.com/branch/putnam/sports/2021-spring-2021-spring-soccer/9427/?utm_medium=calendar&utm_source=team_cal&utm_content=league_url#game-228586
LOCATION:Field 2 (5/6)
BEGIN:VALARM
TRIGGER:-P2H
ACTION:DISPLAY
DESCRIPTION:Bucher vs Gelinas
END:VALARM
END:VEVENT
BEGIN:VEVENT
UID:putnam-237643@ygametime.com
DTSTAMP:20210511T213000Z
DTSTART;TZID=America/New_York:20210511T173000
DURATION:PT0H60M0S
SUMMARY:Smith vs Gelinas
DESCRIPTION:U4 | 2021 Spring Soccer\nPutnam County Family YMCA\n
URL;VALUE=URI:https://ygametime.com/branch/putnam/sports/2021-spring-2021-spring-soccer/9427/?utm_medium=calendar&utm_source=team_cal&utm_content=league_url#game-237643
LOCATION:Field 2 (5/6)
BEGIN:VALARM
TRIGGER:-P2H
ACTION:DISPLAY
DESCRIPTION:Smith vs Gelinas
END:VALARM
END:VEVENT
BEGIN:VEVENT
UID:putnam-228587@ygametime.com
DTSTAMP:20210515T123000Z
DTSTART;TZID=America/New_York:20210515T083000
DURATION:PT0H60M0S
SUMMARY:Gelinas vs Crabtree
DESCRIPTION:U4 | 2021 Spring Soccer\nPutnam County Family YMCA\n
URL;VALUE=URI:https://ygametime.com/branch/putnam/sports/2021-spring-2021-spring-soccer/9427/?utm_medium=calendar&utm_source=team_cal&utm_content=league_url#game-228587
LOCATION:Field 2 (5/6)
BEGIN:VALARM
TRIGGER:-P2H
ACTION:DISPLAY
DESCRIPTION:Gelinas vs Crabtree
END:VALARM
END:VEVENT
BEGIN:VEVENT
UID:putnam-228570@ygametime.com
DTSTAMP:20210522T143000Z
DTSTART;TZID=America/New_York:20210522T103000
DURATION:PT0H60M0S
SUMMARY:Bucher vs Gelinas
DESCRIPTION:U4 | 2021 Spring Soccer\nPutnam County Family YMCA\n
URL;VALUE=URI:https://ygametime.com/branch/putnam/sports/2021-spring-2021-spring-soccer/9427/?utm_medium=calendar&utm_source=team_cal&utm_content=league_url#game-228570
LOCATION:Field 2 (5/6)
BEGIN:VALARM
TRIGGER:-P2H
ACTION:DISPLAY
DESCRIPTION:Bucher vs Gelinas
END:VALARM
END:VEVENT
END:VCALENDAR

