BEGIN:VCALENDAR
VERSION:2.0
PRODID:-//YGAMETIME.com//YGT iCal Creator//EN
METHOD:PUBLISH
X-PUBLISHED-TTL:PT6H
REFRESH-INTERVAL;VALUE=DURATION:PT6H
CALSCALE:GREGORIAN
X-WR-CALNAME:YGAMETIME CALENDAR
BEGIN:VTIMEZONE
TZID:America/New_York
X-LIC-LOCATION:America/New_York
BEGIN:DAYLIGHT
TZOFFSETFROM:-0500
TZOFFSETTO:-0400
TZNAME:EDT
DTSTART:19700308T020000
RRULE:FREQ=YEARLY;BYMONTH=3;BYDAY=2SU
END:DAYLIGHT
BEGIN:STANDARD
TZOFFSETFROM:-0400
TZOFFSETTO:-0500
TZNAME:EST
DTSTART:19701101T020000
RRULE:FREQ=YEARLY;BYMONTH=11;BYDAY=1SU
END:STANDARD
END:VTIMEZONE
BEGIN:VEVENT
UID:putnam-234282@ygametime.com
DTSTAMP:20210409T213000Z
DTSTART;TZID=America/New_York:20210409T173000
DURATION:PT0H60M0S
SUMMARY:Randolph vs Birdwell
DESCRIPTION:U6 | 2021 Spring Soccer\nPutnam County Family YMCA\n
URL;VALUE=URI:https://ygametime.com/branch/putnam/sports/2021-spring-2021-spring-soccer/9428/?utm_medium=calendar&utm_source=team_cal&utm_content=league_url#game-234282
LOCATION:Field 7 (3/4)
BEGIN:VALARM
TRIGGER:-P2H
ACTION:DISPLAY
DESCRIPTION:Randolph vs Birdwell
END:VALARM
END:VEVENT
BEGIN:VEVENT
UID:putnam-228641@ygametime.com
DTSTAMP:20210417T153000Z
DTSTART;TZID=America/New_York:20210417T113000
DURATION:PT0H60M0S
SUMMARY:Scantland vs Randolph
DESCRIPTION:U6 | 2021 Spring Soccer\nPutnam County Family YMCA\n
URL;VALUE=URI:https://ygametime.com/branch/putnam/sports/2021-spring-2021-spring-soccer/9428/?utm_medium=calendar&utm_source=team_cal&utm_content=league_url#game-228641
LOCATION:Field 9 (3/4)
BEGIN:VALARM
TRIGGER:-P2H
ACTION:DISPLAY
DESCRIPTION:Scantland vs Randolph
END:VALARM
END:VEVENT
BEGIN:VEVENT
UID:putnam-237301@ygametime.com
DTSTAMP:20210423T213000Z
DTSTART;TZID=America/New_York:20210423T173000
DURATION:PT0H60M0S
SUMMARY:Randolph vs Huddleston
DESCRIPTION:U6 | 2021 Spring Soccer\nPutnam County Family YMCA\n
URL;VALUE=URI:https://ygametime.com/branch/putnam/sports/2021-spring-2021-spring-soccer/9428/?utm_medium=calendar&utm_source=team_cal&utm_content=league_url#game-237301
LOCATION:
BEGIN:VALARM
TRIGGER:-P2H
ACTION:DISPLAY
DESCRIPTION:Randolph vs Huddleston
END:VALARM
END:VEVENT
BEGIN:VEVENT
UID:putnam-228655@ygametime.com
DTSTAMP:20210501T163000Z
DTSTART;TZID=America/New_York:20210501T123000
DURATION:PT0H60M0S
SUMMARY:Flatt vs Randolph
DESCRIPTION:U6 | 2021 Spring Soccer\nPutnam County Family YMCA\n
URL;VALUE=URI:https://ygametime.com/branch/putnam/sports/2021-spring-2021-spring-soccer/9428/?utm_medium=calendar&utm_source=team_cal&utm_content=league_url#game-228655
LOCATION:Field 9 (3/4)
BEGIN:VALARM
TRIGGER:-P2H
ACTION:DISPLAY
DESCRIPTION:Flatt vs Randolph
END:VALARM
END:VEVENT
BEGIN:VEVENT
UID:putnam-237522@ygametime.com
DTSTAMP:20210507T213000Z
DTSTART;TZID=America/New_York:20210507T173000
DURATION:PT0H60M0S
SUMMARY:Flatt vs Randolph
DESCRIPTION:U6 | 2021 Spring Soccer\nPutnam County Family YMCA\n
URL;VALUE=URI:https://ygametime.com/branch/putnam/sports/2021-spring-2021-spring-soccer/9428/?utm_medium=calendar&utm_source=team_cal&utm_content=league_url#game-237522
LOCATION:
BEGIN:VALARM
TRIGGER:-P2H
ACTION:DISPLAY
DESCRIPTION:Flatt vs Randolph
END:VALARM
END:VEVENT
BEGIN:VEVENT
UID:putnam-228658@ygametime.com
DTSTAMP:20210508T153000Z
DTSTART;TZID=America/New_York:20210508T113000
DURATION:PT0H60M0S
SUMMARY:Randolph vs Mason
DESCRIPTION:U6 | 2021 Spring Soccer\nPutnam County Family YMCA\n
URL;VALUE=URI:https://ygametime.com/branch/putnam/sports/2021-spring-2021-spring-soccer/9428/?utm_medium=calendar&utm_source=team_cal&utm_content=league_url#game-228658
LOCATION:Field 7 (3/4)
BEGIN:VALARM
TRIGGER:-P2H
ACTION:DISPLAY
DESCRIPTION:Randolph vs Mason
END:VALARM
END:VEVENT
BEGIN:VEVENT
UID:putnam-228661@ygametime.com
DTSTAMP:20210515T133000Z
DTSTART;TZID=America/New_York:20210515T093000
DURATION:PT0H60M0S
SUMMARY:Birdwell vs Randolph
DESCRIPTION:U6 | 2021 Spring Soccer\nPutnam County Family YMCA\n
URL;VALUE=URI:https://ygametime.com/branch/putnam/sports/2021-spring-2021-spring-soccer/9428/?utm_medium=calendar&utm_source=team_cal&utm_content=league_url#game-228661
LOCATION:Field 7 (3/4)
BEGIN:VALARM
TRIGGER:-P2H
ACTION:DISPLAY
DESCRIPTION:Birdwell vs Randolph
END:VALARM
END:VEVENT
BEGIN:VEVENT
UID:putnam-228631@ygametime.com
DTSTAMP:20210522T133000Z
DTSTART;TZID=America/New_York:20210522T093000
DURATION:PT0H60M0S
SUMMARY:Stiles vs Randolph
DESCRIPTION:U6 | 2021 Spring Soccer\nPutnam County Family YMCA\n
URL;VALUE=URI:https://ygametime.com/branch/putnam/sports/2021-spring-2021-spring-soccer/9428/?utm_medium=calendar&utm_source=team_cal&utm_content=league_url#game-228631
LOCATION:Field 9 (3/4)
BEGIN:VALARM
TRIGGER:-P2H
ACTION:DISPLAY
DESCRIPTION:Stiles vs Randolph
END:VALARM
END:VEVENT
BEGIN:VEVENT
UID:putnam-237641@ygametime.com
DTSTAMP:20210522T153000Z
DTSTART;TZID=America/New_York:20210522T113000
DURATION:PT0H60M0S
SUMMARY:Randolph vs Smith
DESCRIPTION:U6 | 2021 Spring Soccer\nPutnam County Family YMCA\n
URL;VALUE=URI:https://ygametime.com/branch/putnam/sports/2021-spring-2021-spring-soccer/9428/?utm_medium=calendar&utm_source=team_cal&utm_content=league_url#game-237641
LOCATION:Field 7 (3/4)
BEGIN:VALARM
TRIGGER:-P2H
ACTION:DISPLAY
DESCRIPTION:Randolph vs Smith
END:VALARM
END:VEVENT
END:VCALENDAR

