BEGIN:VCALENDAR
VERSION:2.0
PRODID:-//YGAMETIME.com//YGT iCal Creator//EN
METHOD:PUBLISH
X-PUBLISHED-TTL:PT6H
REFRESH-INTERVAL;VALUE=DURATION:PT6H
CALSCALE:GREGORIAN
X-WR-CALNAME:YGAMETIME CALENDAR
BEGIN:VTIMEZONE
TZID:America/New_York
X-LIC-LOCATION:America/New_York
BEGIN:DAYLIGHT
TZOFFSETFROM:-0500
TZOFFSETTO:-0400
TZNAME:EDT
DTSTART:19700308T020000
RRULE:FREQ=YEARLY;BYMONTH=3;BYDAY=2SU
END:DAYLIGHT
BEGIN:STANDARD
TZOFFSETFROM:-0400
TZOFFSETTO:-0500
TZNAME:EST
DTSTART:19701101T020000
RRULE:FREQ=YEARLY;BYMONTH=11;BYDAY=1SU
END:STANDARD
END:VTIMEZONE
BEGIN:VEVENT
UID:putnam-234244@ygametime.com
DTSTAMP:20210406T220000Z
DTSTART;TZID=America/New_York:20210406T180000
DURATION:PT0H60M0S
SUMMARY:Smith vs Flatt
DESCRIPTION:U6 | 2021 Spring Soccer\nPutnam County Family YMCA\n
URL;VALUE=URI:https://ygametime.com/branch/putnam/sports/2021-spring-2021-spring-soccer/9428/?utm_medium=calendar&utm_source=team_cal&utm_content=league_url#game-234244
LOCATION:Field 7 (3/4)
BEGIN:VALARM
TRIGGER:-P2H
ACTION:DISPLAY
DESCRIPTION:Smith vs Flatt
END:VALARM
END:VEVENT
BEGIN:VEVENT
UID:putnam-228667@ygametime.com
DTSTAMP:20210413T213000Z
DTSTART;TZID=America/New_York:20210413T173000
DURATION:PT0H60M0S
SUMMARY:Flatt vs Ross
DESCRIPTION:U6 | 2021 Spring Soccer\nPutnam County Family YMCA\n
URL;VALUE=URI:https://ygametime.com/branch/putnam/sports/2021-spring-2021-spring-soccer/9428/?utm_medium=calendar&utm_source=team_cal&utm_content=league_url#game-228667
LOCATION:Field 9 (3/4)
BEGIN:VALARM
TRIGGER:-P2H
ACTION:DISPLAY
DESCRIPTION:Flatt vs Ross
END:VALARM
END:VEVENT
BEGIN:VEVENT
UID:putnam-234245@ygametime.com
DTSTAMP:20210419T211500Z
DTSTART;TZID=America/New_York:20210419T171500
DURATION:PT0H60M0S
SUMMARY:Birdwell vs Flatt
DESCRIPTION:U6 | 2021 Spring Soccer\nPutnam County Family YMCA\n
URL;VALUE=URI:https://ygametime.com/branch/putnam/sports/2021-spring-2021-spring-soccer/9428/?utm_medium=calendar&utm_source=team_cal&utm_content=league_url#game-234245
LOCATION:Field 7 (3/4)
BEGIN:VALARM
TRIGGER:-P2H
ACTION:DISPLAY
DESCRIPTION:Birdwell vs Flatt
END:VALARM
END:VEVENT
BEGIN:VEVENT
UID:putnam-228668@ygametime.com
DTSTAMP:20210427T220000Z
DTSTART;TZID=America/New_York:20210427T180000
DURATION:PT0H60M0S
SUMMARY:Flatt vs Ross
DESCRIPTION:U6 | 2021 Spring Soccer\nPutnam County Family YMCA\n
URL;VALUE=URI:https://ygametime.com/branch/putnam/sports/2021-spring-2021-spring-soccer/9428/?utm_medium=calendar&utm_source=team_cal&utm_content=league_url#game-228668
LOCATION:Field 7 (3/4)
BEGIN:VALARM
TRIGGER:-P2H
ACTION:DISPLAY
DESCRIPTION:Flatt vs Ross
END:VALARM
END:VEVENT
BEGIN:VEVENT
UID:putnam-228655@ygametime.com
DTSTAMP:20210501T163000Z
DTSTART;TZID=America/New_York:20210501T123000
DURATION:PT0H60M0S
SUMMARY:Flatt vs Randolph
DESCRIPTION:U6 | 2021 Spring Soccer\nPutnam County Family YMCA\n
URL;VALUE=URI:https://ygametime.com/branch/putnam/sports/2021-spring-2021-spring-soccer/9428/?utm_medium=calendar&utm_source=team_cal&utm_content=league_url#game-228655
LOCATION:Field 9 (3/4)
BEGIN:VALARM
TRIGGER:-P2H
ACTION:DISPLAY
DESCRIPTION:Flatt vs Randolph
END:VALARM
END:VEVENT
BEGIN:VEVENT
UID:putnam-237522@ygametime.com
DTSTAMP:20210507T213000Z
DTSTART;TZID=America/New_York:20210507T173000
DURATION:PT0H60M0S
SUMMARY:Flatt vs Randolph
DESCRIPTION:U6 | 2021 Spring Soccer\nPutnam County Family YMCA\n
URL;VALUE=URI:https://ygametime.com/branch/putnam/sports/2021-spring-2021-spring-soccer/9428/?utm_medium=calendar&utm_source=team_cal&utm_content=league_url#game-237522
LOCATION:
BEGIN:VALARM
TRIGGER:-P2H
ACTION:DISPLAY
DESCRIPTION:Flatt vs Randolph
END:VALARM
END:VEVENT
BEGIN:VEVENT
UID:putnam-228659@ygametime.com
DTSTAMP:20210508T163000Z
DTSTART;TZID=America/New_York:20210508T123000
DURATION:PT0H60M0S
SUMMARY:Stiles vs Flatt
DESCRIPTION:U6 | 2021 Spring Soccer\nPutnam County Family YMCA\n
URL;VALUE=URI:https://ygametime.com/branch/putnam/sports/2021-spring-2021-spring-soccer/9428/?utm_medium=calendar&utm_source=team_cal&utm_content=league_url#game-228659
LOCATION:Field 9 (3/4)
BEGIN:VALARM
TRIGGER:-P2H
ACTION:DISPLAY
DESCRIPTION:Stiles vs Flatt
END:VALARM
END:VEVENT
BEGIN:VEVENT
UID:putnam-228662@ygametime.com
DTSTAMP:20210515T123000Z
DTSTART;TZID=America/New_York:20210515T083000
DURATION:PT0H60M0S
SUMMARY:Flatt vs Stiles
DESCRIPTION:U6 | 2021 Spring Soccer\nPutnam County Family YMCA\n
URL;VALUE=URI:https://ygametime.com/branch/putnam/sports/2021-spring-2021-spring-soccer/9428/?utm_medium=calendar&utm_source=team_cal&utm_content=league_url#game-228662
LOCATION:Field 9 (3/4)
BEGIN:VALARM
TRIGGER:-P2H
ACTION:DISPLAY
DESCRIPTION:Flatt vs Stiles
END:VALARM
END:VEVENT
BEGIN:VEVENT
UID:putnam-228635@ygametime.com
DTSTAMP:20210522T123000Z
DTSTART;TZID=America/New_York:20210522T083000
DURATION:PT0H60M0S
SUMMARY:Huddleston vs Flatt
DESCRIPTION:U6 | 2021 Spring Soccer\nPutnam County Family YMCA\n
URL;VALUE=URI:https://ygametime.com/branch/putnam/sports/2021-spring-2021-spring-soccer/9428/?utm_medium=calendar&utm_source=team_cal&utm_content=league_url#game-228635
LOCATION:Field 7 (3/4)
BEGIN:VALARM
TRIGGER:-P2H
ACTION:DISPLAY
DESCRIPTION:Huddleston vs Flatt
END:VALARM
END:VEVENT
END:VCALENDAR

