BEGIN:VCALENDAR
VERSION:2.0
PRODID:-//YGAMETIME.com//YGT iCal Creator//EN
METHOD:PUBLISH
X-PUBLISHED-TTL:PT6H
REFRESH-INTERVAL;VALUE=DURATION:PT6H
CALSCALE:GREGORIAN
X-WR-CALNAME:YGAMETIME CALENDAR
BEGIN:VTIMEZONE
TZID:America/New_York
X-LIC-LOCATION:America/New_York
BEGIN:DAYLIGHT
TZOFFSETFROM:-0500
TZOFFSETTO:-0400
TZNAME:EDT
DTSTART:19700308T020000
RRULE:FREQ=YEARLY;BYMONTH=3;BYDAY=2SU
END:DAYLIGHT
BEGIN:STANDARD
TZOFFSETFROM:-0400
TZOFFSETTO:-0500
TZNAME:EST
DTSTART:19701101T020000
RRULE:FREQ=YEARLY;BYMONTH=11;BYDAY=1SU
END:STANDARD
END:VTIMEZONE
BEGIN:VEVENT
UID:putnam-234243@ygametime.com
DTSTAMP:20210401T211500Z
DTSTART;TZID=America/New_York:20210401T171500
DURATION:PT0H60M0S
SUMMARY:Fancher vs Stiles
DESCRIPTION:U8 | 2021 Spring Soccer\nPutnam County Family YMCA\n
URL;VALUE=URI:https://ygametime.com/branch/putnam/sports/2021-spring-2021-spring-soccer/9429/?utm_medium=calendar&utm_source=team_cal&utm_content=league_url#game-234243
LOCATION:Field 4 (7/8)
BEGIN:VALARM
TRIGGER:-P2H
ACTION:DISPLAY
DESCRIPTION:Fancher vs Stiles
END:VALARM
END:VEVENT
BEGIN:VEVENT
UID:putnam-228689@ygametime.com
DTSTAMP:20210417T123000Z
DTSTART;TZID=America/New_York:20210417T083000
DURATION:PT0H60M0S
SUMMARY:Bottoms vs Stiles
DESCRIPTION:U8 | 2021 Spring Soccer\nPutnam County Family YMCA\n
URL;VALUE=URI:https://ygametime.com/branch/putnam/sports/2021-spring-2021-spring-soccer/9429/?utm_medium=calendar&utm_source=team_cal&utm_content=league_url#game-228689
LOCATION:Field 4 (7/8)
BEGIN:VALARM
TRIGGER:-P2H
ACTION:DISPLAY
DESCRIPTION:Bottoms vs Stiles
END:VALARM
END:VEVENT
BEGIN:VEVENT
UID:putnam-228697@ygametime.com
DTSTAMP:20210501T143000Z
DTSTART;TZID=America/New_York:20210501T103000
DURATION:PT0H60M0S
SUMMARY:Tony vs Stiles
DESCRIPTION:U8 | 2021 Spring Soccer\nPutnam County Family YMCA\n
URL;VALUE=URI:https://ygametime.com/branch/putnam/sports/2021-spring-2021-spring-soccer/9429/?utm_medium=calendar&utm_source=team_cal&utm_content=league_url#game-228697
LOCATION:Field 4 (7/8)
BEGIN:VALARM
TRIGGER:-P2H
ACTION:DISPLAY
DESCRIPTION:Tony vs Stiles
END:VALARM
END:VEVENT
BEGIN:VEVENT
UID:putnam-237638@ygametime.com
DTSTAMP:20210506T223000Z
DTSTART;TZID=America/New_York:20210506T183000
DURATION:PT0H60M0S
SUMMARY:Stiles vs Huddleston
DESCRIPTION:U8 | 2021 Spring Soccer\nPutnam County Family YMCA\n
URL;VALUE=URI:https://ygametime.com/branch/putnam/sports/2021-spring-2021-spring-soccer/9429/?utm_medium=calendar&utm_source=team_cal&utm_content=league_url#game-237638
LOCATION:
BEGIN:VALARM
TRIGGER:-P2H
ACTION:DISPLAY
DESCRIPTION:Stiles vs Huddleston
END:VALARM
END:VEVENT
BEGIN:VEVENT
UID:putnam-228700@ygametime.com
DTSTAMP:20210508T143000Z
DTSTART;TZID=America/New_York:20210508T103000
DURATION:PT0H60M0S
SUMMARY:Stiles vs Eldridge
DESCRIPTION:U8 | 2021 Spring Soccer\nPutnam County Family YMCA\n
URL;VALUE=URI:https://ygametime.com/branch/putnam/sports/2021-spring-2021-spring-soccer/9429/?utm_medium=calendar&utm_source=team_cal&utm_content=league_url#game-228700
LOCATION:Field 4 (7/8)
BEGIN:VALARM
TRIGGER:-P2H
ACTION:DISPLAY
DESCRIPTION:Stiles vs Eldridge
END:VALARM
END:VEVENT
BEGIN:VEVENT
UID:putnam-237640@ygametime.com
DTSTAMP:20210515T153000Z
DTSTART;TZID=America/New_York:20210515T113000
DURATION:PT0H60M0S
SUMMARY:Stiles vs Eldridge
DESCRIPTION:U8 | 2021 Spring Soccer\nPutnam County Family YMCA\n
URL;VALUE=URI:https://ygametime.com/branch/putnam/sports/2021-spring-2021-spring-soccer/9429/?utm_medium=calendar&utm_source=team_cal&utm_content=league_url#game-237640
LOCATION:
BEGIN:VALARM
TRIGGER:-P2H
ACTION:DISPLAY
DESCRIPTION:Stiles vs Eldridge
END:VALARM
END:VEVENT
BEGIN:VEVENT
UID:putnam-228710@ygametime.com
DTSTAMP:20210520T213000Z
DTSTART;TZID=America/New_York:20210520T173000
DURATION:PT0H60M0S
SUMMARY:Grimm vs Stiles
DESCRIPTION:U8 | 2021 Spring Soccer\nPutnam County Family YMCA\n
URL;VALUE=URI:https://ygametime.com/branch/putnam/sports/2021-spring-2021-spring-soccer/9429/?utm_medium=calendar&utm_source=team_cal&utm_content=league_url#game-228710
LOCATION:Field 5 (7/8)
BEGIN:VALARM
TRIGGER:-P2H
ACTION:DISPLAY
DESCRIPTION:Grimm vs Stiles
END:VALARM
END:VEVENT
BEGIN:VEVENT
UID:putnam-228679@ygametime.com
DTSTAMP:20210522T153000Z
DTSTART;TZID=America/New_York:20210522T113000
DURATION:PT0H60M0S
SUMMARY:Stiles vs Null
DESCRIPTION:U8 | 2021 Spring Soccer\nPutnam County Family YMCA\n
URL;VALUE=URI:https://ygametime.com/branch/putnam/sports/2021-spring-2021-spring-soccer/9429/?utm_medium=calendar&utm_source=team_cal&utm_content=league_url#game-228679
LOCATION:Field 5 (7/8)
BEGIN:VALARM
TRIGGER:-P2H
ACTION:DISPLAY
DESCRIPTION:Stiles vs Null
END:VALARM
END:VEVENT
END:VCALENDAR

