BEGIN:VCALENDAR
VERSION:2.0
PRODID:-//YGAMETIME.com//YGT iCal Creator//EN
METHOD:PUBLISH
X-PUBLISHED-TTL:PT6H
REFRESH-INTERVAL;VALUE=DURATION:PT6H
CALSCALE:GREGORIAN
X-WR-CALNAME:YGAMETIME CALENDAR
BEGIN:VTIMEZONE
TZID:America/New_York
X-LIC-LOCATION:America/New_York
BEGIN:DAYLIGHT
TZOFFSETFROM:-0500
TZOFFSETTO:-0400
TZNAME:EDT
DTSTART:19700308T020000
RRULE:FREQ=YEARLY;BYMONTH=3;BYDAY=2SU
END:DAYLIGHT
BEGIN:STANDARD
TZOFFSETFROM:-0400
TZOFFSETTO:-0500
TZNAME:EST
DTSTART:19701101T020000
RRULE:FREQ=YEARLY;BYMONTH=11;BYDAY=1SU
END:STANDARD
END:VTIMEZONE
BEGIN:VEVENT
UID:putnam-228643@ygametime.com
DTSTAMP:20210417T123000Z
DTSTART;TZID=America/New_York:20210417T083000
DURATION:PT0H60M0S
SUMMARY:Huddleston vs Mason
DESCRIPTION:U6 | 2021 Spring Soccer\nPutnam County Family YMCA\n
URL;VALUE=URI:https://ygametime.com/branch/putnam/sports/2021-spring-2021-spring-soccer/9428/?utm_medium=calendar&utm_source=team_cal&utm_content=league_url#game-228643
LOCATION:Field 9 (3/4)
BEGIN:VALARM
TRIGGER:-P2H
ACTION:DISPLAY
DESCRIPTION:Huddleston vs Mason
END:VALARM
END:VEVENT
BEGIN:VEVENT
UID:putnam-228644@ygametime.com
DTSTAMP:20210417T133000Z
DTSTART;TZID=America/New_York:20210417T093000
DURATION:PT0H60M0S
SUMMARY:Mason vs Stiles
DESCRIPTION:U6 | 2021 Spring Soccer\nPutnam County Family YMCA\n
URL;VALUE=URI:https://ygametime.com/branch/putnam/sports/2021-spring-2021-spring-soccer/9428/?utm_medium=calendar&utm_source=team_cal&utm_content=league_url#game-228644
LOCATION:Field 9 (3/4)
BEGIN:VALARM
TRIGGER:-P2H
ACTION:DISPLAY
DESCRIPTION:Mason vs Stiles
END:VALARM
END:VEVENT
BEGIN:VEVENT
UID:putnam-237066@ygametime.com
DTSTAMP:20210427T210000Z
DTSTART;TZID=America/New_York:20210427T170000
DURATION:PT0H60M0S
SUMMARY:Mason vs Stiles
DESCRIPTION:U6 | 2021 Spring Soccer\nPutnam County Family YMCA\n
URL;VALUE=URI:https://ygametime.com/branch/putnam/sports/2021-spring-2021-spring-soccer/9428/?utm_medium=calendar&utm_source=team_cal&utm_content=league_url#game-237066
LOCATION:Field 9 (3/4)
BEGIN:VALARM
TRIGGER:-P2H
ACTION:DISPLAY
DESCRIPTION:Mason vs Stiles
END:VALARM
END:VEVENT
BEGIN:VEVENT
UID:putnam-228653@ygametime.com
DTSTAMP:20210501T143000Z
DTSTART;TZID=America/New_York:20210501T103000
DURATION:PT0H60M0S
SUMMARY:Mason vs Ross
DESCRIPTION:U6 | 2021 Spring Soccer\nPutnam County Family YMCA\n
URL;VALUE=URI:https://ygametime.com/branch/putnam/sports/2021-spring-2021-spring-soccer/9428/?utm_medium=calendar&utm_source=team_cal&utm_content=league_url#game-228653
LOCATION:Field 9 (3/4)
BEGIN:VALARM
TRIGGER:-P2H
ACTION:DISPLAY
DESCRIPTION:Mason vs Ross
END:VALARM
END:VEVENT
BEGIN:VEVENT
UID:putnam-228658@ygametime.com
DTSTAMP:20210508T153000Z
DTSTART;TZID=America/New_York:20210508T113000
DURATION:PT0H60M0S
SUMMARY:Randolph vs Mason
DESCRIPTION:U6 | 2021 Spring Soccer\nPutnam County Family YMCA\n
URL;VALUE=URI:https://ygametime.com/branch/putnam/sports/2021-spring-2021-spring-soccer/9428/?utm_medium=calendar&utm_source=team_cal&utm_content=league_url#game-228658
LOCATION:Field 7 (3/4)
BEGIN:VALARM
TRIGGER:-P2H
ACTION:DISPLAY
DESCRIPTION:Randolph vs Mason
END:VALARM
END:VEVENT
BEGIN:VEVENT
UID:putnam-237523@ygametime.com
DTSTAMP:20210510T220000Z
DTSTART;TZID=America/New_York:20210510T180000
DURATION:PT0H60M0S
SUMMARY:Birdwell vs Mason
DESCRIPTION:U6 | 2021 Spring Soccer\nPutnam County Family YMCA\n
URL;VALUE=URI:https://ygametime.com/branch/putnam/sports/2021-spring-2021-spring-soccer/9428/?utm_medium=calendar&utm_source=team_cal&utm_content=league_url#game-237523
LOCATION:
BEGIN:VALARM
TRIGGER:-P2H
ACTION:DISPLAY
DESCRIPTION:Birdwell vs Mason
END:VALARM
END:VEVENT
BEGIN:VEVENT
UID:putnam-228663@ygametime.com
DTSTAMP:20210515T143000Z
DTSTART;TZID=America/New_York:20210515T103000
DURATION:PT0H60M0S
SUMMARY:Mason vs Huddleston
DESCRIPTION:U6 | 2021 Spring Soccer\nPutnam County Family YMCA\n
URL;VALUE=URI:https://ygametime.com/branch/putnam/sports/2021-spring-2021-spring-soccer/9428/?utm_medium=calendar&utm_source=team_cal&utm_content=league_url#game-228663
LOCATION:Field 9 (3/4)
BEGIN:VALARM
TRIGGER:-P2H
ACTION:DISPLAY
DESCRIPTION:Mason vs Huddleston
END:VALARM
END:VEVENT
BEGIN:VEVENT
UID:putnam-234358@ygametime.com
DTSTAMP:20210515T163000Z
DTSTART;TZID=America/New_York:20210515T123000
DURATION:PT0H60M0S
SUMMARY:Mason vs Scantland
DESCRIPTION:U6 | 2021 Spring Soccer\nPutnam County Family YMCA\n
URL;VALUE=URI:https://ygametime.com/branch/putnam/sports/2021-spring-2021-spring-soccer/9428/?utm_medium=calendar&utm_source=team_cal&utm_content=league_url#game-234358
LOCATION:Field 9 (3/4)
BEGIN:VALARM
TRIGGER:-P2H
ACTION:DISPLAY
DESCRIPTION:Mason vs Scantland
END:VALARM
END:VEVENT
BEGIN:VEVENT
UID:putnam-228632@ygametime.com
DTSTAMP:20210522T143000Z
DTSTART;TZID=America/New_York:20210522T103000
DURATION:PT0H60M0S
SUMMARY:Smith vs Mason
DESCRIPTION:U6 | 2021 Spring Soccer\nPutnam County Family YMCA\n
URL;VALUE=URI:https://ygametime.com/branch/putnam/sports/2021-spring-2021-spring-soccer/9428/?utm_medium=calendar&utm_source=team_cal&utm_content=league_url#game-228632
LOCATION:Field 7 (3/4)
BEGIN:VALARM
TRIGGER:-P2H
ACTION:DISPLAY
DESCRIPTION:Smith vs Mason
END:VALARM
END:VEVENT
END:VCALENDAR

