BEGIN:VCALENDAR
VERSION:2.0
PRODID:-//YGAMETIME.com//YGT iCal Creator//EN
METHOD:PUBLISH
X-PUBLISHED-TTL:PT6H
REFRESH-INTERVAL;VALUE=DURATION:PT6H
CALSCALE:GREGORIAN
X-WR-CALNAME:YGAMETIME CALENDAR
BEGIN:VTIMEZONE
TZID:America/New_York
X-LIC-LOCATION:America/New_York
BEGIN:DAYLIGHT
TZOFFSETFROM:-0500
TZOFFSETTO:-0400
TZNAME:EDT
DTSTART:19700308T020000
RRULE:FREQ=YEARLY;BYMONTH=3;BYDAY=2SU
END:DAYLIGHT
BEGIN:STANDARD
TZOFFSETFROM:-0400
TZOFFSETTO:-0500
TZNAME:EST
DTSTART:19701101T020000
RRULE:FREQ=YEARLY;BYMONTH=11;BYDAY=1SU
END:STANDARD
END:VTIMEZONE
BEGIN:VEVENT
UID:putnam-245341@ygametime.com
DTSTAMP:20210911T140000Z
DTSTART;TZID=America/New_York:20210911T100000
DURATION:PT0H60M0S
SUMMARY:Crabtree vs Malone
DESCRIPTION:U6 | Fall Soccer 2021\nPutnam County Family YMCA\n
URL;VALUE=URI:https://ygametime.com/branch/putnam/sports/2021-fall-fall-soccer-2021/10403/?utm_medium=calendar&utm_source=team_cal&utm_content=league_url#game-245341
LOCATION:Field 7 (3/4)
BEGIN:VALARM
TRIGGER:-P2H
ACTION:DISPLAY
DESCRIPTION:Crabtree vs Malone
END:VALARM
END:VEVENT
BEGIN:VEVENT
UID:putnam-245384@ygametime.com
DTSTAMP:20210928T220000Z
DTSTART;TZID=America/New_York:20210928T180000
DURATION:PT0H60M0S
SUMMARY:Crabtree vs Ross
DESCRIPTION:U6 | Fall Soccer 2021\nPutnam County Family YMCA\n
URL;VALUE=URI:https://ygametime.com/branch/putnam/sports/2021-fall-fall-soccer-2021/10403/?utm_medium=calendar&utm_source=team_cal&utm_content=league_url#game-245384
LOCATION:Field 7 (3/4)
BEGIN:VALARM
TRIGGER:-P2H
ACTION:DISPLAY
DESCRIPTION:Crabtree vs Ross
END:VALARM
END:VEVENT
BEGIN:VEVENT
UID:putnam-251960@ygametime.com
DTSTAMP:20210930T213000Z
DTSTART;TZID=America/New_York:20210930T173000
DURATION:PT0H60M0S
SUMMARY:Crabtree vs Seward
DESCRIPTION:U6 | Fall Soccer 2021\nPutnam County Family YMCA\n
URL;VALUE=URI:https://ygametime.com/branch/putnam/sports/2021-fall-fall-soccer-2021/10403/?utm_medium=calendar&utm_source=team_cal&utm_content=league_url#game-251960
LOCATION:Field 9 (3/4)
BEGIN:VALARM
TRIGGER:-P2H
ACTION:DISPLAY
DESCRIPTION:Crabtree vs Seward
END:VALARM
END:VEVENT
BEGIN:VEVENT
UID:putnam-245367@ygametime.com
DTSTAMP:20211016T160000Z
DTSTART;TZID=America/New_York:20211016T120000
DURATION:PT0H60M0S
SUMMARY:Crabtree vs Turner
DESCRIPTION:U6 | Fall Soccer 2021\nPutnam County Family YMCA\n
URL;VALUE=URI:https://ygametime.com/branch/putnam/sports/2021-fall-fall-soccer-2021/10403/?utm_medium=calendar&utm_source=team_cal&utm_content=league_url#game-245367
LOCATION:Field 7 (3/4)
BEGIN:VALARM
TRIGGER:-P2H
ACTION:DISPLAY
DESCRIPTION:Crabtree vs Turner
END:VALARM
END:VEVENT
BEGIN:VEVENT
UID:putnam-245388@ygametime.com
DTSTAMP:20211022T213000Z
DTSTART;TZID=America/New_York:20211022T173000
DURATION:PT0H60M0S
SUMMARY:Andrea vs Crabtree
DESCRIPTION:U6 | Fall Soccer 2021\nPutnam County Family YMCA\n
URL;VALUE=URI:https://ygametime.com/branch/putnam/sports/2021-fall-fall-soccer-2021/10403/?utm_medium=calendar&utm_source=team_cal&utm_content=league_url#game-245388
LOCATION:
BEGIN:VALARM
TRIGGER:-P2H
ACTION:DISPLAY
DESCRIPTION:Andrea vs Crabtree
END:VALARM
END:VEVENT
BEGIN:VEVENT
UID:putnam-251964@ygametime.com
DTSTAMP:20211023T160000Z
DTSTART;TZID=America/New_York:20211023T120000
DURATION:PT0H60M0S
SUMMARY:Crabtree vs Mason
DESCRIPTION:U6 | Fall Soccer 2021\nPutnam County Family YMCA\n
URL;VALUE=URI:https://ygametime.com/branch/putnam/sports/2021-fall-fall-soccer-2021/10403/?utm_medium=calendar&utm_source=team_cal&utm_content=league_url#game-251964
LOCATION:Field 9 (3/4)
BEGIN:VALARM
TRIGGER:-P2H
ACTION:DISPLAY
DESCRIPTION:Crabtree vs Mason
END:VALARM
END:VEVENT
BEGIN:VEVENT
UID:putnam-245381@ygametime.com
DTSTAMP:20211106T140000Z
DTSTART;TZID=America/New_York:20211106T100000
DURATION:PT0H60M0S
SUMMARY:Crabtree vs Scantland
DESCRIPTION:U6 | Fall Soccer 2021\nPutnam County Family YMCA\n
URL;VALUE=URI:https://ygametime.com/branch/putnam/sports/2021-fall-fall-soccer-2021/10403/?utm_medium=calendar&utm_source=team_cal&utm_content=league_url#game-245381
LOCATION:Field 7 (3/4)
BEGIN:VALARM
TRIGGER:-P2H
ACTION:DISPLAY
DESCRIPTION:Crabtree vs Scantland
END:VALARM
END:VEVENT
END:VCALENDAR

