BEGIN:VCALENDAR
VERSION:2.0
PRODID:-//YGAMETIME.com//YGT iCal Creator//EN
METHOD:PUBLISH
X-PUBLISHED-TTL:PT6H
REFRESH-INTERVAL;VALUE=DURATION:PT6H
CALSCALE:GREGORIAN
X-WR-CALNAME:YGAMETIME CALENDAR
BEGIN:VTIMEZONE
TZID:America/New_York
X-LIC-LOCATION:America/New_York
BEGIN:DAYLIGHT
TZOFFSETFROM:-0500
TZOFFSETTO:-0400
TZNAME:EDT
DTSTART:19700308T020000
RRULE:FREQ=YEARLY;BYMONTH=3;BYDAY=2SU
END:DAYLIGHT
BEGIN:STANDARD
TZOFFSETFROM:-0400
TZOFFSETTO:-0500
TZNAME:EST
DTSTART:19701101T020000
RRULE:FREQ=YEARLY;BYMONTH=11;BYDAY=1SU
END:STANDARD
END:VTIMEZONE
BEGIN:VEVENT
UID:putnam-245339@ygametime.com
DTSTAMP:20210911T160000Z
DTSTART;TZID=America/New_York:20210911T120000
DURATION:PT0H60M0S
SUMMARY:Randolph vs Scantland
DESCRIPTION:U6 | Fall Soccer 2021\nPutnam County Family YMCA\n
URL;VALUE=URI:https://ygametime.com/branch/putnam/sports/2021-fall-fall-soccer-2021/10403/?utm_medium=calendar&utm_source=team_cal&utm_content=league_url#game-245339
LOCATION:Field 9 (3/4)
BEGIN:VALARM
TRIGGER:-P2H
ACTION:DISPLAY
DESCRIPTION:Randolph vs Scantland
END:VALARM
END:VEVENT
BEGIN:VEVENT
UID:putnam-245349@ygametime.com
DTSTAMP:20210925T130000Z
DTSTART;TZID=America/New_York:20210925T090000
DURATION:PT0H60M0S
SUMMARY:Malone vs Randolph
DESCRIPTION:U6 | Fall Soccer 2021\nPutnam County Family YMCA\n
URL;VALUE=URI:https://ygametime.com/branch/putnam/sports/2021-fall-fall-soccer-2021/10403/?utm_medium=calendar&utm_source=team_cal&utm_content=league_url#game-245349
LOCATION:Field 7 (3/4)
BEGIN:VALARM
TRIGGER:-P2H
ACTION:DISPLAY
DESCRIPTION:Malone vs Randolph
END:VALARM
END:VEVENT
BEGIN:VEVENT
UID:putnam-246847@ygametime.com
DTSTAMP:20210925T160000Z
DTSTART;TZID=America/New_York:20210925T120000
DURATION:PT0H60M0S
SUMMARY:Andrea vs Randolph
DESCRIPTION:U6 | Fall Soccer 2021\nPutnam County Family YMCA\n
URL;VALUE=URI:https://ygametime.com/branch/putnam/sports/2021-fall-fall-soccer-2021/10403/?utm_medium=calendar&utm_source=team_cal&utm_content=league_url#game-246847
LOCATION:Field 9 (3/4)
BEGIN:VALARM
TRIGGER:-P2H
ACTION:DISPLAY
DESCRIPTION:Andrea vs Randolph
END:VALARM
END:VEVENT
BEGIN:VEVENT
UID:putnam-245365@ygametime.com
DTSTAMP:20211016T140000Z
DTSTART;TZID=America/New_York:20211016T100000
DURATION:PT0H60M0S
SUMMARY:Randolph vs Seward
DESCRIPTION:U6 | Fall Soccer 2021\nPutnam County Family YMCA\n
URL;VALUE=URI:https://ygametime.com/branch/putnam/sports/2021-fall-fall-soccer-2021/10403/?utm_medium=calendar&utm_source=team_cal&utm_content=league_url#game-245365
LOCATION:Field 9 (3/4)
BEGIN:VALARM
TRIGGER:-P2H
ACTION:DISPLAY
DESCRIPTION:Randolph vs Seward
END:VALARM
END:VEVENT
BEGIN:VEVENT
UID:putnam-251991@ygametime.com
DTSTAMP:20211019T213000Z
DTSTART;TZID=America/New_York:20211019T173000
DURATION:PT0H60M0S
SUMMARY:Randolph vs Ross
DESCRIPTION:U6 | Fall Soccer 2021\nPutnam County Family YMCA\n
URL;VALUE=URI:https://ygametime.com/branch/putnam/sports/2021-fall-fall-soccer-2021/10403/?utm_medium=calendar&utm_source=team_cal&utm_content=league_url#game-251991
LOCATION:Field 9 (3/4)
BEGIN:VALARM
TRIGGER:-P2H
ACTION:DISPLAY
DESCRIPTION:Randolph vs Ross
END:VALARM
END:VEVENT
BEGIN:VEVENT
UID:putnam-245370@ygametime.com
DTSTAMP:20211023T130000Z
DTSTART;TZID=America/New_York:20211023T090000
DURATION:PT0H60M0S
SUMMARY:Malone vs Randolph
DESCRIPTION:U6 | Fall Soccer 2021\nPutnam County Family YMCA\n
URL;VALUE=URI:https://ygametime.com/branch/putnam/sports/2021-fall-fall-soccer-2021/10403/?utm_medium=calendar&utm_source=team_cal&utm_content=league_url#game-245370
LOCATION:Field 7 (3/4)
BEGIN:VALARM
TRIGGER:-P2H
ACTION:DISPLAY
DESCRIPTION:Malone vs Randolph
END:VALARM
END:VEVENT
BEGIN:VEVENT
UID:putnam-259123@ygametime.com
DTSTAMP:20211105T211500Z
DTSTART;TZID=America/New_York:20211105T171500
DURATION:PT0H60M0S
SUMMARY:Randolph vs Andrea
DESCRIPTION:U6 | Fall Soccer 2021\nPutnam County Family YMCA\n
URL;VALUE=URI:https://ygametime.com/branch/putnam/sports/2021-fall-fall-soccer-2021/10403/?utm_medium=calendar&utm_source=team_cal&utm_content=league_url#game-259123
LOCATION:Field 7 (3/4)
BEGIN:VALARM
TRIGGER:-P2H
ACTION:DISPLAY
DESCRIPTION:Randolph vs Andrea
END:VALARM
END:VEVENT
BEGIN:VEVENT
UID:putnam-245383@ygametime.com
DTSTAMP:20211106T170000Z
DTSTART;TZID=America/New_York:20211106T130000
DURATION:PT0H60M0S
SUMMARY:Randolph vs Turner
DESCRIPTION:U6 | Fall Soccer 2021\nPutnam County Family YMCA\n
URL;VALUE=URI:https://ygametime.com/branch/putnam/sports/2021-fall-fall-soccer-2021/10403/?utm_medium=calendar&utm_source=team_cal&utm_content=league_url#game-245383
LOCATION:Field 9 (3/4)
BEGIN:VALARM
TRIGGER:-P2H
ACTION:DISPLAY
DESCRIPTION:Randolph vs Turner
END:VALARM
END:VEVENT
END:VCALENDAR

