BEGIN:VCALENDAR
VERSION:2.0
PRODID:-//YGAMETIME.com//YGT iCal Creator//EN
METHOD:PUBLISH
X-PUBLISHED-TTL:PT6H
REFRESH-INTERVAL;VALUE=DURATION:PT6H
CALSCALE:GREGORIAN
X-WR-CALNAME:YGAMETIME CALENDAR
BEGIN:VTIMEZONE
TZID:America/New_York
X-LIC-LOCATION:America/New_York
BEGIN:DAYLIGHT
TZOFFSETFROM:-0500
TZOFFSETTO:-0400
TZNAME:EDT
DTSTART:19700308T020000
RRULE:FREQ=YEARLY;BYMONTH=3;BYDAY=2SU
END:DAYLIGHT
BEGIN:STANDARD
TZOFFSETFROM:-0400
TZOFFSETTO:-0500
TZNAME:EST
DTSTART:19701101T020000
RRULE:FREQ=YEARLY;BYMONTH=11;BYDAY=1SU
END:STANDARD
END:VTIMEZONE
BEGIN:VEVENT
UID:putnam-245343@ygametime.com
DTSTAMP:20210911T130000Z
DTSTART;TZID=America/New_York:20210911T090000
DURATION:PT0H60M0S
SUMMARY:Ross vs Malone
DESCRIPTION:U6 | Fall Soccer 2021\nPutnam County Family YMCA\n
URL;VALUE=URI:https://ygametime.com/branch/putnam/sports/2021-fall-fall-soccer-2021/10403/?utm_medium=calendar&utm_source=team_cal&utm_content=league_url#game-245343
LOCATION:Field 7 (3/4)
BEGIN:VALARM
TRIGGER:-P2H
ACTION:DISPLAY
DESCRIPTION:Ross vs Malone
END:VALARM
END:VEVENT
BEGIN:VEVENT
UID:putnam-245384@ygametime.com
DTSTAMP:20210928T220000Z
DTSTART;TZID=America/New_York:20210928T180000
DURATION:PT0H60M0S
SUMMARY:Crabtree vs Ross
DESCRIPTION:U6 | Fall Soccer 2021\nPutnam County Family YMCA\n
URL;VALUE=URI:https://ygametime.com/branch/putnam/sports/2021-fall-fall-soccer-2021/10403/?utm_medium=calendar&utm_source=team_cal&utm_content=league_url#game-245384
LOCATION:Field 7 (3/4)
BEGIN:VALARM
TRIGGER:-P2H
ACTION:DISPLAY
DESCRIPTION:Crabtree vs Ross
END:VALARM
END:VEVENT
BEGIN:VEVENT
UID:putnam-245364@ygametime.com
DTSTAMP:20211016T130000Z
DTSTART;TZID=America/New_York:20211016T090000
DURATION:PT0H60M0S
SUMMARY:Scantland vs Ross
DESCRIPTION:U6 | Fall Soccer 2021\nPutnam County Family YMCA\n
URL;VALUE=URI:https://ygametime.com/branch/putnam/sports/2021-fall-fall-soccer-2021/10403/?utm_medium=calendar&utm_source=team_cal&utm_content=league_url#game-245364
LOCATION:Field 7 (3/4)
BEGIN:VALARM
TRIGGER:-P2H
ACTION:DISPLAY
DESCRIPTION:Scantland vs Ross
END:VALARM
END:VEVENT
BEGIN:VEVENT
UID:putnam-251991@ygametime.com
DTSTAMP:20211019T213000Z
DTSTART;TZID=America/New_York:20211019T173000
DURATION:PT0H60M0S
SUMMARY:Randolph vs Ross
DESCRIPTION:U6 | Fall Soccer 2021\nPutnam County Family YMCA\n
URL;VALUE=URI:https://ygametime.com/branch/putnam/sports/2021-fall-fall-soccer-2021/10403/?utm_medium=calendar&utm_source=team_cal&utm_content=league_url#game-251991
LOCATION:Field 9 (3/4)
BEGIN:VALARM
TRIGGER:-P2H
ACTION:DISPLAY
DESCRIPTION:Randolph vs Ross
END:VALARM
END:VEVENT
BEGIN:VEVENT
UID:putnam-245385@ygametime.com
DTSTAMP:20211026T213000Z
DTSTART;TZID=America/New_York:20211026T173000
DURATION:PT0H60M0S
SUMMARY:Mason vs Ross
DESCRIPTION:U6 | Fall Soccer 2021\nPutnam County Family YMCA\n
URL;VALUE=URI:https://ygametime.com/branch/putnam/sports/2021-fall-fall-soccer-2021/10403/?utm_medium=calendar&utm_source=team_cal&utm_content=league_url#game-245385
LOCATION:Field 7 (3/4)
BEGIN:VALARM
TRIGGER:-P2H
ACTION:DISPLAY
DESCRIPTION:Mason vs Ross
END:VALARM
END:VEVENT
BEGIN:VEVENT
UID:putnam-245386@ygametime.com
DTSTAMP:20211102T211500Z
DTSTART;TZID=America/New_York:20211102T171500
DURATION:PT0H60M0S
SUMMARY:Andrea vs Ross
DESCRIPTION:U6 | Fall Soccer 2021\nPutnam County Family YMCA\n
URL;VALUE=URI:https://ygametime.com/branch/putnam/sports/2021-fall-fall-soccer-2021/10403/?utm_medium=calendar&utm_source=team_cal&utm_content=league_url#game-245386
LOCATION:Field 9 (3/4)
BEGIN:VALARM
TRIGGER:-P2H
ACTION:DISPLAY
DESCRIPTION:Andrea vs Ross
END:VALARM
END:VEVENT
BEGIN:VEVENT
UID:putnam-258787@ygametime.com
DTSTAMP:20211104T211500Z
DTSTART;TZID=America/New_York:20211104T171500
DURATION:PT0H60M0S
SUMMARY:Ross vs Turner
DESCRIPTION:U6 | Fall Soccer 2021\nPutnam County Family YMCA\n
URL;VALUE=URI:https://ygametime.com/branch/putnam/sports/2021-fall-fall-soccer-2021/10403/?utm_medium=calendar&utm_source=team_cal&utm_content=league_url#game-258787
LOCATION:Field 7 (3/4)
BEGIN:VALARM
TRIGGER:-P2H
ACTION:DISPLAY
DESCRIPTION:Ross vs Turner
END:VALARM
END:VEVENT
END:VCALENDAR

