BEGIN:VCALENDAR
VERSION:2.0
PRODID:-//YGAMETIME.com//YGT iCal Creator//EN
METHOD:PUBLISH
X-PUBLISHED-TTL:PT6H
REFRESH-INTERVAL;VALUE=DURATION:PT6H
CALSCALE:GREGORIAN
X-WR-CALNAME:YGAMETIME CALENDAR
BEGIN:VTIMEZONE
TZID:America/New_York
X-LIC-LOCATION:America/New_York
BEGIN:DAYLIGHT
TZOFFSETFROM:-0500
TZOFFSETTO:-0400
TZNAME:EDT
DTSTART:19700308T020000
RRULE:FREQ=YEARLY;BYMONTH=3;BYDAY=2SU
END:DAYLIGHT
BEGIN:STANDARD
TZOFFSETFROM:-0400
TZOFFSETTO:-0500
TZNAME:EST
DTSTART:19701101T020000
RRULE:FREQ=YEARLY;BYMONTH=11;BYDAY=1SU
END:STANDARD
END:VTIMEZONE
BEGIN:VEVENT
UID:putnam-245397@ygametime.com
DTSTAMP:20210911T163000Z
DTSTART;TZID=America/New_York:20210911T123000
DURATION:PT0H60M0S
SUMMARY:Maxwell vs Krebs
DESCRIPTION:U8 | Fall Soccer 2021\nPutnam County Family YMCA\n
URL;VALUE=URI:https://ygametime.com/branch/putnam/sports/2021-fall-fall-soccer-2021/10404/?utm_medium=calendar&utm_source=team_cal&utm_content=league_url#game-245397
LOCATION:Field 5 (7/8)
BEGIN:VALARM
TRIGGER:-P2H
ACTION:DISPLAY
DESCRIPTION:Maxwell vs Krebs
END:VALARM
END:VEVENT
BEGIN:VEVENT
UID:putnam-245524@ygametime.com
DTSTAMP:20210927T213000Z
DTSTART;TZID=America/New_York:20210927T173000
DURATION:PT0H60M0S
SUMMARY:Lamb vs Maxwell
DESCRIPTION:U8 | Fall Soccer 2021\nPutnam County Family YMCA\n
URL;VALUE=URI:https://ygametime.com/branch/putnam/sports/2021-fall-fall-soccer-2021/10404/?utm_medium=calendar&utm_source=team_cal&utm_content=league_url#game-245524
LOCATION:Field 5 (7/8)
BEGIN:VALARM
TRIGGER:-P2H
ACTION:DISPLAY
DESCRIPTION:Lamb vs Maxwell
END:VALARM
END:VEVENT
BEGIN:VEVENT
UID:putnam-245419@ygametime.com
DTSTAMP:20211016T123000Z
DTSTART;TZID=America/New_York:20211016T083000
DURATION:PT0H60M0S
SUMMARY:Maxwell vs Shanks
DESCRIPTION:U8 | Fall Soccer 2021\nPutnam County Family YMCA\n
URL;VALUE=URI:https://ygametime.com/branch/putnam/sports/2021-fall-fall-soccer-2021/10404/?utm_medium=calendar&utm_source=team_cal&utm_content=league_url#game-245419
LOCATION:Field 4 (7/8)
BEGIN:VALARM
TRIGGER:-P2H
ACTION:DISPLAY
DESCRIPTION:Maxwell vs Shanks
END:VALARM
END:VEVENT
BEGIN:VEVENT
UID:putnam-251967@ygametime.com
DTSTAMP:20211018T211500Z
DTSTART;TZID=America/New_York:20211018T171500
DURATION:PT0H60M0S
SUMMARY:Maxwell vs Null
DESCRIPTION:U8 | Fall Soccer 2021\nPutnam County Family YMCA\n
URL;VALUE=URI:https://ygametime.com/branch/putnam/sports/2021-fall-fall-soccer-2021/10404/?utm_medium=calendar&utm_source=team_cal&utm_content=league_url#game-251967
LOCATION:Field 4 (7/8)
BEGIN:VALARM
TRIGGER:-P2H
ACTION:DISPLAY
DESCRIPTION:Maxwell vs Null
END:VALARM
END:VEVENT
BEGIN:VEVENT
UID:putnam-245425@ygametime.com
DTSTAMP:20211023T133000Z
DTSTART;TZID=America/New_York:20211023T093000
DURATION:PT0H60M0S
SUMMARY:Maxwell vs Flatt
DESCRIPTION:U8 | Fall Soccer 2021\nPutnam County Family YMCA\n
URL;VALUE=URI:https://ygametime.com/branch/putnam/sports/2021-fall-fall-soccer-2021/10404/?utm_medium=calendar&utm_source=team_cal&utm_content=league_url#game-245425
LOCATION:Field 5 (7/8)
BEGIN:VALARM
TRIGGER:-P2H
ACTION:DISPLAY
DESCRIPTION:Maxwell vs Flatt
END:VALARM
END:VEVENT
BEGIN:VEVENT
UID:putnam-245423@ygametime.com
DTSTAMP:20211023T143000Z
DTSTART;TZID=America/New_York:20211023T103000
DURATION:PT0H60M0S
SUMMARY:Lamb vs Maxwell
DESCRIPTION:U8 | Fall Soccer 2021\nPutnam County Family YMCA\n
URL;VALUE=URI:https://ygametime.com/branch/putnam/sports/2021-fall-fall-soccer-2021/10404/?utm_medium=calendar&utm_source=team_cal&utm_content=league_url#game-245423
LOCATION:Field 5 (7/8)
BEGIN:VALARM
TRIGGER:-P2H
ACTION:DISPLAY
DESCRIPTION:Lamb vs Maxwell
END:VALARM
END:VEVENT
BEGIN:VEVENT
UID:putnam-245392@ygametime.com
DTSTAMP:20211106T153000Z
DTSTART;TZID=America/New_York:20211106T113000
DURATION:PT0H60M0S
SUMMARY:Eldridge vs Maxwell
DESCRIPTION:U8 | Fall Soccer 2021\nPutnam County Family YMCA\n
URL;VALUE=URI:https://ygametime.com/branch/putnam/sports/2021-fall-fall-soccer-2021/10404/?utm_medium=calendar&utm_source=team_cal&utm_content=league_url#game-245392
LOCATION:Field 4 (7/8)
BEGIN:VALARM
TRIGGER:-P2H
ACTION:DISPLAY
DESCRIPTION:Eldridge vs Maxwell
END:VALARM
END:VEVENT
END:VCALENDAR

