BEGIN:VCALENDAR
VERSION:2.0
PRODID:-//YGAMETIME.com//YGT iCal Creator//EN
METHOD:PUBLISH
X-PUBLISHED-TTL:PT6H
REFRESH-INTERVAL;VALUE=DURATION:PT6H
CALSCALE:GREGORIAN
X-WR-CALNAME:YGAMETIME CALENDAR
BEGIN:VTIMEZONE
TZID:America/New_York
X-LIC-LOCATION:America/New_York
BEGIN:DAYLIGHT
TZOFFSETFROM:-0500
TZOFFSETTO:-0400
TZNAME:EDT
DTSTART:19700308T020000
RRULE:FREQ=YEARLY;BYMONTH=3;BYDAY=2SU
END:DAYLIGHT
BEGIN:STANDARD
TZOFFSETFROM:-0400
TZOFFSETTO:-0500
TZNAME:EST
DTSTART:19701101T020000
RRULE:FREQ=YEARLY;BYMONTH=11;BYDAY=1SU
END:STANDARD
END:VTIMEZONE
BEGIN:VEVENT
UID:putnam-245398@ygametime.com
DTSTAMP:20210911T123000Z
DTSTART;TZID=America/New_York:20210911T083000
DURATION:PT0H60M0S
SUMMARY:Lamb vs Null
DESCRIPTION:U8 | Fall Soccer 2021\nPutnam County Family YMCA\n
URL;VALUE=URI:https://ygametime.com/branch/putnam/sports/2021-fall-fall-soccer-2021/10404/?utm_medium=calendar&utm_source=team_cal&utm_content=league_url#game-245398
LOCATION:Field 4 (7/8)
BEGIN:VALARM
TRIGGER:-P2H
ACTION:DISPLAY
DESCRIPTION:Lamb vs Null
END:VALARM
END:VEVENT
BEGIN:VEVENT
UID:putnam-245403@ygametime.com
DTSTAMP:20210925T153000Z
DTSTART;TZID=America/New_York:20210925T113000
DURATION:PT0H60M0S
SUMMARY:Null vs Flatt
DESCRIPTION:U8 | Fall Soccer 2021\nPutnam County Family YMCA\n
URL;VALUE=URI:https://ygametime.com/branch/putnam/sports/2021-fall-fall-soccer-2021/10404/?utm_medium=calendar&utm_source=team_cal&utm_content=league_url#game-245403
LOCATION:Field 5 (7/8)
BEGIN:VALARM
TRIGGER:-P2H
ACTION:DISPLAY
DESCRIPTION:Null vs Flatt
END:VALARM
END:VEVENT
BEGIN:VEVENT
UID:putnam-245418@ygametime.com
DTSTAMP:20211016T153000Z
DTSTART;TZID=America/New_York:20211016T113000
DURATION:PT0H60M0S
SUMMARY:Krebs vs Null
DESCRIPTION:U8 | Fall Soccer 2021\nPutnam County Family YMCA\n
URL;VALUE=URI:https://ygametime.com/branch/putnam/sports/2021-fall-fall-soccer-2021/10404/?utm_medium=calendar&utm_source=team_cal&utm_content=league_url#game-245418
LOCATION:Field 5 (7/8)
BEGIN:VALARM
TRIGGER:-P2H
ACTION:DISPLAY
DESCRIPTION:Krebs vs Null
END:VALARM
END:VEVENT
BEGIN:VEVENT
UID:putnam-251967@ygametime.com
DTSTAMP:20211018T211500Z
DTSTART;TZID=America/New_York:20211018T171500
DURATION:PT0H60M0S
SUMMARY:Maxwell vs Null
DESCRIPTION:U8 | Fall Soccer 2021\nPutnam County Family YMCA\n
URL;VALUE=URI:https://ygametime.com/branch/putnam/sports/2021-fall-fall-soccer-2021/10404/?utm_medium=calendar&utm_source=team_cal&utm_content=league_url#game-251967
LOCATION:Field 4 (7/8)
BEGIN:VALARM
TRIGGER:-P2H
ACTION:DISPLAY
DESCRIPTION:Maxwell vs Null
END:VALARM
END:VEVENT
BEGIN:VEVENT
UID:putnam-245421@ygametime.com
DTSTAMP:20211023T123000Z
DTSTART;TZID=America/New_York:20211023T083000
DURATION:PT0H60M0S
SUMMARY:Null vs Stiles
DESCRIPTION:U8 | Fall Soccer 2021\nPutnam County Family YMCA\n
URL;VALUE=URI:https://ygametime.com/branch/putnam/sports/2021-fall-fall-soccer-2021/10404/?utm_medium=calendar&utm_source=team_cal&utm_content=league_url#game-245421
LOCATION:Field 4 (7/8)
BEGIN:VALARM
TRIGGER:-P2H
ACTION:DISPLAY
DESCRIPTION:Null vs Stiles
END:VALARM
END:VEVENT
BEGIN:VEVENT
UID:putnam-252217@ygametime.com
DTSTAMP:20211101T211500Z
DTSTART;TZID=America/New_York:20211101T171500
DURATION:PT0H60M0S
SUMMARY:Lamb vs Null
DESCRIPTION:U8 | Fall Soccer 2021\nPutnam County Family YMCA\n
URL;VALUE=URI:https://ygametime.com/branch/putnam/sports/2021-fall-fall-soccer-2021/10404/?utm_medium=calendar&utm_source=team_cal&utm_content=league_url#game-252217
LOCATION:Field 4 (7/8)
BEGIN:VALARM
TRIGGER:-P2H
ACTION:DISPLAY
DESCRIPTION:Lamb vs Null
END:VALARM
END:VEVENT
BEGIN:VEVENT
UID:putnam-245393@ygametime.com
DTSTAMP:20211106T123000Z
DTSTART;TZID=America/New_York:20211106T083000
DURATION:PT0H60M0S
SUMMARY:Null vs Shanks
DESCRIPTION:U8 | Fall Soccer 2021\nPutnam County Family YMCA\n
URL;VALUE=URI:https://ygametime.com/branch/putnam/sports/2021-fall-fall-soccer-2021/10404/?utm_medium=calendar&utm_source=team_cal&utm_content=league_url#game-245393
LOCATION:Field 4 (7/8)
BEGIN:VALARM
TRIGGER:-P2H
ACTION:DISPLAY
DESCRIPTION:Null vs Shanks
END:VALARM
END:VEVENT
BEGIN:VEVENT
UID:putnam-259120@ygametime.com
DTSTAMP:20211106T133000Z
DTSTART;TZID=America/New_York:20211106T093000
DURATION:PT0H60M0S
SUMMARY:Null vs Lamb
DESCRIPTION:U8 | Fall Soccer 2021\nPutnam County Family YMCA\n
URL;VALUE=URI:https://ygametime.com/branch/putnam/sports/2021-fall-fall-soccer-2021/10404/?utm_medium=calendar&utm_source=team_cal&utm_content=league_url#game-259120
LOCATION:Field 4 (7/8)
BEGIN:VALARM
TRIGGER:-P2H
ACTION:DISPLAY
DESCRIPTION:Null vs Lamb
END:VALARM
END:VEVENT
END:VCALENDAR

