BEGIN:VCALENDAR
VERSION:2.0
PRODID:-//YGAMETIME.com//YGT iCal Creator//EN
METHOD:PUBLISH
X-PUBLISHED-TTL:PT6H
REFRESH-INTERVAL;VALUE=DURATION:PT6H
CALSCALE:GREGORIAN
X-WR-CALNAME:YGAMETIME CALENDAR
BEGIN:VTIMEZONE
TZID:America/New_York
X-LIC-LOCATION:America/New_York
BEGIN:DAYLIGHT
TZOFFSETFROM:-0500
TZOFFSETTO:-0400
TZNAME:EDT
DTSTART:19700308T020000
RRULE:FREQ=YEARLY;BYMONTH=3;BYDAY=2SU
END:DAYLIGHT
BEGIN:STANDARD
TZOFFSETFROM:-0400
TZOFFSETTO:-0500
TZNAME:EST
DTSTART:19701101T020000
RRULE:FREQ=YEARLY;BYMONTH=11;BYDAY=1SU
END:STANDARD
END:VTIMEZONE
BEGIN:VEVENT
UID:putnam-245429@ygametime.com
DTSTAMP:20210911T133000Z
DTSTART;TZID=America/New_York:20210911T093000
DURATION:PT0H60M0S
SUMMARY:Lamb vs Flatt
DESCRIPTION:U8 | Fall Soccer 2021\nPutnam County Family YMCA\n
URL;VALUE=URI:https://ygametime.com/branch/putnam/sports/2021-fall-fall-soccer-2021/10404/?utm_medium=calendar&utm_source=team_cal&utm_content=league_url#game-245429
LOCATION:Field 4 (7/8)
BEGIN:VALARM
TRIGGER:-P2H
ACTION:DISPLAY
DESCRIPTION:Lamb vs Flatt
END:VALARM
END:VEVENT
BEGIN:VEVENT
UID:putnam-245396@ygametime.com
DTSTAMP:20210911T143000Z
DTSTART;TZID=America/New_York:20210911T103000
DURATION:PT0H60M0S
SUMMARY:Shanks vs Flatt
DESCRIPTION:U8 | Fall Soccer 2021\nPutnam County Family YMCA\n
URL;VALUE=URI:https://ygametime.com/branch/putnam/sports/2021-fall-fall-soccer-2021/10404/?utm_medium=calendar&utm_source=team_cal&utm_content=league_url#game-245396
LOCATION:Field 5 (7/8)
BEGIN:VALARM
TRIGGER:-P2H
ACTION:DISPLAY
DESCRIPTION:Shanks vs Flatt
END:VALARM
END:VEVENT
BEGIN:VEVENT
UID:putnam-245403@ygametime.com
DTSTAMP:20210925T153000Z
DTSTART;TZID=America/New_York:20210925T113000
DURATION:PT0H60M0S
SUMMARY:Null vs Flatt
DESCRIPTION:U8 | Fall Soccer 2021\nPutnam County Family YMCA\n
URL;VALUE=URI:https://ygametime.com/branch/putnam/sports/2021-fall-fall-soccer-2021/10404/?utm_medium=calendar&utm_source=team_cal&utm_content=league_url#game-245403
LOCATION:Field 5 (7/8)
BEGIN:VALARM
TRIGGER:-P2H
ACTION:DISPLAY
DESCRIPTION:Null vs Flatt
END:VALARM
END:VEVENT
BEGIN:VEVENT
UID:putnam-245420@ygametime.com
DTSTAMP:20211016T143000Z
DTSTART;TZID=America/New_York:20211016T103000
DURATION:PT0H60M0S
SUMMARY:Eldridge vs Flatt
DESCRIPTION:U8 | Fall Soccer 2021\nPutnam County Family YMCA\n
URL;VALUE=URI:https://ygametime.com/branch/putnam/sports/2021-fall-fall-soccer-2021/10404/?utm_medium=calendar&utm_source=team_cal&utm_content=league_url#game-245420
LOCATION:Field 4 (7/8)
BEGIN:VALARM
TRIGGER:-P2H
ACTION:DISPLAY
DESCRIPTION:Eldridge vs Flatt
END:VALARM
END:VEVENT
BEGIN:VEVENT
UID:putnam-245425@ygametime.com
DTSTAMP:20211023T133000Z
DTSTART;TZID=America/New_York:20211023T093000
DURATION:PT0H60M0S
SUMMARY:Maxwell vs Flatt
DESCRIPTION:U8 | Fall Soccer 2021\nPutnam County Family YMCA\n
URL;VALUE=URI:https://ygametime.com/branch/putnam/sports/2021-fall-fall-soccer-2021/10404/?utm_medium=calendar&utm_source=team_cal&utm_content=league_url#game-245425
LOCATION:Field 5 (7/8)
BEGIN:VALARM
TRIGGER:-P2H
ACTION:DISPLAY
DESCRIPTION:Maxwell vs Flatt
END:VALARM
END:VEVENT
BEGIN:VEVENT
UID:putnam-251990@ygametime.com
DTSTAMP:20211026T213000Z
DTSTART;TZID=America/New_York:20211026T173000
DURATION:PT0H60M0S
SUMMARY:Bottoms vs Flatt
DESCRIPTION:U8 | Fall Soccer 2021\nPutnam County Family YMCA\n
URL;VALUE=URI:https://ygametime.com/branch/putnam/sports/2021-fall-fall-soccer-2021/10404/?utm_medium=calendar&utm_source=team_cal&utm_content=league_url#game-251990
LOCATION:Field 5 (7/8)
BEGIN:VALARM
TRIGGER:-P2H
ACTION:DISPLAY
DESCRIPTION:Bottoms vs Flatt
END:VALARM
END:VEVENT
BEGIN:VEVENT
UID:putnam-245395@ygametime.com
DTSTAMP:20211106T173000Z
DTSTART;TZID=America/New_York:20211106T133000
DURATION:PT0H60M0S
SUMMARY:Stiles vs Flatt
DESCRIPTION:U8 | Fall Soccer 2021\nPutnam County Family YMCA\n
URL;VALUE=URI:https://ygametime.com/branch/putnam/sports/2021-fall-fall-soccer-2021/10404/?utm_medium=calendar&utm_source=team_cal&utm_content=league_url#game-245395
LOCATION:Field 4 (7/8)
BEGIN:VALARM
TRIGGER:-P2H
ACTION:DISPLAY
DESCRIPTION:Stiles vs Flatt
END:VALARM
END:VEVENT
END:VCALENDAR

