BEGIN:VCALENDAR
VERSION:2.0
PRODID:-//YGAMETIME.com//YGT iCal Creator//EN
METHOD:PUBLISH
X-PUBLISHED-TTL:PT6H
REFRESH-INTERVAL;VALUE=DURATION:PT6H
CALSCALE:GREGORIAN
X-WR-CALNAME:YGAMETIME CALENDAR
BEGIN:VTIMEZONE
TZID:America/New_York
X-LIC-LOCATION:America/New_York
BEGIN:DAYLIGHT
TZOFFSETFROM:-0500
TZOFFSETTO:-0400
TZNAME:EDT
DTSTART:19700308T020000
RRULE:FREQ=YEARLY;BYMONTH=3;BYDAY=2SU
END:DAYLIGHT
BEGIN:STANDARD
TZOFFSETFROM:-0400
TZOFFSETTO:-0500
TZNAME:EST
DTSTART:19701101T020000
RRULE:FREQ=YEARLY;BYMONTH=11;BYDAY=1SU
END:STANDARD
END:VTIMEZONE
BEGIN:VEVENT
UID:putnam-245428@ygametime.com
DTSTAMP:20210914T211500Z
DTSTART;TZID=America/New_York:20210914T171500
DURATION:PT0H60M0S
SUMMARY:Eldridge vs Bottoms
DESCRIPTION:U8 | Fall Soccer 2021\nPutnam County Family YMCA\n
URL;VALUE=URI:https://ygametime.com/branch/putnam/sports/2021-fall-fall-soccer-2021/10404/?utm_medium=calendar&utm_source=team_cal&utm_content=league_url#game-245428
LOCATION:
BEGIN:VALARM
TRIGGER:-P2H
ACTION:DISPLAY
DESCRIPTION:Eldridge vs Bottoms
END:VALARM
END:VEVENT
BEGIN:VEVENT
UID:putnam-245402@ygametime.com
DTSTAMP:20210925T133000Z
DTSTART;TZID=America/New_York:20210925T093000
DURATION:PT0H60M0S
SUMMARY:Stiles vs Eldridge
DESCRIPTION:U8 | Fall Soccer 2021\nPutnam County Family YMCA\n
URL;VALUE=URI:https://ygametime.com/branch/putnam/sports/2021-fall-fall-soccer-2021/10404/?utm_medium=calendar&utm_source=team_cal&utm_content=league_url#game-245402
LOCATION:Field 4 (7/8)
BEGIN:VALARM
TRIGGER:-P2H
ACTION:DISPLAY
DESCRIPTION:Stiles vs Eldridge
END:VALARM
END:VEVENT
BEGIN:VEVENT
UID:putnam-245405@ygametime.com
DTSTAMP:20210925T143000Z
DTSTART;TZID=America/New_York:20210925T103000
DURATION:PT0H60M0S
SUMMARY:Krebs vs Eldridge
DESCRIPTION:U8 | Fall Soccer 2021\nPutnam County Family YMCA\n
URL;VALUE=URI:https://ygametime.com/branch/putnam/sports/2021-fall-fall-soccer-2021/10404/?utm_medium=calendar&utm_source=team_cal&utm_content=league_url#game-245405
LOCATION:Field 4 (7/8)
BEGIN:VALARM
TRIGGER:-P2H
ACTION:DISPLAY
DESCRIPTION:Krebs vs Eldridge
END:VALARM
END:VEVENT
BEGIN:VEVENT
UID:putnam-245420@ygametime.com
DTSTAMP:20211016T143000Z
DTSTART;TZID=America/New_York:20211016T103000
DURATION:PT0H60M0S
SUMMARY:Eldridge vs Flatt
DESCRIPTION:U8 | Fall Soccer 2021\nPutnam County Family YMCA\n
URL;VALUE=URI:https://ygametime.com/branch/putnam/sports/2021-fall-fall-soccer-2021/10404/?utm_medium=calendar&utm_source=team_cal&utm_content=league_url#game-245420
LOCATION:Field 4 (7/8)
BEGIN:VALARM
TRIGGER:-P2H
ACTION:DISPLAY
DESCRIPTION:Eldridge vs Flatt
END:VALARM
END:VEVENT
BEGIN:VEVENT
UID:putnam-245422@ygametime.com
DTSTAMP:20211023T153000Z
DTSTART;TZID=America/New_York:20211023T113000
DURATION:PT0H60M0S
SUMMARY:Shanks vs Eldridge
DESCRIPTION:U8 | Fall Soccer 2021\nPutnam County Family YMCA\n
URL;VALUE=URI:https://ygametime.com/branch/putnam/sports/2021-fall-fall-soccer-2021/10404/?utm_medium=calendar&utm_source=team_cal&utm_content=league_url#game-245422
LOCATION:Field 4 (7/8)
BEGIN:VALARM
TRIGGER:-P2H
ACTION:DISPLAY
DESCRIPTION:Shanks vs Eldridge
END:VALARM
END:VEVENT
BEGIN:VEVENT
UID:putnam-259121@ygametime.com
DTSTAMP:20211106T143000Z
DTSTART;TZID=America/New_York:20211106T103000
DURATION:PT0H60M0S
SUMMARY:Shanks vs Eldridge
DESCRIPTION:U8 | Fall Soccer 2021\nPutnam County Family YMCA\n
URL;VALUE=URI:https://ygametime.com/branch/putnam/sports/2021-fall-fall-soccer-2021/10404/?utm_medium=calendar&utm_source=team_cal&utm_content=league_url#game-259121
LOCATION:Field 4 (7/8)
BEGIN:VALARM
TRIGGER:-P2H
ACTION:DISPLAY
DESCRIPTION:Shanks vs Eldridge
END:VALARM
END:VEVENT
BEGIN:VEVENT
UID:putnam-245392@ygametime.com
DTSTAMP:20211106T153000Z
DTSTART;TZID=America/New_York:20211106T113000
DURATION:PT0H60M0S
SUMMARY:Eldridge vs Maxwell
DESCRIPTION:U8 | Fall Soccer 2021\nPutnam County Family YMCA\n
URL;VALUE=URI:https://ygametime.com/branch/putnam/sports/2021-fall-fall-soccer-2021/10404/?utm_medium=calendar&utm_source=team_cal&utm_content=league_url#game-245392
LOCATION:Field 4 (7/8)
BEGIN:VALARM
TRIGGER:-P2H
ACTION:DISPLAY
DESCRIPTION:Eldridge vs Maxwell
END:VALARM
END:VEVENT
END:VCALENDAR

