BEGIN:VCALENDAR
VERSION:2.0
PRODID:-//YGAMETIME.com//YGT iCal Creator//EN
METHOD:PUBLISH
X-PUBLISHED-TTL:PT6H
REFRESH-INTERVAL;VALUE=DURATION:PT6H
CALSCALE:GREGORIAN
X-WR-CALNAME:YGAMETIME CALENDAR
BEGIN:VTIMEZONE
TZID:America/New_York
X-LIC-LOCATION:America/New_York
BEGIN:DAYLIGHT
TZOFFSETFROM:-0500
TZOFFSETTO:-0400
TZNAME:EDT
DTSTART:19700308T020000
RRULE:FREQ=YEARLY;BYMONTH=3;BYDAY=2SU
END:DAYLIGHT
BEGIN:STANDARD
TZOFFSETFROM:-0400
TZOFFSETTO:-0500
TZNAME:EST
DTSTART:19701101T020000
RRULE:FREQ=YEARLY;BYMONTH=11;BYDAY=1SU
END:STANDARD
END:VTIMEZONE
BEGIN:VEVENT
UID:putnam-245397@ygametime.com
DTSTAMP:20210911T163000Z
DTSTART;TZID=America/New_York:20210911T123000
DURATION:PT0H60M0S
SUMMARY:Maxwell vs Krebs
DESCRIPTION:U8 | Fall Soccer 2021\nPutnam County Family YMCA\n
URL;VALUE=URI:https://ygametime.com/branch/putnam/sports/2021-fall-fall-soccer-2021/10404/?utm_medium=calendar&utm_source=team_cal&utm_content=league_url#game-245397
LOCATION:Field 5 (7/8)
BEGIN:VALARM
TRIGGER:-P2H
ACTION:DISPLAY
DESCRIPTION:Maxwell vs Krebs
END:VALARM
END:VEVENT
BEGIN:VEVENT
UID:putnam-245405@ygametime.com
DTSTAMP:20210925T143000Z
DTSTART;TZID=America/New_York:20210925T103000
DURATION:PT0H60M0S
SUMMARY:Krebs vs Eldridge
DESCRIPTION:U8 | Fall Soccer 2021\nPutnam County Family YMCA\n
URL;VALUE=URI:https://ygametime.com/branch/putnam/sports/2021-fall-fall-soccer-2021/10404/?utm_medium=calendar&utm_source=team_cal&utm_content=league_url#game-245405
LOCATION:Field 4 (7/8)
BEGIN:VALARM
TRIGGER:-P2H
ACTION:DISPLAY
DESCRIPTION:Krebs vs Eldridge
END:VALARM
END:VEVENT
BEGIN:VEVENT
UID:putnam-252604@ygametime.com
DTSTAMP:20210930T213000Z
DTSTART;TZID=America/New_York:20210930T173000
DURATION:PT0H60M0S
SUMMARY:Krebs vs Shanks
DESCRIPTION:U8 | Fall Soccer 2021\nPutnam County Family YMCA\n
URL;VALUE=URI:https://ygametime.com/branch/putnam/sports/2021-fall-fall-soccer-2021/10404/?utm_medium=calendar&utm_source=team_cal&utm_content=league_url#game-252604
LOCATION:
BEGIN:VALARM
TRIGGER:-P2H
ACTION:DISPLAY
DESCRIPTION:Krebs vs Shanks
END:VALARM
END:VEVENT
BEGIN:VEVENT
UID:putnam-245418@ygametime.com
DTSTAMP:20211016T153000Z
DTSTART;TZID=America/New_York:20211016T113000
DURATION:PT0H60M0S
SUMMARY:Krebs vs Null
DESCRIPTION:U8 | Fall Soccer 2021\nPutnam County Family YMCA\n
URL;VALUE=URI:https://ygametime.com/branch/putnam/sports/2021-fall-fall-soccer-2021/10404/?utm_medium=calendar&utm_source=team_cal&utm_content=league_url#game-245418
LOCATION:Field 5 (7/8)
BEGIN:VALARM
TRIGGER:-P2H
ACTION:DISPLAY
DESCRIPTION:Krebs vs Null
END:VALARM
END:VEVENT
BEGIN:VEVENT
UID:putnam-245424@ygametime.com
DTSTAMP:20211023T163000Z
DTSTART;TZID=America/New_York:20211023T123000
DURATION:PT0H60M0S
SUMMARY:Krebs vs Bottoms
DESCRIPTION:U8 | Fall Soccer 2021\nPutnam County Family YMCA\n
URL;VALUE=URI:https://ygametime.com/branch/putnam/sports/2021-fall-fall-soccer-2021/10404/?utm_medium=calendar&utm_source=team_cal&utm_content=league_url#game-245424
LOCATION:Field 5 (7/8)
BEGIN:VALARM
TRIGGER:-P2H
ACTION:DISPLAY
DESCRIPTION:Krebs vs Bottoms
END:VALARM
END:VEVENT
BEGIN:VEVENT
UID:putnam-255727@ygametime.com
DTSTAMP:20211105T211500Z
DTSTART;TZID=America/New_York:20211105T171500
DURATION:PT0H60M0S
SUMMARY:Krebs vs Stiles
DESCRIPTION:U8 | Fall Soccer 2021\nPutnam County Family YMCA\n
URL;VALUE=URI:https://ygametime.com/branch/putnam/sports/2021-fall-fall-soccer-2021/10404/?utm_medium=calendar&utm_source=team_cal&utm_content=league_url#game-255727
LOCATION:Field 5 (7/8)
BEGIN:VALARM
TRIGGER:-P2H
ACTION:DISPLAY
DESCRIPTION:Krebs vs Stiles
END:VALARM
END:VEVENT
BEGIN:VEVENT
UID:putnam-245394@ygametime.com
DTSTAMP:20211106T163000Z
DTSTART;TZID=America/New_York:20211106T123000
DURATION:PT0H60M0S
SUMMARY:Krebs vs Bottoms
DESCRIPTION:U8 | Fall Soccer 2021\nPutnam County Family YMCA\n
URL;VALUE=URI:https://ygametime.com/branch/putnam/sports/2021-fall-fall-soccer-2021/10404/?utm_medium=calendar&utm_source=team_cal&utm_content=league_url#game-245394
LOCATION:Field 5 (7/8)
BEGIN:VALARM
TRIGGER:-P2H
ACTION:DISPLAY
DESCRIPTION:Krebs vs Bottoms
END:VALARM
END:VEVENT
END:VCALENDAR

