BEGIN:VCALENDAR
VERSION:2.0
PRODID:-//YGAMETIME.com//YGT iCal Creator//EN
METHOD:PUBLISH
X-PUBLISHED-TTL:PT6H
REFRESH-INTERVAL;VALUE=DURATION:PT6H
CALSCALE:GREGORIAN
X-WR-CALNAME:YGAMETIME CALENDAR
BEGIN:VTIMEZONE
TZID:America/New_York
X-LIC-LOCATION:America/New_York
BEGIN:DAYLIGHT
TZOFFSETFROM:-0500
TZOFFSETTO:-0400
TZNAME:EDT
DTSTART:19700308T020000
RRULE:FREQ=YEARLY;BYMONTH=3;BYDAY=2SU
END:DAYLIGHT
BEGIN:STANDARD
TZOFFSETFROM:-0400
TZOFFSETTO:-0500
TZNAME:EST
DTSTART:19701101T020000
RRULE:FREQ=YEARLY;BYMONTH=11;BYDAY=1SU
END:STANDARD
END:VTIMEZONE
BEGIN:VEVENT
UID:putnam-245740@ygametime.com
DTSTAMP:20210911T130000Z
DTSTART;TZID=America/New_York:20210911T090000
DURATION:PT0H90M0S
SUMMARY:Michael vs Bowers
DESCRIPTION:U10 | Fall Soccer 2021\nPutnam County Family YMCA\n
URL;VALUE=URI:https://ygametime.com/branch/putnam/sports/2021-fall-fall-soccer-2021/10405/?utm_medium=calendar&utm_source=team_cal&utm_content=league_url#game-245740
LOCATION:Field 1 (9/11) Practice field
BEGIN:VALARM
TRIGGER:-P2H
ACTION:DISPLAY
DESCRIPTION:Michael vs Bowers
END:VALARM
END:VEVENT
BEGIN:VEVENT
UID:putnam-245757@ygametime.com
DTSTAMP:20210921T213000Z
DTSTART;TZID=America/New_York:20210921T173000
DURATION:PT0H90M0S
SUMMARY:Bowers vs Deason
DESCRIPTION:U10 | Fall Soccer 2021\nPutnam County Family YMCA\n
URL;VALUE=URI:https://ygametime.com/branch/putnam/sports/2021-fall-fall-soccer-2021/10405/?utm_medium=calendar&utm_source=team_cal&utm_content=league_url#game-245757
LOCATION:
BEGIN:VALARM
TRIGGER:-P2H
ACTION:DISPLAY
DESCRIPTION:Bowers vs Deason
END:VALARM
END:VEVENT
BEGIN:VEVENT
UID:putnam-245755@ygametime.com
DTSTAMP:20210928T213000Z
DTSTART;TZID=America/New_York:20210928T173000
DURATION:PT0H90M0S
SUMMARY:Brown vs Bowers
DESCRIPTION:U10 | Fall Soccer 2021\nPutnam County Family YMCA\n
URL;VALUE=URI:https://ygametime.com/branch/putnam/sports/2021-fall-fall-soccer-2021/10405/?utm_medium=calendar&utm_source=team_cal&utm_content=league_url#game-245755
LOCATION:
BEGIN:VALARM
TRIGGER:-P2H
ACTION:DISPLAY
DESCRIPTION:Brown vs Bowers
END:VALARM
END:VEVENT
BEGIN:VEVENT
UID:putnam-245754@ygametime.com
DTSTAMP:20211016T130000Z
DTSTART;TZID=America/New_York:20211016T090000
DURATION:PT0H90M0S
SUMMARY:Fancher vs Bowers
DESCRIPTION:U10 | Fall Soccer 2021\nPutnam County Family YMCA\n
URL;VALUE=URI:https://ygametime.com/branch/putnam/sports/2021-fall-fall-soccer-2021/10405/?utm_medium=calendar&utm_source=team_cal&utm_content=league_url#game-245754
LOCATION:Field 1 (9/11) Practice field
BEGIN:VALARM
TRIGGER:-P2H
ACTION:DISPLAY
DESCRIPTION:Fancher vs Bowers
END:VALARM
END:VEVENT
BEGIN:VEVENT
UID:putnam-245756@ygametime.com
DTSTAMP:20211019T210000Z
DTSTART;TZID=America/New_York:20211019T170000
DURATION:PT0H90M0S
SUMMARY:Bowers vs Brown
DESCRIPTION:U10 | Fall Soccer 2021\nPutnam County Family YMCA\n
URL;VALUE=URI:https://ygametime.com/branch/putnam/sports/2021-fall-fall-soccer-2021/10405/?utm_medium=calendar&utm_source=team_cal&utm_content=league_url#game-245756
LOCATION:
BEGIN:VALARM
TRIGGER:-P2H
ACTION:DISPLAY
DESCRIPTION:Bowers vs Brown
END:VALARM
END:VEVENT
BEGIN:VEVENT
UID:putnam-256950@ygametime.com
DTSTAMP:20211102T210000Z
DTSTART;TZID=America/New_York:20211102T170000
DURATION:PT0H90M0S
SUMMARY:Bowers vs Brown
DESCRIPTION:U10 | Fall Soccer 2021\nPutnam County Family YMCA\n
URL;VALUE=URI:https://ygametime.com/branch/putnam/sports/2021-fall-fall-soccer-2021/10405/?utm_medium=calendar&utm_source=team_cal&utm_content=league_url#game-256950
LOCATION:Field 1 (9/11) Practice field
BEGIN:VALARM
TRIGGER:-P2H
ACTION:DISPLAY
DESCRIPTION:Bowers vs Brown
END:VALARM
END:VEVENT
BEGIN:VEVENT
UID:putnam-256952@ygametime.com
DTSTAMP:20211105T210000Z
DTSTART;TZID=America/New_York:20211105T170000
DURATION:PT0H90M0S
SUMMARY:Bowers vs Deason
DESCRIPTION:U10 | Fall Soccer 2021\nPutnam County Family YMCA\n
URL;VALUE=URI:https://ygametime.com/branch/putnam/sports/2021-fall-fall-soccer-2021/10405/?utm_medium=calendar&utm_source=team_cal&utm_content=league_url#game-256952
LOCATION:Field 1 (9/11) Practice field
BEGIN:VALARM
TRIGGER:-P2H
ACTION:DISPLAY
DESCRIPTION:Bowers vs Deason
END:VALARM
END:VEVENT
BEGIN:VEVENT
UID:putnam-252605@ygametime.com
DTSTAMP:20211106T133000Z
DTSTART;TZID=America/New_York:20211106T093000
DURATION:PT0H90M0S
SUMMARY:Bowers vs Presley
DESCRIPTION:U10 | Fall Soccer 2021\nPutnam County Family YMCA\n
URL;VALUE=URI:https://ygametime.com/branch/putnam/sports/2021-fall-fall-soccer-2021/10405/?utm_medium=calendar&utm_source=team_cal&utm_content=league_url#game-252605
LOCATION:
BEGIN:VALARM
TRIGGER:-P2H
ACTION:DISPLAY
DESCRIPTION:Bowers vs Presley
END:VALARM
END:VEVENT
END:VCALENDAR

