BEGIN:VCALENDAR
VERSION:2.0
PRODID:-//YGAMETIME.com//YGT iCal Creator//EN
METHOD:PUBLISH
X-PUBLISHED-TTL:PT6H
REFRESH-INTERVAL;VALUE=DURATION:PT6H
CALSCALE:GREGORIAN
X-WR-CALNAME:YGAMETIME CALENDAR
BEGIN:VTIMEZONE
TZID:America/New_York
X-LIC-LOCATION:America/New_York
BEGIN:DAYLIGHT
TZOFFSETFROM:-0500
TZOFFSETTO:-0400
TZNAME:EDT
DTSTART:19700308T020000
RRULE:FREQ=YEARLY;BYMONTH=3;BYDAY=2SU
END:DAYLIGHT
BEGIN:STANDARD
TZOFFSETFROM:-0400
TZOFFSETTO:-0500
TZNAME:EST
DTSTART:19701101T020000
RRULE:FREQ=YEARLY;BYMONTH=11;BYDAY=1SU
END:STANDARD
END:VTIMEZONE
BEGIN:VEVENT
UID:putnam-245740@ygametime.com
DTSTAMP:20210911T130000Z
DTSTART;TZID=America/New_York:20210911T090000
DURATION:PT0H90M0S
SUMMARY:Michael vs Bowers
DESCRIPTION:U10 | Fall Soccer 2021\nPutnam County Family YMCA\n
URL;VALUE=URI:https://ygametime.com/branch/putnam/sports/2021-fall-fall-soccer-2021/10405/?utm_medium=calendar&utm_source=team_cal&utm_content=league_url#game-245740
LOCATION:Field 1 (9/11) Practice field
BEGIN:VALARM
TRIGGER:-P2H
ACTION:DISPLAY
DESCRIPTION:Michael vs Bowers
END:VALARM
END:VEVENT
BEGIN:VEVENT
UID:putnam-245748@ygametime.com
DTSTAMP:20210925T143000Z
DTSTART;TZID=America/New_York:20210925T103000
DURATION:PT0H90M0S
SUMMARY:Presley vs Michael
DESCRIPTION:U10 | Fall Soccer 2021\nPutnam County Family YMCA\n
URL;VALUE=URI:https://ygametime.com/branch/putnam/sports/2021-fall-fall-soccer-2021/10405/?utm_medium=calendar&utm_source=team_cal&utm_content=league_url#game-245748
LOCATION:Field 1 (9/11) Practice field
BEGIN:VALARM
TRIGGER:-P2H
ACTION:DISPLAY
DESCRIPTION:Presley vs Michael
END:VALARM
END:VEVENT
BEGIN:VEVENT
UID:putnam-252210@ygametime.com
DTSTAMP:20210927T213000Z
DTSTART;TZID=America/New_York:20210927T173000
DURATION:PT0H90M0S
SUMMARY:Michael vs Presley
DESCRIPTION:U10 | Fall Soccer 2021\nPutnam County Family YMCA\n
URL;VALUE=URI:https://ygametime.com/branch/putnam/sports/2021-fall-fall-soccer-2021/10405/?utm_medium=calendar&utm_source=team_cal&utm_content=league_url#game-252210
LOCATION:Field 1 (9/11) Practice field
BEGIN:VALARM
TRIGGER:-P2H
ACTION:DISPLAY
DESCRIPTION:Michael vs Presley
END:VALARM
END:VEVENT
BEGIN:VEVENT
UID:putnam-252602@ygametime.com
DTSTAMP:20211001T214500Z
DTSTART;TZID=America/New_York:20211001T174500
DURATION:PT0H90M0S
SUMMARY:Brown vs Michael
DESCRIPTION:U10 | Fall Soccer 2021\nPutnam County Family YMCA\n
URL;VALUE=URI:https://ygametime.com/branch/putnam/sports/2021-fall-fall-soccer-2021/10405/?utm_medium=calendar&utm_source=team_cal&utm_content=league_url#game-252602
LOCATION:Field 1 (9/11) Practice field
BEGIN:VALARM
TRIGGER:-P2H
ACTION:DISPLAY
DESCRIPTION:Brown vs Michael
END:VALARM
END:VEVENT
BEGIN:VEVENT
UID:putnam-245752@ygametime.com
DTSTAMP:20211016T143000Z
DTSTART;TZID=America/New_York:20211016T103000
DURATION:PT0H90M0S
SUMMARY:Deason vs Michael
DESCRIPTION:U10 | Fall Soccer 2021\nPutnam County Family YMCA\n
URL;VALUE=URI:https://ygametime.com/branch/putnam/sports/2021-fall-fall-soccer-2021/10405/?utm_medium=calendar&utm_source=team_cal&utm_content=league_url#game-245752
LOCATION:Field 1 (9/11) Practice field
BEGIN:VALARM
TRIGGER:-P2H
ACTION:DISPLAY
DESCRIPTION:Deason vs Michael
END:VALARM
END:VEVENT
BEGIN:VEVENT
UID:putnam-245749@ygametime.com
DTSTAMP:20211023T130000Z
DTSTART;TZID=America/New_York:20211023T090000
DURATION:PT0H90M0S
SUMMARY:Fancher vs Michael
DESCRIPTION:U10 | Fall Soccer 2021\nPutnam County Family YMCA\n
URL;VALUE=URI:https://ygametime.com/branch/putnam/sports/2021-fall-fall-soccer-2021/10405/?utm_medium=calendar&utm_source=team_cal&utm_content=league_url#game-245749
LOCATION:Field 1 (9/11) Practice field
BEGIN:VALARM
TRIGGER:-P2H
ACTION:DISPLAY
DESCRIPTION:Fancher vs Michael
END:VALARM
END:VEVENT
BEGIN:VEVENT
UID:putnam-256948@ygametime.com
DTSTAMP:20211101T210000Z
DTSTART;TZID=America/New_York:20211101T170000
DURATION:PT0H90M0S
SUMMARY:Michael vs Brown
DESCRIPTION:U10 | Fall Soccer 2021\nPutnam County Family YMCA\n
URL;VALUE=URI:https://ygametime.com/branch/putnam/sports/2021-fall-fall-soccer-2021/10405/?utm_medium=calendar&utm_source=team_cal&utm_content=league_url#game-256948
LOCATION:Field 6 (9/11 Game Field)
BEGIN:VALARM
TRIGGER:-P2H
ACTION:DISPLAY
DESCRIPTION:Michael vs Brown
END:VALARM
END:VEVENT
END:VCALENDAR

