BEGIN:VCALENDAR
VERSION:2.0
PRODID:-//YGAMETIME.com//YGT iCal Creator//EN
METHOD:PUBLISH
X-PUBLISHED-TTL:PT6H
REFRESH-INTERVAL;VALUE=DURATION:PT6H
CALSCALE:GREGORIAN
X-WR-CALNAME:YGAMETIME CALENDAR
BEGIN:VTIMEZONE
TZID:America/New_York
X-LIC-LOCATION:America/New_York
BEGIN:DAYLIGHT
TZOFFSETFROM:-0500
TZOFFSETTO:-0400
TZNAME:EDT
DTSTART:19700308T020000
RRULE:FREQ=YEARLY;BYMONTH=3;BYDAY=2SU
END:DAYLIGHT
BEGIN:STANDARD
TZOFFSETFROM:-0400
TZOFFSETTO:-0500
TZNAME:EST
DTSTART:19701101T020000
RRULE:FREQ=YEARLY;BYMONTH=11;BYDAY=1SU
END:STANDARD
END:VTIMEZONE
BEGIN:VEVENT
UID:putnam-245741@ygametime.com
DTSTAMP:20210911T143000Z
DTSTART;TZID=America/New_York:20210911T103000
DURATION:PT0H90M0S
SUMMARY:Brown vs Deason
DESCRIPTION:U10 | Fall Soccer 2021\nPutnam County Family YMCA\n
URL;VALUE=URI:https://ygametime.com/branch/putnam/sports/2021-fall-fall-soccer-2021/10405/?utm_medium=calendar&utm_source=team_cal&utm_content=league_url#game-245741
LOCATION:Field 1 (9/11) Practice field
BEGIN:VALARM
TRIGGER:-P2H
ACTION:DISPLAY
DESCRIPTION:Brown vs Deason
END:VALARM
END:VEVENT
BEGIN:VEVENT
UID:putnam-245757@ygametime.com
DTSTAMP:20210921T213000Z
DTSTART;TZID=America/New_York:20210921T173000
DURATION:PT0H90M0S
SUMMARY:Bowers vs Deason
DESCRIPTION:U10 | Fall Soccer 2021\nPutnam County Family YMCA\n
URL;VALUE=URI:https://ygametime.com/branch/putnam/sports/2021-fall-fall-soccer-2021/10405/?utm_medium=calendar&utm_source=team_cal&utm_content=league_url#game-245757
LOCATION:
BEGIN:VALARM
TRIGGER:-P2H
ACTION:DISPLAY
DESCRIPTION:Bowers vs Deason
END:VALARM
END:VEVENT
BEGIN:VEVENT
UID:putnam-245746@ygametime.com
DTSTAMP:20210925T130000Z
DTSTART;TZID=America/New_York:20210925T090000
DURATION:PT0H90M0S
SUMMARY:Deason vs Fancher
DESCRIPTION:U10 | Fall Soccer 2021\nPutnam County Family YMCA\n
URL;VALUE=URI:https://ygametime.com/branch/putnam/sports/2021-fall-fall-soccer-2021/10405/?utm_medium=calendar&utm_source=team_cal&utm_content=league_url#game-245746
LOCATION:Field 1 (9/11) Practice field
BEGIN:VALARM
TRIGGER:-P2H
ACTION:DISPLAY
DESCRIPTION:Deason vs Fancher
END:VALARM
END:VEVENT
BEGIN:VEVENT
UID:putnam-245752@ygametime.com
DTSTAMP:20211016T143000Z
DTSTART;TZID=America/New_York:20211016T103000
DURATION:PT0H90M0S
SUMMARY:Deason vs Michael
DESCRIPTION:U10 | Fall Soccer 2021\nPutnam County Family YMCA\n
URL;VALUE=URI:https://ygametime.com/branch/putnam/sports/2021-fall-fall-soccer-2021/10405/?utm_medium=calendar&utm_source=team_cal&utm_content=league_url#game-245752
LOCATION:Field 1 (9/11) Practice field
BEGIN:VALARM
TRIGGER:-P2H
ACTION:DISPLAY
DESCRIPTION:Deason vs Michael
END:VALARM
END:VEVENT
BEGIN:VEVENT
UID:putnam-252606@ygametime.com
DTSTAMP:20211021T210000Z
DTSTART;TZID=America/New_York:20211021T170000
DURATION:PT0H90M0S
SUMMARY:Fancher vs Deason
DESCRIPTION:U10 | Fall Soccer 2021\nPutnam County Family YMCA\n
URL;VALUE=URI:https://ygametime.com/branch/putnam/sports/2021-fall-fall-soccer-2021/10405/?utm_medium=calendar&utm_source=team_cal&utm_content=league_url#game-252606
LOCATION:
BEGIN:VALARM
TRIGGER:-P2H
ACTION:DISPLAY
DESCRIPTION:Fancher vs Deason
END:VALARM
END:VEVENT
BEGIN:VEVENT
UID:putnam-245750@ygametime.com
DTSTAMP:20211023T143000Z
DTSTART;TZID=America/New_York:20211023T103000
DURATION:PT0H90M0S
SUMMARY:Deason vs Presley
DESCRIPTION:U10 | Fall Soccer 2021\nPutnam County Family YMCA\n
URL;VALUE=URI:https://ygametime.com/branch/putnam/sports/2021-fall-fall-soccer-2021/10405/?utm_medium=calendar&utm_source=team_cal&utm_content=league_url#game-245750
LOCATION:Field 1 (9/11) Practice field
BEGIN:VALARM
TRIGGER:-P2H
ACTION:DISPLAY
DESCRIPTION:Deason vs Presley
END:VALARM
END:VEVENT
BEGIN:VEVENT
UID:putnam-256949@ygametime.com
DTSTAMP:20211101T210000Z
DTSTART;TZID=America/New_York:20211101T170000
DURATION:PT0H90M0S
SUMMARY:Deason vs Presley
DESCRIPTION:U10 | Fall Soccer 2021\nPutnam County Family YMCA\n
URL;VALUE=URI:https://ygametime.com/branch/putnam/sports/2021-fall-fall-soccer-2021/10405/?utm_medium=calendar&utm_source=team_cal&utm_content=league_url#game-256949
LOCATION:Field 1 (9/11) Practice field
BEGIN:VALARM
TRIGGER:-P2H
ACTION:DISPLAY
DESCRIPTION:Deason vs Presley
END:VALARM
END:VEVENT
BEGIN:VEVENT
UID:putnam-256951@ygametime.com
DTSTAMP:20211102T210000Z
DTSTART;TZID=America/New_York:20211102T170000
DURATION:PT0H90M0S
SUMMARY:Fancher vs Deason
DESCRIPTION:U10 | Fall Soccer 2021\nPutnam County Family YMCA\n
URL;VALUE=URI:https://ygametime.com/branch/putnam/sports/2021-fall-fall-soccer-2021/10405/?utm_medium=calendar&utm_source=team_cal&utm_content=league_url#game-256951
LOCATION:Field 6 (9/11 Game Field)
BEGIN:VALARM
TRIGGER:-P2H
ACTION:DISPLAY
DESCRIPTION:Fancher vs Deason
END:VALARM
END:VEVENT
BEGIN:VEVENT
UID:putnam-256952@ygametime.com
DTSTAMP:20211105T210000Z
DTSTART;TZID=America/New_York:20211105T170000
DURATION:PT0H90M0S
SUMMARY:Bowers vs Deason
DESCRIPTION:U10 | Fall Soccer 2021\nPutnam County Family YMCA\n
URL;VALUE=URI:https://ygametime.com/branch/putnam/sports/2021-fall-fall-soccer-2021/10405/?utm_medium=calendar&utm_source=team_cal&utm_content=league_url#game-256952
LOCATION:Field 1 (9/11) Practice field
BEGIN:VALARM
TRIGGER:-P2H
ACTION:DISPLAY
DESCRIPTION:Bowers vs Deason
END:VALARM
END:VEVENT
END:VCALENDAR

