BEGIN:VCALENDAR
VERSION:2.0
PRODID:-//YGAMETIME.com//YGT iCal Creator//EN
METHOD:PUBLISH
X-PUBLISHED-TTL:PT6H
REFRESH-INTERVAL;VALUE=DURATION:PT6H
CALSCALE:GREGORIAN
X-WR-CALNAME:YGAMETIME CALENDAR
BEGIN:VTIMEZONE
TZID:America/New_York
X-LIC-LOCATION:America/New_York
BEGIN:DAYLIGHT
TZOFFSETFROM:-0500
TZOFFSETTO:-0400
TZNAME:EDT
DTSTART:19700308T020000
RRULE:FREQ=YEARLY;BYMONTH=3;BYDAY=2SU
END:DAYLIGHT
BEGIN:STANDARD
TZOFFSETFROM:-0400
TZOFFSETTO:-0500
TZNAME:EST
DTSTART:19701101T020000
RRULE:FREQ=YEARLY;BYMONTH=11;BYDAY=1SU
END:STANDARD
END:VTIMEZONE
BEGIN:VEVENT
UID:putnam-245523@ygametime.com
DTSTAMP:20210916T220000Z
DTSTART;TZID=America/New_York:20210916T180000
DURATION:PT0H60M0S
SUMMARY:Turner vs Seward
DESCRIPTION:U6 | Fall Soccer 2021\nPutnam County Family YMCA\n
URL;VALUE=URI:https://ygametime.com/branch/putnam/sports/2021-fall-fall-soccer-2021/10403/?utm_medium=calendar&utm_source=team_cal&utm_content=league_url#game-245523
LOCATION:Field 7 (3/4)
BEGIN:VALARM
TRIGGER:-P2H
ACTION:DISPLAY
DESCRIPTION:Turner vs Seward
END:VALARM
END:VEVENT
BEGIN:VEVENT
UID:putnam-245352@ygametime.com
DTSTAMP:20210925T150000Z
DTSTART;TZID=America/New_York:20210925T110000
DURATION:PT0H60M0S
SUMMARY:Turner vs Seward
DESCRIPTION:U6 | Fall Soccer 2021\nPutnam County Family YMCA\n
URL;VALUE=URI:https://ygametime.com/branch/putnam/sports/2021-fall-fall-soccer-2021/10403/?utm_medium=calendar&utm_source=team_cal&utm_content=league_url#game-245352
LOCATION:Field 7 (3/4)
BEGIN:VALARM
TRIGGER:-P2H
ACTION:DISPLAY
DESCRIPTION:Turner vs Seward
END:VALARM
END:VEVENT
BEGIN:VEVENT
UID:putnam-251960@ygametime.com
DTSTAMP:20210930T213000Z
DTSTART;TZID=America/New_York:20210930T173000
DURATION:PT0H60M0S
SUMMARY:Crabtree vs Seward
DESCRIPTION:U6 | Fall Soccer 2021\nPutnam County Family YMCA\n
URL;VALUE=URI:https://ygametime.com/branch/putnam/sports/2021-fall-fall-soccer-2021/10403/?utm_medium=calendar&utm_source=team_cal&utm_content=league_url#game-251960
LOCATION:Field 9 (3/4)
BEGIN:VALARM
TRIGGER:-P2H
ACTION:DISPLAY
DESCRIPTION:Crabtree vs Seward
END:VALARM
END:VEVENT
BEGIN:VEVENT
UID:putnam-245365@ygametime.com
DTSTAMP:20211016T140000Z
DTSTART;TZID=America/New_York:20211016T100000
DURATION:PT0H60M0S
SUMMARY:Randolph vs Seward
DESCRIPTION:U6 | Fall Soccer 2021\nPutnam County Family YMCA\n
URL;VALUE=URI:https://ygametime.com/branch/putnam/sports/2021-fall-fall-soccer-2021/10403/?utm_medium=calendar&utm_source=team_cal&utm_content=league_url#game-245365
LOCATION:Field 9 (3/4)
BEGIN:VALARM
TRIGGER:-P2H
ACTION:DISPLAY
DESCRIPTION:Randolph vs Seward
END:VALARM
END:VEVENT
BEGIN:VEVENT
UID:putnam-245366@ygametime.com
DTSTAMP:20211016T150000Z
DTSTART;TZID=America/New_York:20211016T110000
DURATION:PT0H60M0S
SUMMARY:Seward vs Mason
DESCRIPTION:U6 | Fall Soccer 2021\nPutnam County Family YMCA\n
URL;VALUE=URI:https://ygametime.com/branch/putnam/sports/2021-fall-fall-soccer-2021/10403/?utm_medium=calendar&utm_source=team_cal&utm_content=league_url#game-245366
LOCATION:Field 9 (3/4)
BEGIN:VALARM
TRIGGER:-P2H
ACTION:DISPLAY
DESCRIPTION:Seward vs Mason
END:VALARM
END:VEVENT
BEGIN:VEVENT
UID:putnam-245371@ygametime.com
DTSTAMP:20211023T140000Z
DTSTART;TZID=America/New_York:20211023T100000
DURATION:PT0H60M0S
SUMMARY:Mason vs Seward
DESCRIPTION:U6 | Fall Soccer 2021\nPutnam County Family YMCA\n
URL;VALUE=URI:https://ygametime.com/branch/putnam/sports/2021-fall-fall-soccer-2021/10403/?utm_medium=calendar&utm_source=team_cal&utm_content=league_url#game-245371
LOCATION:Field 9 (3/4)
BEGIN:VALARM
TRIGGER:-P2H
ACTION:DISPLAY
DESCRIPTION:Mason vs Seward
END:VALARM
END:VEVENT
BEGIN:VEVENT
UID:putnam-245380@ygametime.com
DTSTAMP:20211106T130000Z
DTSTART;TZID=America/New_York:20211106T090000
DURATION:PT0H60M0S
SUMMARY:Scantland vs Seward
DESCRIPTION:U6 | Fall Soccer 2021\nPutnam County Family YMCA\n
URL;VALUE=URI:https://ygametime.com/branch/putnam/sports/2021-fall-fall-soccer-2021/10403/?utm_medium=calendar&utm_source=team_cal&utm_content=league_url#game-245380
LOCATION:Field 7 (3/4)
BEGIN:VALARM
TRIGGER:-P2H
ACTION:DISPLAY
DESCRIPTION:Scantland vs Seward
END:VALARM
END:VEVENT
END:VCALENDAR

