BEGIN:VCALENDAR
VERSION:2.0
PRODID:-//YGAMETIME.com//YGT iCal Creator//EN
METHOD:PUBLISH
X-PUBLISHED-TTL:PT6H
REFRESH-INTERVAL;VALUE=DURATION:PT6H
CALSCALE:GREGORIAN
X-WR-CALNAME:YGAMETIME CALENDAR
BEGIN:VTIMEZONE
TZID:America/New_York
X-LIC-LOCATION:America/New_York
BEGIN:DAYLIGHT
TZOFFSETFROM:-0500
TZOFFSETTO:-0400
TZNAME:EDT
DTSTART:19700308T020000
RRULE:FREQ=YEARLY;BYMONTH=3;BYDAY=2SU
END:DAYLIGHT
BEGIN:STANDARD
TZOFFSETFROM:-0400
TZOFFSETTO:-0500
TZNAME:EST
DTSTART:19701101T020000
RRULE:FREQ=YEARLY;BYMONTH=11;BYDAY=1SU
END:STANDARD
END:VTIMEZONE
BEGIN:VEVENT
UID:putnam-245199@ygametime.com
DTSTAMP:20210911T140000Z
DTSTART;TZID=America/New_York:20210911T100000
DURATION:PT0H45M0S
SUMMARY:Stephenson vs Baker
DESCRIPTION:U4 | Fall Soccer 2021\nPutnam County Family YMCA\n
URL;VALUE=URI:https://ygametime.com/branch/putnam/sports/2021-fall-fall-soccer-2021/10402/?utm_medium=calendar&utm_source=team_cal&utm_content=league_url#game-245199
LOCATION:Field 3 (5/6)
BEGIN:VALARM
TRIGGER:-P2H
ACTION:DISPLAY
DESCRIPTION:Stephenson vs Baker
END:VALARM
END:VEVENT
BEGIN:VEVENT
UID:putnam-245203@ygametime.com
DTSTAMP:20210925T140000Z
DTSTART;TZID=America/New_York:20210925T100000
DURATION:PT0H45M0S
SUMMARY:Bennett vs Stephenson
DESCRIPTION:U4 | Fall Soccer 2021\nPutnam County Family YMCA\n
URL;VALUE=URI:https://ygametime.com/branch/putnam/sports/2021-fall-fall-soccer-2021/10402/?utm_medium=calendar&utm_source=team_cal&utm_content=league_url#game-245203
LOCATION:Field 3 (5/6)
BEGIN:VALARM
TRIGGER:-P2H
ACTION:DISPLAY
DESCRIPTION:Bennett vs Stephenson
END:VALARM
END:VEVENT
BEGIN:VEVENT
UID:putnam-251959@ygametime.com
DTSTAMP:20210930T213000Z
DTSTART;TZID=America/New_York:20210930T173000
DURATION:PT0H45M0S
SUMMARY:Asberry vs Stephenson
DESCRIPTION:U4 | Fall Soccer 2021\nPutnam County Family YMCA\n
URL;VALUE=URI:https://ygametime.com/branch/putnam/sports/2021-fall-fall-soccer-2021/10402/?utm_medium=calendar&utm_source=team_cal&utm_content=league_url#game-251959
LOCATION:Field 3 (5/6)
BEGIN:VALARM
TRIGGER:-P2H
ACTION:DISPLAY
DESCRIPTION:Asberry vs Stephenson
END:VALARM
END:VEVENT
BEGIN:VEVENT
UID:putnam-245208@ygametime.com
DTSTAMP:20211016T130000Z
DTSTART;TZID=America/New_York:20211016T090000
DURATION:PT0H45M0S
SUMMARY:Bennett vs Stephenson
DESCRIPTION:U4 | Fall Soccer 2021\nPutnam County Family YMCA\n
URL;VALUE=URI:https://ygametime.com/branch/putnam/sports/2021-fall-fall-soccer-2021/10402/?utm_medium=calendar&utm_source=team_cal&utm_content=league_url#game-245208
LOCATION:Field 2 (5/6)
BEGIN:VALARM
TRIGGER:-P2H
ACTION:DISPLAY
DESCRIPTION:Bennett vs Stephenson
END:VALARM
END:VEVENT
BEGIN:VEVENT
UID:putnam-245211@ygametime.com
DTSTAMP:20211023T140000Z
DTSTART;TZID=America/New_York:20211023T100000
DURATION:PT0H45M0S
SUMMARY:Stephenson vs Baker
DESCRIPTION:U4 | Fall Soccer 2021\nPutnam County Family YMCA\n
URL;VALUE=URI:https://ygametime.com/branch/putnam/sports/2021-fall-fall-soccer-2021/10402/?utm_medium=calendar&utm_source=team_cal&utm_content=league_url#game-245211
LOCATION:Field 3 (5/6)
BEGIN:VALARM
TRIGGER:-P2H
ACTION:DISPLAY
DESCRIPTION:Stephenson vs Baker
END:VALARM
END:VEVENT
BEGIN:VEVENT
UID:putnam-245206@ygametime.com
DTSTAMP:20211030T130000Z
DTSTART;TZID=America/New_York:20211030T090000
DURATION:PT0H45M0S
SUMMARY:Asberry vs Stephenson
DESCRIPTION:U4 | Fall Soccer 2021\nPutnam County Family YMCA\n
URL;VALUE=URI:https://ygametime.com/branch/putnam/sports/2021-fall-fall-soccer-2021/10402/?utm_medium=calendar&utm_source=team_cal&utm_content=league_url#game-245206
LOCATION:Field 2 (5/6)
BEGIN:VALARM
TRIGGER:-P2H
ACTION:DISPLAY
DESCRIPTION:Asberry vs Stephenson
END:VALARM
END:VEVENT
BEGIN:VEVENT
UID:putnam-245204@ygametime.com
DTSTAMP:20211106T130000Z
DTSTART;TZID=America/New_York:20211106T090000
DURATION:PT0H45M0S
SUMMARY:Stephenson vs Baker
DESCRIPTION:U4 | Fall Soccer 2021\nPutnam County Family YMCA\n
URL;VALUE=URI:https://ygametime.com/branch/putnam/sports/2021-fall-fall-soccer-2021/10402/?utm_medium=calendar&utm_source=team_cal&utm_content=league_url#game-245204
LOCATION:Field 2 (5/6)
BEGIN:VALARM
TRIGGER:-P2H
ACTION:DISPLAY
DESCRIPTION:Stephenson vs Baker
END:VALARM
END:VEVENT
END:VCALENDAR

