BEGIN:VCALENDAR
VERSION:2.0
PRODID:-//YGAMETIME.com//YGT iCal Creator//EN
METHOD:PUBLISH
X-PUBLISHED-TTL:PT6H
REFRESH-INTERVAL;VALUE=DURATION:PT6H
CALSCALE:GREGORIAN
X-WR-CALNAME:YGAMETIME CALENDAR
BEGIN:VTIMEZONE
TZID:America/New_York
X-LIC-LOCATION:America/New_York
BEGIN:DAYLIGHT
TZOFFSETFROM:-0500
TZOFFSETTO:-0400
TZNAME:EDT
DTSTART:19700308T020000
RRULE:FREQ=YEARLY;BYMONTH=3;BYDAY=2SU
END:DAYLIGHT
BEGIN:STANDARD
TZOFFSETFROM:-0400
TZOFFSETTO:-0500
TZNAME:EST
DTSTART:19701101T020000
RRULE:FREQ=YEARLY;BYMONTH=11;BYDAY=1SU
END:STANDARD
END:VTIMEZONE
BEGIN:VEVENT
UID:putnam-287259@ygametime.com
DTSTAMP:20220326T124500Z
DTSTART;TZID=America/New_York:20220326T084500
DURATION:PT0H45M0S
SUMMARY:Stephenson vs Bennett
DESCRIPTION:3-4 year olds | Spring Soccer\nPutnam County Family YMCA\n
URL;VALUE=URI:https://ygametime.com/branch/putnam/sports/2022-spring-spring-soccer/12040/?utm_medium=calendar&utm_source=team_cal&utm_content=league_url#game-287259
LOCATION:Field 3 (5/6)
BEGIN:VALARM
TRIGGER:-P2H
ACTION:DISPLAY
DESCRIPTION:Stephenson vs Bennett
END:VALARM
END:VEVENT
BEGIN:VEVENT
UID:putnam-287264@ygametime.com
DTSTAMP:20220402T133000Z
DTSTART;TZID=America/New_York:20220402T093000
DURATION:PT0H45M0S
SUMMARY:Bennett vs Martin
DESCRIPTION:3-4 year olds | Spring Soccer\nPutnam County Family YMCA\n
URL;VALUE=URI:https://ygametime.com/branch/putnam/sports/2022-spring-spring-soccer/12040/?utm_medium=calendar&utm_source=team_cal&utm_content=league_url#game-287264
LOCATION:Field 2 (5/6)
BEGIN:VALARM
TRIGGER:-P2H
ACTION:DISPLAY
DESCRIPTION:Bennett vs Martin
END:VALARM
END:VEVENT
BEGIN:VEVENT
UID:putnam-287278@ygametime.com
DTSTAMP:20220423T124500Z
DTSTART;TZID=America/New_York:20220423T084500
DURATION:PT0H45M0S
SUMMARY:Martin vs Bennett
DESCRIPTION:3-4 year olds | Spring Soccer\nPutnam County Family YMCA\n
URL;VALUE=URI:https://ygametime.com/branch/putnam/sports/2022-spring-spring-soccer/12040/?utm_medium=calendar&utm_source=team_cal&utm_content=league_url#game-287278
LOCATION:Field 2 (5/6)
BEGIN:VALARM
TRIGGER:-P2H
ACTION:DISPLAY
DESCRIPTION:Martin vs Bennett
END:VALARM
END:VEVENT
BEGIN:VEVENT
UID:putnam-287286@ygametime.com
DTSTAMP:20220430T141500Z
DTSTART;TZID=America/New_York:20220430T101500
DURATION:PT0H45M0S
SUMMARY:Bennett vs Grimm
DESCRIPTION:3-4 year olds | Spring Soccer\nPutnam County Family YMCA\n
URL;VALUE=URI:https://ygametime.com/branch/putnam/sports/2022-spring-spring-soccer/12040/?utm_medium=calendar&utm_source=team_cal&utm_content=league_url#game-287286
LOCATION:Field 3 (5/6)
BEGIN:VALARM
TRIGGER:-P2H
ACTION:DISPLAY
DESCRIPTION:Bennett vs Grimm
END:VALARM
END:VEVENT
BEGIN:VEVENT
UID:putnam-287289@ygametime.com
DTSTAMP:20220507T124500Z
DTSTART;TZID=America/New_York:20220507T084500
DURATION:PT0H45M0S
SUMMARY:Turner vs Bennett
DESCRIPTION:3-4 year olds | Spring Soccer\nPutnam County Family YMCA\n
URL;VALUE=URI:https://ygametime.com/branch/putnam/sports/2022-spring-spring-soccer/12040/?utm_medium=calendar&utm_source=team_cal&utm_content=league_url#game-287289
LOCATION:Field 3 (5/6)
BEGIN:VALARM
TRIGGER:-P2H
ACTION:DISPLAY
DESCRIPTION:Turner vs Bennett
END:VALARM
END:VEVENT
BEGIN:VEVENT
UID:putnam-303848@ygametime.com
DTSTAMP:20220509T213000Z
DTSTART;TZID=America/New_York:20220509T173000
DURATION:PT0H45M0S
SUMMARY:Bennett vs Betcher
DESCRIPTION:3-4 year olds | Spring Soccer\nPutnam County Family YMCA\n
URL;VALUE=URI:https://ygametime.com/branch/putnam/sports/2022-spring-spring-soccer/12040/?utm_medium=calendar&utm_source=team_cal&utm_content=league_url#game-303848
LOCATION:Field 3 (5/6)
BEGIN:VALARM
TRIGGER:-P2H
ACTION:DISPLAY
DESCRIPTION:Bennett vs Betcher
END:VALARM
END:VEVENT
BEGIN:VEVENT
UID:putnam-304285@ygametime.com
DTSTAMP:20220512T213000Z
DTSTART;TZID=America/New_York:20220512T173000
DURATION:PT0H45M0S
SUMMARY:Bennett vs Turner
DESCRIPTION:3-4 year olds | Spring Soccer\nPutnam County Family YMCA\n
URL;VALUE=URI:https://ygametime.com/branch/putnam/sports/2022-spring-spring-soccer/12040/?utm_medium=calendar&utm_source=team_cal&utm_content=league_url#game-304285
LOCATION:Field 2 (5/6)
BEGIN:VALARM
TRIGGER:-P2H
ACTION:DISPLAY
DESCRIPTION:Bennett vs Turner
END:VALARM
END:VEVENT
BEGIN:VEVENT
UID:putnam-287274@ygametime.com
DTSTAMP:20220514T140000Z
DTSTART;TZID=America/New_York:20220514T100000
DURATION:PT0H45M0S
SUMMARY:Bennett vs Asberry
DESCRIPTION:3-4 year olds | Spring Soccer\nPutnam County Family YMCA\n
URL;VALUE=URI:https://ygametime.com/branch/putnam/sports/2022-spring-spring-soccer/12040/?utm_medium=calendar&utm_source=team_cal&utm_content=league_url#game-287274
LOCATION:Field 2 (5/6)
BEGIN:VALARM
TRIGGER:-P2H
ACTION:DISPLAY
DESCRIPTION:Bennett vs Asberry
END:VALARM
END:VEVENT
END:VCALENDAR

