BEGIN:VCALENDAR
VERSION:2.0
PRODID:-//YGAMETIME.com//YGT iCal Creator//EN
METHOD:PUBLISH
X-PUBLISHED-TTL:PT6H
REFRESH-INTERVAL;VALUE=DURATION:PT6H
CALSCALE:GREGORIAN
X-WR-CALNAME:YGAMETIME CALENDAR
BEGIN:VTIMEZONE
TZID:America/New_York
X-LIC-LOCATION:America/New_York
BEGIN:DAYLIGHT
TZOFFSETFROM:-0500
TZOFFSETTO:-0400
TZNAME:EDT
DTSTART:19700308T020000
RRULE:FREQ=YEARLY;BYMONTH=3;BYDAY=2SU
END:DAYLIGHT
BEGIN:STANDARD
TZOFFSETFROM:-0400
TZOFFSETTO:-0500
TZNAME:EST
DTSTART:19701101T020000
RRULE:FREQ=YEARLY;BYMONTH=11;BYDAY=1SU
END:STANDARD
END:VTIMEZONE
BEGIN:VEVENT
UID:putnam-287260@ygametime.com
DTSTAMP:20220326T133000Z
DTSTART;TZID=America/New_York:20220326T093000
DURATION:PT0H45M0S
SUMMARY:Floyd vs Asberry
DESCRIPTION:3-4 year olds | Spring Soccer\nPutnam County Family YMCA\n
URL;VALUE=URI:https://ygametime.com/branch/putnam/sports/2022-spring-spring-soccer/12040/?utm_medium=calendar&utm_source=team_cal&utm_content=league_url#game-287260
LOCATION:Field 2 (5/6)
BEGIN:VALARM
TRIGGER:-P2H
ACTION:DISPLAY
DESCRIPTION:Floyd vs Asberry
END:VALARM
END:VEVENT
BEGIN:VEVENT
UID:putnam-287265@ygametime.com
DTSTAMP:20220402T120000Z
DTSTART;TZID=America/New_York:20220402T080000
DURATION:PT0H45M0S
SUMMARY:Hargis vs Asberry
DESCRIPTION:3-4 year olds | Spring Soccer\nPutnam County Family YMCA\n
URL;VALUE=URI:https://ygametime.com/branch/putnam/sports/2022-spring-spring-soccer/12040/?utm_medium=calendar&utm_source=team_cal&utm_content=league_url#game-287265
LOCATION:Field 2 (5/6)
BEGIN:VALARM
TRIGGER:-P2H
ACTION:DISPLAY
DESCRIPTION:Hargis vs Asberry
END:VALARM
END:VEVENT
BEGIN:VEVENT
UID:putnam-287282@ygametime.com
DTSTAMP:20220423T141500Z
DTSTART;TZID=America/New_York:20220423T101500
DURATION:PT0H45M0S
SUMMARY:Asberry vs Turner
DESCRIPTION:3-4 year olds | Spring Soccer\nPutnam County Family YMCA\n
URL;VALUE=URI:https://ygametime.com/branch/putnam/sports/2022-spring-spring-soccer/12040/?utm_medium=calendar&utm_source=team_cal&utm_content=league_url#game-287282
LOCATION:Field 3 (5/6)
BEGIN:VALARM
TRIGGER:-P2H
ACTION:DISPLAY
DESCRIPTION:Asberry vs Turner
END:VALARM
END:VEVENT
BEGIN:VEVENT
UID:putnam-287287@ygametime.com
DTSTAMP:20220430T150000Z
DTSTART;TZID=America/New_York:20220430T110000
DURATION:PT0H45M0S
SUMMARY:Turner vs Asberry
DESCRIPTION:3-4 year olds | Spring Soccer\nPutnam County Family YMCA\n
URL;VALUE=URI:https://ygametime.com/branch/putnam/sports/2022-spring-spring-soccer/12040/?utm_medium=calendar&utm_source=team_cal&utm_content=league_url#game-287287
LOCATION:Field 2 (5/6)
BEGIN:VALARM
TRIGGER:-P2H
ACTION:DISPLAY
DESCRIPTION:Turner vs Asberry
END:VALARM
END:VEVENT
BEGIN:VEVENT
UID:putnam-302800@ygametime.com
DTSTAMP:20220502T220000Z
DTSTART;TZID=America/New_York:20220502T180000
DURATION:PT0H45M0S
SUMMARY:Asberry vs Grimm
DESCRIPTION:3-4 year olds | Spring Soccer\nPutnam County Family YMCA\n
URL;VALUE=URI:https://ygametime.com/branch/putnam/sports/2022-spring-spring-soccer/12040/?utm_medium=calendar&utm_source=team_cal&utm_content=league_url#game-302800
LOCATION:Field 2 (5/6)
BEGIN:VALARM
TRIGGER:-P2H
ACTION:DISPLAY
DESCRIPTION:Asberry vs Grimm
END:VALARM
END:VEVENT
BEGIN:VEVENT
UID:putnam-304486@ygametime.com
DTSTAMP:20220509T221500Z
DTSTART;TZID=America/New_York:20220509T181500
DURATION:PT0H45M0S
SUMMARY:Asberry vs Floyd
DESCRIPTION:3-4 year olds | Spring Soccer\nPutnam County Family YMCA\n
URL;VALUE=URI:https://ygametime.com/branch/putnam/sports/2022-spring-spring-soccer/12040/?utm_medium=calendar&utm_source=team_cal&utm_content=league_url#game-304486
LOCATION:Field 3 (5/6)
BEGIN:VALARM
TRIGGER:-P2H
ACTION:DISPLAY
DESCRIPTION:Asberry vs Floyd
END:VALARM
END:VEVENT
BEGIN:VEVENT
UID:putnam-287274@ygametime.com
DTSTAMP:20220514T140000Z
DTSTART;TZID=America/New_York:20220514T100000
DURATION:PT0H45M0S
SUMMARY:Bennett vs Asberry
DESCRIPTION:3-4 year olds | Spring Soccer\nPutnam County Family YMCA\n
URL;VALUE=URI:https://ygametime.com/branch/putnam/sports/2022-spring-spring-soccer/12040/?utm_medium=calendar&utm_source=team_cal&utm_content=league_url#game-287274
LOCATION:Field 2 (5/6)
BEGIN:VALARM
TRIGGER:-P2H
ACTION:DISPLAY
DESCRIPTION:Bennett vs Asberry
END:VALARM
END:VEVENT
END:VCALENDAR

