BEGIN:VCALENDAR
VERSION:2.0
PRODID:-//YGAMETIME.com//YGT iCal Creator//EN
METHOD:PUBLISH
X-PUBLISHED-TTL:PT6H
REFRESH-INTERVAL;VALUE=DURATION:PT6H
CALSCALE:GREGORIAN
X-WR-CALNAME:YGAMETIME CALENDAR
BEGIN:VTIMEZONE
TZID:America/New_York
X-LIC-LOCATION:America/New_York
BEGIN:DAYLIGHT
TZOFFSETFROM:-0500
TZOFFSETTO:-0400
TZNAME:EDT
DTSTART:19700308T020000
RRULE:FREQ=YEARLY;BYMONTH=3;BYDAY=2SU
END:DAYLIGHT
BEGIN:STANDARD
TZOFFSETFROM:-0400
TZOFFSETTO:-0500
TZNAME:EST
DTSTART:19701101T020000
RRULE:FREQ=YEARLY;BYMONTH=11;BYDAY=1SU
END:STANDARD
END:VTIMEZONE
BEGIN:VEVENT
UID:putnam-287965@ygametime.com
DTSTAMP:20220328T214500Z
DTSTART;TZID=America/New_York:20220328T174500
DURATION:PT0H60M0S
SUMMARY:Ross vs Mason
DESCRIPTION:5-6 year olds | Spring Soccer\nPutnam County Family YMCA\n
URL;VALUE=URI:https://ygametime.com/branch/putnam/sports/2022-spring-spring-soccer/12039/?utm_medium=calendar&utm_source=team_cal&utm_content=league_url#game-287965
LOCATION:Field 7 (3/4)
BEGIN:VALARM
TRIGGER:-P2H
ACTION:DISPLAY
DESCRIPTION:Ross vs Mason
END:VALARM
END:VEVENT
BEGIN:VEVENT
UID:putnam-287303@ygametime.com
DTSTAMP:20220402T123000Z
DTSTART;TZID=America/New_York:20220402T083000
DURATION:PT0H60M0S
SUMMARY:Ross vs Bottoms
DESCRIPTION:5-6 year olds | Spring Soccer\nPutnam County Family YMCA\n
URL;VALUE=URI:https://ygametime.com/branch/putnam/sports/2022-spring-spring-soccer/12039/?utm_medium=calendar&utm_source=team_cal&utm_content=league_url#game-287303
LOCATION:Field 9 (3/4)
BEGIN:VALARM
TRIGGER:-P2H
ACTION:DISPLAY
DESCRIPTION:Ross vs Bottoms
END:VALARM
END:VEVENT
BEGIN:VEVENT
UID:putnam-287307@ygametime.com
DTSTAMP:20220409T153000Z
DTSTART;TZID=America/New_York:20220409T113000
DURATION:PT0H60M0S
SUMMARY:Ross vs Scantland
DESCRIPTION:5-6 year olds | Spring Soccer\nPutnam County Family YMCA\n
URL;VALUE=URI:https://ygametime.com/branch/putnam/sports/2022-spring-spring-soccer/12039/?utm_medium=calendar&utm_source=team_cal&utm_content=league_url#game-287307
LOCATION:Field 7 (3/4)
BEGIN:VALARM
TRIGGER:-P2H
ACTION:DISPLAY
DESCRIPTION:Ross vs Scantland
END:VALARM
END:VEVENT
BEGIN:VEVENT
UID:putnam-287331@ygametime.com
DTSTAMP:20220419T213000Z
DTSTART;TZID=America/New_York:20220419T173000
DURATION:PT0H60M0S
SUMMARY:Corley vs Ross
DESCRIPTION:5-6 year olds | Spring Soccer\nPutnam County Family YMCA\n
URL;VALUE=URI:https://ygametime.com/branch/putnam/sports/2022-spring-spring-soccer/12039/?utm_medium=calendar&utm_source=team_cal&utm_content=league_url#game-287331
LOCATION:Field 7 (3/4)
BEGIN:VALARM
TRIGGER:-P2H
ACTION:DISPLAY
DESCRIPTION:Corley vs Ross
END:VALARM
END:VEVENT
BEGIN:VEVENT
UID:putnam-287322@ygametime.com
DTSTAMP:20220430T133000Z
DTSTART;TZID=America/New_York:20220430T093000
DURATION:PT0H60M0S
SUMMARY:Ross vs Reep
DESCRIPTION:5-6 year olds | Spring Soccer\nPutnam County Family YMCA\n
URL;VALUE=URI:https://ygametime.com/branch/putnam/sports/2022-spring-spring-soccer/12039/?utm_medium=calendar&utm_source=team_cal&utm_content=league_url#game-287322
LOCATION:Field 7 (3/4)
BEGIN:VALARM
TRIGGER:-P2H
ACTION:DISPLAY
DESCRIPTION:Ross vs Reep
END:VALARM
END:VEVENT
BEGIN:VEVENT
UID:putnam-287333@ygametime.com
DTSTAMP:20220507T133000Z
DTSTART;TZID=America/New_York:20220507T093000
DURATION:PT0H60M0S
SUMMARY:Ross vs Scantland
DESCRIPTION:5-6 year olds | Spring Soccer\nPutnam County Family YMCA\n
URL;VALUE=URI:https://ygametime.com/branch/putnam/sports/2022-spring-spring-soccer/12039/?utm_medium=calendar&utm_source=team_cal&utm_content=league_url#game-287333
LOCATION:Field 9 (3/4)
BEGIN:VALARM
TRIGGER:-P2H
ACTION:DISPLAY
DESCRIPTION:Ross vs Scantland
END:VALARM
END:VEVENT
BEGIN:VEVENT
UID:putnam-287328@ygametime.com
DTSTAMP:20220507T143000Z
DTSTART;TZID=America/New_York:20220507T103000
DURATION:PT0H60M0S
SUMMARY:Ross vs Smith
DESCRIPTION:5-6 year olds | Spring Soccer\nPutnam County Family YMCA\n
URL;VALUE=URI:https://ygametime.com/branch/putnam/sports/2022-spring-spring-soccer/12039/?utm_medium=calendar&utm_source=team_cal&utm_content=league_url#game-287328
LOCATION:Field 9 (3/4)
BEGIN:VALARM
TRIGGER:-P2H
ACTION:DISPLAY
DESCRIPTION:Ross vs Smith
END:VALARM
END:VEVENT
BEGIN:VEVENT
UID:putnam-287335@ygametime.com
DTSTAMP:20220509T221500Z
DTSTART;TZID=America/New_York:20220509T181500
DURATION:PT0H60M0S
SUMMARY:Ross vs Mason
DESCRIPTION:5-6 year olds | Spring Soccer\nPutnam County Family YMCA\n
URL;VALUE=URI:https://ygametime.com/branch/putnam/sports/2022-spring-spring-soccer/12039/?utm_medium=calendar&utm_source=team_cal&utm_content=league_url#game-287335
LOCATION:Field 7 (3/4)
BEGIN:VALARM
TRIGGER:-P2H
ACTION:DISPLAY
DESCRIPTION:Ross vs Mason
END:VALARM
END:VEVENT
END:VCALENDAR

