BEGIN:VCALENDAR
VERSION:2.0
PRODID:-//YGAMETIME.com//YGT iCal Creator//EN
METHOD:PUBLISH
X-PUBLISHED-TTL:PT6H
REFRESH-INTERVAL;VALUE=DURATION:PT6H
CALSCALE:GREGORIAN
X-WR-CALNAME:YGAMETIME CALENDAR
BEGIN:VTIMEZONE
TZID:America/New_York
X-LIC-LOCATION:America/New_York
BEGIN:DAYLIGHT
TZOFFSETFROM:-0500
TZOFFSETTO:-0400
TZNAME:EDT
DTSTART:19700308T020000
RRULE:FREQ=YEARLY;BYMONTH=3;BYDAY=2SU
END:DAYLIGHT
BEGIN:STANDARD
TZOFFSETFROM:-0400
TZOFFSETTO:-0500
TZNAME:EST
DTSTART:19701101T020000
RRULE:FREQ=YEARLY;BYMONTH=11;BYDAY=1SU
END:STANDARD
END:VTIMEZONE
BEGIN:VEVENT
UID:putnam-287337@ygametime.com
DTSTAMP:20220326T123000Z
DTSTART;TZID=America/New_York:20220326T083000
DURATION:PT0H60M0S
SUMMARY:Rohman vs Null
DESCRIPTION:7-8 year olds | Spring Soccer\nPutnam County Family YMCA\n
URL;VALUE=URI:https://ygametime.com/branch/putnam/sports/2022-spring-spring-soccer/12041/?utm_medium=calendar&utm_source=team_cal&utm_content=league_url#game-287337
LOCATION:Field 4 (7/8)
BEGIN:VALARM
TRIGGER:-P2H
ACTION:DISPLAY
DESCRIPTION:Rohman vs Null
END:VALARM
END:VEVENT
BEGIN:VEVENT
UID:putnam-287342@ygametime.com
DTSTAMP:20220402T123000Z
DTSTART;TZID=America/New_York:20220402T083000
DURATION:PT0H60M0S
SUMMARY:Null vs Meadows
DESCRIPTION:7-8 year olds | Spring Soccer\nPutnam County Family YMCA\n
URL;VALUE=URI:https://ygametime.com/branch/putnam/sports/2022-spring-spring-soccer/12041/?utm_medium=calendar&utm_source=team_cal&utm_content=league_url#game-287342
LOCATION:Field 4 (7/8)
BEGIN:VALARM
TRIGGER:-P2H
ACTION:DISPLAY
DESCRIPTION:Null vs Meadows
END:VALARM
END:VEVENT
BEGIN:VEVENT
UID:putnam-302190@ygametime.com
DTSTAMP:20220429T213000Z
DTSTART;TZID=America/New_York:20220429T173000
DURATION:PT0H60M0S
SUMMARY:Null vs Randolph
DESCRIPTION:7-8 year olds | Spring Soccer\nPutnam County Family YMCA\n
URL;VALUE=URI:https://ygametime.com/branch/putnam/sports/2022-spring-spring-soccer/12041/?utm_medium=calendar&utm_source=team_cal&utm_content=league_url#game-302190
LOCATION:Field 5 (7/8)
BEGIN:VALARM
TRIGGER:-P2H
ACTION:DISPLAY
DESCRIPTION:Null vs Randolph
END:VALARM
END:VEVENT
BEGIN:VEVENT
UID:putnam-287364@ygametime.com
DTSTAMP:20220430T163000Z
DTSTART;TZID=America/New_York:20220430T123000
DURATION:PT0H60M0S
SUMMARY:Null vs Rutherford
DESCRIPTION:7-8 year olds | Spring Soccer\nPutnam County Family YMCA\n
URL;VALUE=URI:https://ygametime.com/branch/putnam/sports/2022-spring-spring-soccer/12041/?utm_medium=calendar&utm_source=team_cal&utm_content=league_url#game-287364
LOCATION:Field 5 (7/8)
BEGIN:VALARM
TRIGGER:-P2H
ACTION:DISPLAY
DESCRIPTION:Null vs Rutherford
END:VALARM
END:VEVENT
BEGIN:VEVENT
UID:putnam-287369@ygametime.com
DTSTAMP:20220507T133000Z
DTSTART;TZID=America/New_York:20220507T093000
DURATION:PT0H60M0S
SUMMARY:Stiles vs Null
DESCRIPTION:7-8 year olds | Spring Soccer\nPutnam County Family YMCA\n
URL;VALUE=URI:https://ygametime.com/branch/putnam/sports/2022-spring-spring-soccer/12041/?utm_medium=calendar&utm_source=team_cal&utm_content=league_url#game-287369
LOCATION:Field 5 (7/8)
BEGIN:VALARM
TRIGGER:-P2H
ACTION:DISPLAY
DESCRIPTION:Stiles vs Null
END:VALARM
END:VEVENT
BEGIN:VEVENT
UID:putnam-303777@ygametime.com
DTSTAMP:20220509T211500Z
DTSTART;TZID=America/New_York:20220509T171500
DURATION:PT0H60M0S
SUMMARY:Null vs Bottoms
DESCRIPTION:7-8 year olds | Spring Soccer\nPutnam County Family YMCA\n
URL;VALUE=URI:https://ygametime.com/branch/putnam/sports/2022-spring-spring-soccer/12041/?utm_medium=calendar&utm_source=team_cal&utm_content=league_url#game-303777
LOCATION:Field 4 (7/8)
BEGIN:VALARM
TRIGGER:-P2H
ACTION:DISPLAY
DESCRIPTION:Null vs Bottoms
END:VALARM
END:VEVENT
BEGIN:VEVENT
UID:putnam-287352@ygametime.com
DTSTAMP:20220514T143000Z
DTSTART;TZID=America/New_York:20220514T103000
DURATION:PT0H60M0S
SUMMARY:Null vs Eldridge
DESCRIPTION:7-8 year olds | Spring Soccer\nPutnam County Family YMCA\n
URL;VALUE=URI:https://ygametime.com/branch/putnam/sports/2022-spring-spring-soccer/12041/?utm_medium=calendar&utm_source=team_cal&utm_content=league_url#game-287352
LOCATION:Field 4 (7/8)
BEGIN:VALARM
TRIGGER:-P2H
ACTION:DISPLAY
DESCRIPTION:Null vs Eldridge
END:VALARM
END:VEVENT
END:VCALENDAR

