BEGIN:VCALENDAR
VERSION:2.0
PRODID:-//YGAMETIME.com//YGT iCal Creator//EN
METHOD:PUBLISH
X-PUBLISHED-TTL:PT6H
REFRESH-INTERVAL;VALUE=DURATION:PT6H
CALSCALE:GREGORIAN
X-WR-CALNAME:YGAMETIME CALENDAR
BEGIN:VTIMEZONE
TZID:America/New_York
X-LIC-LOCATION:America/New_York
BEGIN:DAYLIGHT
TZOFFSETFROM:-0500
TZOFFSETTO:-0400
TZNAME:EDT
DTSTART:19700308T020000
RRULE:FREQ=YEARLY;BYMONTH=3;BYDAY=2SU
END:DAYLIGHT
BEGIN:STANDARD
TZOFFSETFROM:-0400
TZOFFSETTO:-0500
TZNAME:EST
DTSTART:19701101T020000
RRULE:FREQ=YEARLY;BYMONTH=11;BYDAY=1SU
END:STANDARD
END:VTIMEZONE
BEGIN:VEVENT
UID:putnam-287339@ygametime.com
DTSTAMP:20220326T164500Z
DTSTART;TZID=America/New_York:20220326T124500
DURATION:PT0H60M0S
SUMMARY:Bottoms vs Stiles
DESCRIPTION:7-8 year olds | Spring Soccer\nPutnam County Family YMCA\n
URL;VALUE=URI:https://ygametime.com/branch/putnam/sports/2022-spring-spring-soccer/12041/?utm_medium=calendar&utm_source=team_cal&utm_content=league_url#game-287339
LOCATION:Field 5 (7/8)
BEGIN:VALARM
TRIGGER:-P2H
ACTION:DISPLAY
DESCRIPTION:Bottoms vs Stiles
END:VALARM
END:VEVENT
BEGIN:VEVENT
UID:putnam-287344@ygametime.com
DTSTAMP:20220402T153000Z
DTSTART;TZID=America/New_York:20220402T113000
DURATION:PT0H60M0S
SUMMARY:Stiles vs Randolph
DESCRIPTION:7-8 year olds | Spring Soccer\nPutnam County Family YMCA\n
URL;VALUE=URI:https://ygametime.com/branch/putnam/sports/2022-spring-spring-soccer/12041/?utm_medium=calendar&utm_source=team_cal&utm_content=league_url#game-287344
LOCATION:Field 5 (7/8)
BEGIN:VALARM
TRIGGER:-P2H
ACTION:DISPLAY
DESCRIPTION:Stiles vs Randolph
END:VALARM
END:VEVENT
BEGIN:VEVENT
UID:putnam-287343@ygametime.com
DTSTAMP:20220402T164500Z
DTSTART;TZID=America/New_York:20220402T124500
DURATION:PT0H60M0S
SUMMARY:Stiles vs Eldridge
DESCRIPTION:7-8 year olds | Spring Soccer\nPutnam County Family YMCA\n
URL;VALUE=URI:https://ygametime.com/branch/putnam/sports/2022-spring-spring-soccer/12041/?utm_medium=calendar&utm_source=team_cal&utm_content=league_url#game-287343
LOCATION:Field 5 (7/8)
BEGIN:VALARM
TRIGGER:-P2H
ACTION:DISPLAY
DESCRIPTION:Stiles vs Eldridge
END:VALARM
END:VEVENT
BEGIN:VEVENT
UID:putnam-287348@ygametime.com
DTSTAMP:20220409T153000Z
DTSTART;TZID=America/New_York:20220409T113000
DURATION:PT0H60M0S
SUMMARY:Eldridge vs Stiles
DESCRIPTION:7-8 year olds | Spring Soccer\nPutnam County Family YMCA\n
URL;VALUE=URI:https://ygametime.com/branch/putnam/sports/2022-spring-spring-soccer/12041/?utm_medium=calendar&utm_source=team_cal&utm_content=league_url#game-287348
LOCATION:Field 5 (7/8)
BEGIN:VALARM
TRIGGER:-P2H
ACTION:DISPLAY
DESCRIPTION:Eldridge vs Stiles
END:VALARM
END:VEVENT
BEGIN:VEVENT
UID:putnam-287362@ygametime.com
DTSTAMP:20220430T133000Z
DTSTART;TZID=America/New_York:20220430T093000
DURATION:PT0H60M0S
SUMMARY:Stiles vs Randolph
DESCRIPTION:7-8 year olds | Spring Soccer\nPutnam County Family YMCA\n
URL;VALUE=URI:https://ygametime.com/branch/putnam/sports/2022-spring-spring-soccer/12041/?utm_medium=calendar&utm_source=team_cal&utm_content=league_url#game-287362
LOCATION:Field 4 (7/8)
BEGIN:VALARM
TRIGGER:-P2H
ACTION:DISPLAY
DESCRIPTION:Stiles vs Randolph
END:VALARM
END:VEVENT
BEGIN:VEVENT
UID:putnam-303434@ygametime.com
DTSTAMP:20220502T221500Z
DTSTART;TZID=America/New_York:20220502T181500
DURATION:PT0H60M0S
SUMMARY:Rutherford vs Stiles
DESCRIPTION:7-8 year olds | Spring Soccer\nPutnam County Family YMCA\n
URL;VALUE=URI:https://ygametime.com/branch/putnam/sports/2022-spring-spring-soccer/12041/?utm_medium=calendar&utm_source=team_cal&utm_content=league_url#game-303434
LOCATION:Field 5 (7/8)
BEGIN:VALARM
TRIGGER:-P2H
ACTION:DISPLAY
DESCRIPTION:Rutherford vs Stiles
END:VALARM
END:VEVENT
BEGIN:VEVENT
UID:putnam-287369@ygametime.com
DTSTAMP:20220507T133000Z
DTSTART;TZID=America/New_York:20220507T093000
DURATION:PT0H60M0S
SUMMARY:Stiles vs Null
DESCRIPTION:7-8 year olds | Spring Soccer\nPutnam County Family YMCA\n
URL;VALUE=URI:https://ygametime.com/branch/putnam/sports/2022-spring-spring-soccer/12041/?utm_medium=calendar&utm_source=team_cal&utm_content=league_url#game-287369
LOCATION:Field 5 (7/8)
BEGIN:VALARM
TRIGGER:-P2H
ACTION:DISPLAY
DESCRIPTION:Stiles vs Null
END:VALARM
END:VEVENT
BEGIN:VEVENT
UID:putnam-287351@ygametime.com
DTSTAMP:20220514T133000Z
DTSTART;TZID=America/New_York:20220514T093000
DURATION:PT0H60M0S
SUMMARY:Stiles vs Flatt
DESCRIPTION:7-8 year olds | Spring Soccer\nPutnam County Family YMCA\n
URL;VALUE=URI:https://ygametime.com/branch/putnam/sports/2022-spring-spring-soccer/12041/?utm_medium=calendar&utm_source=team_cal&utm_content=league_url#game-287351
LOCATION:Field 5 (7/8)
BEGIN:VALARM
TRIGGER:-P2H
ACTION:DISPLAY
DESCRIPTION:Stiles vs Flatt
END:VALARM
END:VEVENT
END:VCALENDAR

