BEGIN:VCALENDAR
VERSION:2.0
PRODID:-//YGAMETIME.com//YGT iCal Creator//EN
METHOD:PUBLISH
X-PUBLISHED-TTL:PT6H
REFRESH-INTERVAL;VALUE=DURATION:PT6H
CALSCALE:GREGORIAN
X-WR-CALNAME:YGAMETIME CALENDAR
BEGIN:VTIMEZONE
TZID:America/New_York
X-LIC-LOCATION:America/New_York
BEGIN:DAYLIGHT
TZOFFSETFROM:-0500
TZOFFSETTO:-0400
TZNAME:EDT
DTSTART:19700308T020000
RRULE:FREQ=YEARLY;BYMONTH=3;BYDAY=2SU
END:DAYLIGHT
BEGIN:STANDARD
TZOFFSETFROM:-0400
TZOFFSETTO:-0500
TZNAME:EST
DTSTART:19701101T020000
RRULE:FREQ=YEARLY;BYMONTH=11;BYDAY=1SU
END:STANDARD
END:VTIMEZONE
BEGIN:VEVENT
UID:putnam-287336@ygametime.com
DTSTAMP:20220326T143000Z
DTSTART;TZID=America/New_York:20220326T103000
DURATION:PT0H60M0S
SUMMARY:Flatt vs Randolph
DESCRIPTION:7-8 year olds | Spring Soccer\nPutnam County Family YMCA\n
URL;VALUE=URI:https://ygametime.com/branch/putnam/sports/2022-spring-spring-soccer/12041/?utm_medium=calendar&utm_source=team_cal&utm_content=league_url#game-287336
LOCATION:Field 4 (7/8)
BEGIN:VALARM
TRIGGER:-P2H
ACTION:DISPLAY
DESCRIPTION:Flatt vs Randolph
END:VALARM
END:VEVENT
BEGIN:VEVENT
UID:putnam-287340@ygametime.com
DTSTAMP:20220326T154500Z
DTSTART;TZID=America/New_York:20220326T114500
DURATION:PT0H60M0S
SUMMARY:Meadows vs Flatt
DESCRIPTION:7-8 year olds | Spring Soccer\nPutnam County Family YMCA\n
URL;VALUE=URI:https://ygametime.com/branch/putnam/sports/2022-spring-spring-soccer/12041/?utm_medium=calendar&utm_source=team_cal&utm_content=league_url#game-287340
LOCATION:Field 4 (7/8)
BEGIN:VALARM
TRIGGER:-P2H
ACTION:DISPLAY
DESCRIPTION:Meadows vs Flatt
END:VALARM
END:VEVENT
BEGIN:VEVENT
UID:putnam-287341@ygametime.com
DTSTAMP:20220402T143000Z
DTSTART;TZID=America/New_York:20220402T103000
DURATION:PT0H60M0S
SUMMARY:Rutherford vs Flatt
DESCRIPTION:7-8 year olds | Spring Soccer\nPutnam County Family YMCA\n
URL;VALUE=URI:https://ygametime.com/branch/putnam/sports/2022-spring-spring-soccer/12041/?utm_medium=calendar&utm_source=team_cal&utm_content=league_url#game-287341
LOCATION:Field 4 (7/8)
BEGIN:VALARM
TRIGGER:-P2H
ACTION:DISPLAY
DESCRIPTION:Rutherford vs Flatt
END:VALARM
END:VEVENT
BEGIN:VEVENT
UID:putnam-287350@ygametime.com
DTSTAMP:20220409T143000Z
DTSTART;TZID=America/New_York:20220409T103000
DURATION:PT0H60M0S
SUMMARY:Flatt vs Rohman
DESCRIPTION:7-8 year olds | Spring Soccer\nPutnam County Family YMCA\n
URL;VALUE=URI:https://ygametime.com/branch/putnam/sports/2022-spring-spring-soccer/12041/?utm_medium=calendar&utm_source=team_cal&utm_content=league_url#game-287350
LOCATION:Field 4 (7/8)
BEGIN:VALARM
TRIGGER:-P2H
ACTION:DISPLAY
DESCRIPTION:Flatt vs Rohman
END:VALARM
END:VEVENT
BEGIN:VEVENT
UID:putnam-287356@ygametime.com
DTSTAMP:20220423T143000Z
DTSTART;TZID=America/New_York:20220423T103000
DURATION:PT0H60M0S
SUMMARY:Flatt vs Eldridge
DESCRIPTION:7-8 year olds | Spring Soccer\nPutnam County Family YMCA\n
URL;VALUE=URI:https://ygametime.com/branch/putnam/sports/2022-spring-spring-soccer/12041/?utm_medium=calendar&utm_source=team_cal&utm_content=league_url#game-287356
LOCATION:Field 5 (7/8)
BEGIN:VALARM
TRIGGER:-P2H
ACTION:DISPLAY
DESCRIPTION:Flatt vs Eldridge
END:VALARM
END:VEVENT
BEGIN:VEVENT
UID:putnam-287365@ygametime.com
DTSTAMP:20220430T143000Z
DTSTART;TZID=America/New_York:20220430T103000
DURATION:PT0H60M0S
SUMMARY:Rohman vs Flatt
DESCRIPTION:7-8 year olds | Spring Soccer\nPutnam County Family YMCA\n
URL;VALUE=URI:https://ygametime.com/branch/putnam/sports/2022-spring-spring-soccer/12041/?utm_medium=calendar&utm_source=team_cal&utm_content=league_url#game-287365
LOCATION:Field 5 (7/8)
BEGIN:VALARM
TRIGGER:-P2H
ACTION:DISPLAY
DESCRIPTION:Rohman vs Flatt
END:VALARM
END:VEVENT
BEGIN:VEVENT
UID:putnam-287368@ygametime.com
DTSTAMP:20220507T153000Z
DTSTART;TZID=America/New_York:20220507T113000
DURATION:PT0H60M0S
SUMMARY:Flatt vs Bottoms
DESCRIPTION:7-8 year olds | Spring Soccer\nPutnam County Family YMCA\n
URL;VALUE=URI:https://ygametime.com/branch/putnam/sports/2022-spring-spring-soccer/12041/?utm_medium=calendar&utm_source=team_cal&utm_content=league_url#game-287368
LOCATION:Field 5 (7/8)
BEGIN:VALARM
TRIGGER:-P2H
ACTION:DISPLAY
DESCRIPTION:Flatt vs Bottoms
END:VALARM
END:VEVENT
BEGIN:VEVENT
UID:putnam-287351@ygametime.com
DTSTAMP:20220514T133000Z
DTSTART;TZID=America/New_York:20220514T093000
DURATION:PT0H60M0S
SUMMARY:Stiles vs Flatt
DESCRIPTION:7-8 year olds | Spring Soccer\nPutnam County Family YMCA\n
URL;VALUE=URI:https://ygametime.com/branch/putnam/sports/2022-spring-spring-soccer/12041/?utm_medium=calendar&utm_source=team_cal&utm_content=league_url#game-287351
LOCATION:Field 5 (7/8)
BEGIN:VALARM
TRIGGER:-P2H
ACTION:DISPLAY
DESCRIPTION:Stiles vs Flatt
END:VALARM
END:VEVENT
END:VCALENDAR

