BEGIN:VCALENDAR
VERSION:2.0
PRODID:-//YGAMETIME.com//YGT iCal Creator//EN
METHOD:PUBLISH
X-PUBLISHED-TTL:PT6H
REFRESH-INTERVAL;VALUE=DURATION:PT6H
CALSCALE:GREGORIAN
X-WR-CALNAME:YGAMETIME CALENDAR
BEGIN:VTIMEZONE
TZID:America/New_York
X-LIC-LOCATION:America/New_York
BEGIN:DAYLIGHT
TZOFFSETFROM:-0500
TZOFFSETTO:-0400
TZNAME:EDT
DTSTART:19700308T020000
RRULE:FREQ=YEARLY;BYMONTH=3;BYDAY=2SU
END:DAYLIGHT
BEGIN:STANDARD
TZOFFSETFROM:-0400
TZOFFSETTO:-0500
TZNAME:EST
DTSTART:19701101T020000
RRULE:FREQ=YEARLY;BYMONTH=11;BYDAY=1SU
END:STANDARD
END:VTIMEZONE
BEGIN:VEVENT
UID:putnam-287300@ygametime.com
DTSTAMP:20220326T143000Z
DTSTART;TZID=America/New_York:20220326T103000
DURATION:PT0H60M0S
SUMMARY:Reep vs Mason
DESCRIPTION:5-6 year olds | Spring Soccer\nPutnam County Family YMCA\n
URL;VALUE=URI:https://ygametime.com/branch/putnam/sports/2022-spring-spring-soccer/12039/?utm_medium=calendar&utm_source=team_cal&utm_content=league_url#game-287300
LOCATION:Field 7 (3/4)
BEGIN:VALARM
TRIGGER:-P2H
ACTION:DISPLAY
DESCRIPTION:Reep vs Mason
END:VALARM
END:VEVENT
BEGIN:VEVENT
UID:putnam-287965@ygametime.com
DTSTAMP:20220328T214500Z
DTSTART;TZID=America/New_York:20220328T174500
DURATION:PT0H60M0S
SUMMARY:Ross vs Mason
DESCRIPTION:5-6 year olds | Spring Soccer\nPutnam County Family YMCA\n
URL;VALUE=URI:https://ygametime.com/branch/putnam/sports/2022-spring-spring-soccer/12039/?utm_medium=calendar&utm_source=team_cal&utm_content=league_url#game-287965
LOCATION:Field 7 (3/4)
BEGIN:VALARM
TRIGGER:-P2H
ACTION:DISPLAY
DESCRIPTION:Ross vs Mason
END:VALARM
END:VEVENT
BEGIN:VEVENT
UID:putnam-287301@ygametime.com
DTSTAMP:20220402T153000Z
DTSTART;TZID=America/New_York:20220402T113000
DURATION:PT0H60M0S
SUMMARY:Battaglia vs Mason
DESCRIPTION:5-6 year olds | Spring Soccer\nPutnam County Family YMCA\n
URL;VALUE=URI:https://ygametime.com/branch/putnam/sports/2022-spring-spring-soccer/12039/?utm_medium=calendar&utm_source=team_cal&utm_content=league_url#game-287301
LOCATION:Field 9 (3/4)
BEGIN:VALARM
TRIGGER:-P2H
ACTION:DISPLAY
DESCRIPTION:Battaglia vs Mason
END:VALARM
END:VEVENT
BEGIN:VEVENT
UID:putnam-287316@ygametime.com
DTSTAMP:20220423T123000Z
DTSTART;TZID=America/New_York:20220423T083000
DURATION:PT0H60M0S
SUMMARY:Mason vs Scantland
DESCRIPTION:5-6 year olds | Spring Soccer\nPutnam County Family YMCA\n
URL;VALUE=URI:https://ygametime.com/branch/putnam/sports/2022-spring-spring-soccer/12039/?utm_medium=calendar&utm_source=team_cal&utm_content=league_url#game-287316
LOCATION:Field 7 (3/4)
BEGIN:VALARM
TRIGGER:-P2H
ACTION:DISPLAY
DESCRIPTION:Mason vs Scantland
END:VALARM
END:VEVENT
BEGIN:VEVENT
UID:putnam-287735@ygametime.com
DTSTAMP:20220423T133000Z
DTSTART;TZID=America/New_York:20220423T093000
DURATION:PT0H60M0S
SUMMARY:Mason vs Corley
DESCRIPTION:5-6 year olds | Spring Soccer\nPutnam County Family YMCA\n
URL;VALUE=URI:https://ygametime.com/branch/putnam/sports/2022-spring-spring-soccer/12039/?utm_medium=calendar&utm_source=team_cal&utm_content=league_url#game-287735
LOCATION:Field 7 (3/4)
BEGIN:VALARM
TRIGGER:-P2H
ACTION:DISPLAY
DESCRIPTION:Mason vs Corley
END:VALARM
END:VEVENT
BEGIN:VEVENT
UID:putnam-287325@ygametime.com
DTSTAMP:20220430T163000Z
DTSTART;TZID=America/New_York:20220430T123000
DURATION:PT0H60M0S
SUMMARY:Lamb vs Mason
DESCRIPTION:5-6 year olds | Spring Soccer\nPutnam County Family YMCA\n
URL;VALUE=URI:https://ygametime.com/branch/putnam/sports/2022-spring-spring-soccer/12039/?utm_medium=calendar&utm_source=team_cal&utm_content=league_url#game-287325
LOCATION:Field 9 (3/4)
BEGIN:VALARM
TRIGGER:-P2H
ACTION:DISPLAY
DESCRIPTION:Lamb vs Mason
END:VALARM
END:VEVENT
BEGIN:VEVENT
UID:putnam-302220@ygametime.com
DTSTAMP:20220502T221500Z
DTSTART;TZID=America/New_York:20220502T181500
DURATION:PT0H60M0S
SUMMARY:Mason vs Bottoms
DESCRIPTION:5-6 year olds | Spring Soccer\nPutnam County Family YMCA\n
URL;VALUE=URI:https://ygametime.com/branch/putnam/sports/2022-spring-spring-soccer/12039/?utm_medium=calendar&utm_source=team_cal&utm_content=league_url#game-302220
LOCATION:Field 7 (3/4)
BEGIN:VALARM
TRIGGER:-P2H
ACTION:DISPLAY
DESCRIPTION:Mason vs Bottoms
END:VALARM
END:VEVENT
BEGIN:VEVENT
UID:putnam-287335@ygametime.com
DTSTAMP:20220509T221500Z
DTSTART;TZID=America/New_York:20220509T181500
DURATION:PT0H60M0S
SUMMARY:Ross vs Mason
DESCRIPTION:5-6 year olds | Spring Soccer\nPutnam County Family YMCA\n
URL;VALUE=URI:https://ygametime.com/branch/putnam/sports/2022-spring-spring-soccer/12039/?utm_medium=calendar&utm_source=team_cal&utm_content=league_url#game-287335
LOCATION:Field 7 (3/4)
BEGIN:VALARM
TRIGGER:-P2H
ACTION:DISPLAY
DESCRIPTION:Ross vs Mason
END:VALARM
END:VEVENT
END:VCALENDAR

