BEGIN:VCALENDAR
VERSION:2.0
PRODID:-//YGAMETIME.com//YGT iCal Creator//EN
METHOD:PUBLISH
X-PUBLISHED-TTL:PT6H
REFRESH-INTERVAL;VALUE=DURATION:PT6H
CALSCALE:GREGORIAN
X-WR-CALNAME:YGAMETIME CALENDAR
BEGIN:VTIMEZONE
TZID:America/New_York
X-LIC-LOCATION:America/New_York
BEGIN:DAYLIGHT
TZOFFSETFROM:-0500
TZOFFSETTO:-0400
TZNAME:EDT
DTSTART:19700308T020000
RRULE:FREQ=YEARLY;BYMONTH=3;BYDAY=2SU
END:DAYLIGHT
BEGIN:STANDARD
TZOFFSETFROM:-0400
TZOFFSETTO:-0500
TZNAME:EST
DTSTART:19701101T020000
RRULE:FREQ=YEARLY;BYMONTH=11;BYDAY=1SU
END:STANDARD
END:VTIMEZONE
BEGIN:VEVENT
UID:putnam-287435@ygametime.com
DTSTAMP:20220326T130000Z
DTSTART;TZID=America/New_York:20220326T090000
DURATION:PT0H90M0S
SUMMARY: Tony Michael vs Fancher
DESCRIPTION:9-11 year olds | Spring Soccer\nPutnam County Family YMCA\n
URL;VALUE=URI:https://ygametime.com/branch/putnam/sports/2022-spring-spring-soccer/12042/?utm_medium=calendar&utm_source=team_cal&utm_content=league_url#game-287435
LOCATION:Field 1 (9/11) Practice field
BEGIN:VALARM
TRIGGER:-P2H
ACTION:DISPLAY
DESCRIPTION: Tony Michael vs Fancher
END:VALARM
END:VEVENT
BEGIN:VEVENT
UID:putnam-287439@ygametime.com
DTSTAMP:20220402T143000Z
DTSTART;TZID=America/New_York:20220402T103000
DURATION:PT0H90M0S
SUMMARY:Mack vs  Tony Michael
DESCRIPTION:9-11 year olds | Spring Soccer\nPutnam County Family YMCA\n
URL;VALUE=URI:https://ygametime.com/branch/putnam/sports/2022-spring-spring-soccer/12042/?utm_medium=calendar&utm_source=team_cal&utm_content=league_url#game-287439
LOCATION:Field 1 (9/11) Practice field
BEGIN:VALARM
TRIGGER:-P2H
ACTION:DISPLAY
DESCRIPTION:Mack vs  Tony Michael
END:VALARM
END:VEVENT
BEGIN:VEVENT
UID:putnam-287444@ygametime.com
DTSTAMP:20220409T173000Z
DTSTART;TZID=America/New_York:20220409T133000
DURATION:PT0H90M0S
SUMMARY: Tony Michael vs Brown
DESCRIPTION:9-11 year olds | Spring Soccer\nPutnam County Family YMCA\n
URL;VALUE=URI:https://ygametime.com/branch/putnam/sports/2022-spring-spring-soccer/12042/?utm_medium=calendar&utm_source=team_cal&utm_content=league_url#game-287444
LOCATION:Field 1 (9/11) Practice field
BEGIN:VALARM
TRIGGER:-P2H
ACTION:DISPLAY
DESCRIPTION: Tony Michael vs Brown
END:VALARM
END:VEVENT
BEGIN:VEVENT
UID:putnam-287454@ygametime.com
DTSTAMP:20220423T160000Z
DTSTART;TZID=America/New_York:20220423T120000
DURATION:PT0H90M0S
SUMMARY: Tony Michael vs Michael Brown
DESCRIPTION:9-11 year olds | Spring Soccer\nPutnam County Family YMCA\n
URL;VALUE=URI:https://ygametime.com/branch/putnam/sports/2022-spring-spring-soccer/12042/?utm_medium=calendar&utm_source=team_cal&utm_content=league_url#game-287454
LOCATION:Field 1 (9/11) Practice field
BEGIN:VALARM
TRIGGER:-P2H
ACTION:DISPLAY
DESCRIPTION: Tony Michael vs Michael Brown
END:VALARM
END:VEVENT
BEGIN:VEVENT
UID:putnam-287458@ygametime.com
DTSTAMP:20220430T130000Z
DTSTART;TZID=America/New_York:20220430T090000
DURATION:PT0H90M0S
SUMMARY:Bowers vs  Tony Michael
DESCRIPTION:9-11 year olds | Spring Soccer\nPutnam County Family YMCA\n
URL;VALUE=URI:https://ygametime.com/branch/putnam/sports/2022-spring-spring-soccer/12042/?utm_medium=calendar&utm_source=team_cal&utm_content=league_url#game-287458
LOCATION:Field 1 (9/11) Practice field
BEGIN:VALARM
TRIGGER:-P2H
ACTION:DISPLAY
DESCRIPTION:Bowers vs  Tony Michael
END:VALARM
END:VEVENT
BEGIN:VEVENT
UID:putnam-287462@ygametime.com
DTSTAMP:20220507T160000Z
DTSTART;TZID=America/New_York:20220507T120000
DURATION:PT0H90M0S
SUMMARY: Tony Michael vs Deason
DESCRIPTION:9-11 year olds | Spring Soccer\nPutnam County Family YMCA\n
URL;VALUE=URI:https://ygametime.com/branch/putnam/sports/2022-spring-spring-soccer/12042/?utm_medium=calendar&utm_source=team_cal&utm_content=league_url#game-287462
LOCATION:Field 1 (9/11) Practice field
BEGIN:VALARM
TRIGGER:-P2H
ACTION:DISPLAY
DESCRIPTION: Tony Michael vs Deason
END:VALARM
END:VEVENT
BEGIN:VEVENT
UID:putnam-304449@ygametime.com
DTSTAMP:20220509T223000Z
DTSTART;TZID=America/New_York:20220509T183000
DURATION:PT0H75M0S
SUMMARY: Tony Michael vs Fancher
DESCRIPTION:9-11 year olds | Spring Soccer\nPutnam County Family YMCA\n
URL;VALUE=URI:https://ygametime.com/branch/putnam/sports/2022-spring-spring-soccer/12042/?utm_medium=calendar&utm_source=team_cal&utm_content=league_url#game-304449
LOCATION:Field 1 (9/11) Practice field
BEGIN:VALARM
TRIGGER:-P2H
ACTION:DISPLAY
DESCRIPTION: Tony Michael vs Fancher
END:VALARM
END:VEVENT
END:VCALENDAR

