BEGIN:VCALENDAR
VERSION:2.0
PRODID:-//YGAMETIME.com//YGT iCal Creator//EN
METHOD:PUBLISH
X-PUBLISHED-TTL:PT6H
REFRESH-INTERVAL;VALUE=DURATION:PT6H
CALSCALE:GREGORIAN
X-WR-CALNAME:YGAMETIME CALENDAR
BEGIN:VTIMEZONE
TZID:America/New_York
X-LIC-LOCATION:America/New_York
BEGIN:DAYLIGHT
TZOFFSETFROM:-0500
TZOFFSETTO:-0400
TZNAME:EDT
DTSTART:19700308T020000
RRULE:FREQ=YEARLY;BYMONTH=3;BYDAY=2SU
END:DAYLIGHT
BEGIN:STANDARD
TZOFFSETFROM:-0400
TZOFFSETTO:-0500
TZNAME:EST
DTSTART:19701101T020000
RRULE:FREQ=YEARLY;BYMONTH=11;BYDAY=1SU
END:STANDARD
END:VTIMEZONE
BEGIN:VEVENT
UID:putnam-287260@ygametime.com
DTSTAMP:20220326T133000Z
DTSTART;TZID=America/New_York:20220326T093000
DURATION:PT0H45M0S
SUMMARY:Floyd vs Asberry
DESCRIPTION:3-4 year olds | Spring Soccer\nPutnam County Family YMCA\n
URL;VALUE=URI:https://ygametime.com/branch/putnam/sports/2022-spring-spring-soccer/12040/?utm_medium=calendar&utm_source=team_cal&utm_content=league_url#game-287260
LOCATION:Field 2 (5/6)
BEGIN:VALARM
TRIGGER:-P2H
ACTION:DISPLAY
DESCRIPTION:Floyd vs Asberry
END:VALARM
END:VEVENT
BEGIN:VEVENT
UID:putnam-287266@ygametime.com
DTSTAMP:20220402T141500Z
DTSTART;TZID=America/New_York:20220402T101500
DURATION:PT0H45M0S
SUMMARY:Stephenson vs Floyd
DESCRIPTION:3-4 year olds | Spring Soccer\nPutnam County Family YMCA\n
URL;VALUE=URI:https://ygametime.com/branch/putnam/sports/2022-spring-spring-soccer/12040/?utm_medium=calendar&utm_source=team_cal&utm_content=league_url#game-287266
LOCATION:Field 3 (5/6)
BEGIN:VALARM
TRIGGER:-P2H
ACTION:DISPLAY
DESCRIPTION:Stephenson vs Floyd
END:VALARM
END:VEVENT
BEGIN:VEVENT
UID:putnam-302223@ygametime.com
DTSTAMP:20220420T214500Z
DTSTART;TZID=America/New_York:20220420T174500
DURATION:PT0H45M0S
SUMMARY:Stephenson vs Floyd
DESCRIPTION:3-4 year olds | Spring Soccer\nPutnam County Family YMCA\n
URL;VALUE=URI:https://ygametime.com/branch/putnam/sports/2022-spring-spring-soccer/12040/?utm_medium=calendar&utm_source=team_cal&utm_content=league_url#game-302223
LOCATION:Field 3 (5/6)
BEGIN:VALARM
TRIGGER:-P2H
ACTION:DISPLAY
DESCRIPTION:Stephenson vs Floyd
END:VALARM
END:VEVENT
BEGIN:VEVENT
UID:putnam-287280@ygametime.com
DTSTAMP:20220423T133000Z
DTSTART;TZID=America/New_York:20220423T093000
DURATION:PT0H45M0S
SUMMARY:Floyd vs Capps
DESCRIPTION:3-4 year olds | Spring Soccer\nPutnam County Family YMCA\n
URL;VALUE=URI:https://ygametime.com/branch/putnam/sports/2022-spring-spring-soccer/12040/?utm_medium=calendar&utm_source=team_cal&utm_content=league_url#game-287280
LOCATION:Field 2 (5/6)
BEGIN:VALARM
TRIGGER:-P2H
ACTION:DISPLAY
DESCRIPTION:Floyd vs Capps
END:VALARM
END:VEVENT
BEGIN:VEVENT
UID:putnam-287283@ygametime.com
DTSTAMP:20220430T124500Z
DTSTART;TZID=America/New_York:20220430T084500
DURATION:PT0H45M0S
SUMMARY:Betcher vs Floyd
DESCRIPTION:3-4 year olds | Spring Soccer\nPutnam County Family YMCA\n
URL;VALUE=URI:https://ygametime.com/branch/putnam/sports/2022-spring-spring-soccer/12040/?utm_medium=calendar&utm_source=team_cal&utm_content=league_url#game-287283
LOCATION:Field 3 (5/6)
BEGIN:VALARM
TRIGGER:-P2H
ACTION:DISPLAY
DESCRIPTION:Betcher vs Floyd
END:VALARM
END:VEVENT
BEGIN:VEVENT
UID:putnam-304486@ygametime.com
DTSTAMP:20220509T221500Z
DTSTART;TZID=America/New_York:20220509T181500
DURATION:PT0H45M0S
SUMMARY:Asberry vs Floyd
DESCRIPTION:3-4 year olds | Spring Soccer\nPutnam County Family YMCA\n
URL;VALUE=URI:https://ygametime.com/branch/putnam/sports/2022-spring-spring-soccer/12040/?utm_medium=calendar&utm_source=team_cal&utm_content=league_url#game-304486
LOCATION:Field 3 (5/6)
BEGIN:VALARM
TRIGGER:-P2H
ACTION:DISPLAY
DESCRIPTION:Asberry vs Floyd
END:VALARM
END:VEVENT
BEGIN:VEVENT
UID:putnam-304288@ygametime.com
DTSTAMP:20220510T214500Z
DTSTART;TZID=America/New_York:20220510T174500
DURATION:PT0H45M0S
SUMMARY:Floyd vs Capps
DESCRIPTION:3-4 year olds | Spring Soccer\nPutnam County Family YMCA\n
URL;VALUE=URI:https://ygametime.com/branch/putnam/sports/2022-spring-spring-soccer/12040/?utm_medium=calendar&utm_source=team_cal&utm_content=league_url#game-304288
LOCATION:
BEGIN:VALARM
TRIGGER:-P2H
ACTION:DISPLAY
DESCRIPTION:Floyd vs Capps
END:VALARM
END:VEVENT
END:VCALENDAR

