BEGIN:VCALENDAR
VERSION:2.0
PRODID:-//YGAMETIME.com//YGT iCal Creator//EN
METHOD:PUBLISH
X-PUBLISHED-TTL:PT6H
REFRESH-INTERVAL;VALUE=DURATION:PT6H
CALSCALE:GREGORIAN
X-WR-CALNAME:YGAMETIME CALENDAR
BEGIN:VTIMEZONE
TZID:America/New_York
X-LIC-LOCATION:America/New_York
BEGIN:DAYLIGHT
TZOFFSETFROM:-0500
TZOFFSETTO:-0400
TZNAME:EDT
DTSTART:19700308T020000
RRULE:FREQ=YEARLY;BYMONTH=3;BYDAY=2SU
END:DAYLIGHT
BEGIN:STANDARD
TZOFFSETFROM:-0400
TZOFFSETTO:-0500
TZNAME:EST
DTSTART:19701101T020000
RRULE:FREQ=YEARLY;BYMONTH=11;BYDAY=1SU
END:STANDARD
END:VTIMEZONE
BEGIN:VEVENT
UID:putnam-287297@ygametime.com
DTSTAMP:20220326T123000Z
DTSTART;TZID=America/New_York:20220326T083000
DURATION:PT0H60M0S
SUMMARY:Lamb vs Scantland
DESCRIPTION:5-6 year olds | Spring Soccer\nPutnam County Family YMCA\n
URL;VALUE=URI:https://ygametime.com/branch/putnam/sports/2022-spring-spring-soccer/12039/?utm_medium=calendar&utm_source=team_cal&utm_content=league_url#game-287297
LOCATION:Field 9 (3/4)
BEGIN:VALARM
TRIGGER:-P2H
ACTION:DISPLAY
DESCRIPTION:Lamb vs Scantland
END:VALARM
END:VEVENT
BEGIN:VEVENT
UID:putnam-287296@ygametime.com
DTSTAMP:20220326T133000Z
DTSTART;TZID=America/New_York:20220326T093000
DURATION:PT0H60M0S
SUMMARY:Lamb vs Smith
DESCRIPTION:5-6 year olds | Spring Soccer\nPutnam County Family YMCA\n
URL;VALUE=URI:https://ygametime.com/branch/putnam/sports/2022-spring-spring-soccer/12039/?utm_medium=calendar&utm_source=team_cal&utm_content=league_url#game-287296
LOCATION:Field 9 (3/4)
BEGIN:VALARM
TRIGGER:-P2H
ACTION:DISPLAY
DESCRIPTION:Lamb vs Smith
END:VALARM
END:VEVENT
BEGIN:VEVENT
UID:putnam-287305@ygametime.com
DTSTAMP:20220402T163000Z
DTSTART;TZID=America/New_York:20220402T123000
DURATION:PT0H60M0S
SUMMARY:Smith vs Lamb
DESCRIPTION:5-6 year olds | Spring Soccer\nPutnam County Family YMCA\n
URL;VALUE=URI:https://ygametime.com/branch/putnam/sports/2022-spring-spring-soccer/12039/?utm_medium=calendar&utm_source=team_cal&utm_content=league_url#game-287305
LOCATION:Field 7 (3/4)
BEGIN:VALARM
TRIGGER:-P2H
ACTION:DISPLAY
DESCRIPTION:Smith vs Lamb
END:VALARM
END:VEVENT
BEGIN:VEVENT
UID:putnam-287320@ygametime.com
DTSTAMP:20220423T143000Z
DTSTART;TZID=America/New_York:20220423T103000
DURATION:PT0H60M0S
SUMMARY:Bottoms vs Lamb
DESCRIPTION:5-6 year olds | Spring Soccer\nPutnam County Family YMCA\n
URL;VALUE=URI:https://ygametime.com/branch/putnam/sports/2022-spring-spring-soccer/12039/?utm_medium=calendar&utm_source=team_cal&utm_content=league_url#game-287320
LOCATION:Field 7 (3/4)
BEGIN:VALARM
TRIGGER:-P2H
ACTION:DISPLAY
DESCRIPTION:Bottoms vs Lamb
END:VALARM
END:VEVENT
BEGIN:VEVENT
UID:putnam-287325@ygametime.com
DTSTAMP:20220430T163000Z
DTSTART;TZID=America/New_York:20220430T123000
DURATION:PT0H60M0S
SUMMARY:Lamb vs Mason
DESCRIPTION:5-6 year olds | Spring Soccer\nPutnam County Family YMCA\n
URL;VALUE=URI:https://ygametime.com/branch/putnam/sports/2022-spring-spring-soccer/12039/?utm_medium=calendar&utm_source=team_cal&utm_content=league_url#game-287325
LOCATION:Field 9 (3/4)
BEGIN:VALARM
TRIGGER:-P2H
ACTION:DISPLAY
DESCRIPTION:Lamb vs Mason
END:VALARM
END:VEVENT
BEGIN:VEVENT
UID:putnam-302189@ygametime.com
DTSTAMP:20220504T213000Z
DTSTART;TZID=America/New_York:20220504T173000
DURATION:PT0H60M0S
SUMMARY:Lamb vs Battaglia
DESCRIPTION:5-6 year olds | Spring Soccer\nPutnam County Family YMCA\n
URL;VALUE=URI:https://ygametime.com/branch/putnam/sports/2022-spring-spring-soccer/12039/?utm_medium=calendar&utm_source=team_cal&utm_content=league_url#game-302189
LOCATION:Field 9 (3/4)
BEGIN:VALARM
TRIGGER:-P2H
ACTION:DISPLAY
DESCRIPTION:Lamb vs Battaglia
END:VALARM
END:VEVENT
BEGIN:VEVENT
UID:putnam-287327@ygametime.com
DTSTAMP:20220507T153000Z
DTSTART;TZID=America/New_York:20220507T113000
DURATION:PT0H60M0S
SUMMARY:Corley vs Lamb
DESCRIPTION:5-6 year olds | Spring Soccer\nPutnam County Family YMCA\n
URL;VALUE=URI:https://ygametime.com/branch/putnam/sports/2022-spring-spring-soccer/12039/?utm_medium=calendar&utm_source=team_cal&utm_content=league_url#game-287327
LOCATION:Field 7 (3/4)
BEGIN:VALARM
TRIGGER:-P2H
ACTION:DISPLAY
DESCRIPTION:Corley vs Lamb
END:VALARM
END:VEVENT
BEGIN:VEVENT
UID:putnam-287315@ygametime.com
DTSTAMP:20220514T144500Z
DTSTART;TZID=America/New_York:20220514T104500
DURATION:PT0H60M0S
SUMMARY:Lamb vs Reep
DESCRIPTION:5-6 year olds | Spring Soccer\nPutnam County Family YMCA\n
URL;VALUE=URI:https://ygametime.com/branch/putnam/sports/2022-spring-spring-soccer/12039/?utm_medium=calendar&utm_source=team_cal&utm_content=league_url#game-287315
LOCATION:Field 9 (3/4)
BEGIN:VALARM
TRIGGER:-P2H
ACTION:DISPLAY
DESCRIPTION:Lamb vs Reep
END:VALARM
END:VEVENT
END:VCALENDAR

