BEGIN:VCALENDAR
VERSION:2.0
PRODID:-//YGAMETIME.com//YGT iCal Creator//EN
METHOD:PUBLISH
X-PUBLISHED-TTL:PT6H
REFRESH-INTERVAL;VALUE=DURATION:PT6H
CALSCALE:GREGORIAN
X-WR-CALNAME:YGAMETIME CALENDAR
BEGIN:VTIMEZONE
TZID:America/New_York
X-LIC-LOCATION:America/New_York
BEGIN:DAYLIGHT
TZOFFSETFROM:-0500
TZOFFSETTO:-0400
TZNAME:EDT
DTSTART:19700308T020000
RRULE:FREQ=YEARLY;BYMONTH=3;BYDAY=2SU
END:DAYLIGHT
BEGIN:STANDARD
TZOFFSETFROM:-0400
TZOFFSETTO:-0500
TZNAME:EST
DTSTART:19701101T020000
RRULE:FREQ=YEARLY;BYMONTH=11;BYDAY=1SU
END:STANDARD
END:VTIMEZONE
BEGIN:VEVENT
UID:putnam-287261@ygametime.com
DTSTAMP:20220326T141500Z
DTSTART;TZID=America/New_York:20220326T101500
DURATION:PT0H45M0S
SUMMARY:Capps vs Turner
DESCRIPTION:3-4 year olds | Spring Soccer\nPutnam County Family YMCA\n
URL;VALUE=URI:https://ygametime.com/branch/putnam/sports/2022-spring-spring-soccer/12040/?utm_medium=calendar&utm_source=team_cal&utm_content=league_url#game-287261
LOCATION:Field 3 (5/6)
BEGIN:VALARM
TRIGGER:-P2H
ACTION:DISPLAY
DESCRIPTION:Capps vs Turner
END:VALARM
END:VEVENT
BEGIN:VEVENT
UID:putnam-287263@ygametime.com
DTSTAMP:20220402T124500Z
DTSTART;TZID=America/New_York:20220402T084500
DURATION:PT0H45M0S
SUMMARY:Grimm vs Capps
DESCRIPTION:3-4 year olds | Spring Soccer\nPutnam County Family YMCA\n
URL;VALUE=URI:https://ygametime.com/branch/putnam/sports/2022-spring-spring-soccer/12040/?utm_medium=calendar&utm_source=team_cal&utm_content=league_url#game-287263
LOCATION:Field 3 (5/6)
BEGIN:VALARM
TRIGGER:-P2H
ACTION:DISPLAY
DESCRIPTION:Grimm vs Capps
END:VALARM
END:VEVENT
BEGIN:VEVENT
UID:putnam-287280@ygametime.com
DTSTAMP:20220423T133000Z
DTSTART;TZID=America/New_York:20220423T093000
DURATION:PT0H45M0S
SUMMARY:Floyd vs Capps
DESCRIPTION:3-4 year olds | Spring Soccer\nPutnam County Family YMCA\n
URL;VALUE=URI:https://ygametime.com/branch/putnam/sports/2022-spring-spring-soccer/12040/?utm_medium=calendar&utm_source=team_cal&utm_content=league_url#game-287280
LOCATION:Field 2 (5/6)
BEGIN:VALARM
TRIGGER:-P2H
ACTION:DISPLAY
DESCRIPTION:Floyd vs Capps
END:VALARM
END:VEVENT
BEGIN:VEVENT
UID:putnam-302242@ygametime.com
DTSTAMP:20220426T214500Z
DTSTART;TZID=America/New_York:20220426T174500
DURATION:PT0H45M0S
SUMMARY:Grimm vs Capps
DESCRIPTION:3-4 year olds | Spring Soccer\nPutnam County Family YMCA\n
URL;VALUE=URI:https://ygametime.com/branch/putnam/sports/2022-spring-spring-soccer/12040/?utm_medium=calendar&utm_source=team_cal&utm_content=league_url#game-302242
LOCATION:Field 3 (5/6)
BEGIN:VALARM
TRIGGER:-P2H
ACTION:DISPLAY
DESCRIPTION:Grimm vs Capps
END:VALARM
END:VEVENT
BEGIN:VEVENT
UID:putnam-287285@ygametime.com
DTSTAMP:20220430T133000Z
DTSTART;TZID=America/New_York:20220430T093000
DURATION:PT0H45M0S
SUMMARY:Capps vs Martin
DESCRIPTION:3-4 year olds | Spring Soccer\nPutnam County Family YMCA\n
URL;VALUE=URI:https://ygametime.com/branch/putnam/sports/2022-spring-spring-soccer/12040/?utm_medium=calendar&utm_source=team_cal&utm_content=league_url#game-287285
LOCATION:Field 2 (5/6)
BEGIN:VALARM
TRIGGER:-P2H
ACTION:DISPLAY
DESCRIPTION:Capps vs Martin
END:VALARM
END:VEVENT
BEGIN:VEVENT
UID:putnam-304288@ygametime.com
DTSTAMP:20220510T214500Z
DTSTART;TZID=America/New_York:20220510T174500
DURATION:PT0H45M0S
SUMMARY:Floyd vs Capps
DESCRIPTION:3-4 year olds | Spring Soccer\nPutnam County Family YMCA\n
URL;VALUE=URI:https://ygametime.com/branch/putnam/sports/2022-spring-spring-soccer/12040/?utm_medium=calendar&utm_source=team_cal&utm_content=league_url#game-304288
LOCATION:
BEGIN:VALARM
TRIGGER:-P2H
ACTION:DISPLAY
DESCRIPTION:Floyd vs Capps
END:VALARM
END:VEVENT
BEGIN:VEVENT
UID:putnam-287275@ygametime.com
DTSTAMP:20220514T130000Z
DTSTART;TZID=America/New_York:20220514T090000
DURATION:PT0H45M0S
SUMMARY:Betcher vs Capps
DESCRIPTION:3-4 year olds | Spring Soccer\nPutnam County Family YMCA\n
URL;VALUE=URI:https://ygametime.com/branch/putnam/sports/2022-spring-spring-soccer/12040/?utm_medium=calendar&utm_source=team_cal&utm_content=league_url#game-287275
LOCATION:Field 3 (5/6)
BEGIN:VALARM
TRIGGER:-P2H
ACTION:DISPLAY
DESCRIPTION:Betcher vs Capps
END:VALARM
END:VEVENT
END:VCALENDAR

