BEGIN:VCALENDAR
VERSION:2.0
PRODID:-//YGAMETIME.com//YGT iCal Creator//EN
METHOD:PUBLISH
X-PUBLISHED-TTL:PT6H
REFRESH-INTERVAL;VALUE=DURATION:PT6H
CALSCALE:GREGORIAN
X-WR-CALNAME:YGAMETIME CALENDAR
BEGIN:VTIMEZONE
TZID:America/New_York
X-LIC-LOCATION:America/New_York
BEGIN:DAYLIGHT
TZOFFSETFROM:-0500
TZOFFSETTO:-0400
TZNAME:EDT
DTSTART:19700308T020000
RRULE:FREQ=YEARLY;BYMONTH=3;BYDAY=2SU
END:DAYLIGHT
BEGIN:STANDARD
TZOFFSETFROM:-0400
TZOFFSETTO:-0500
TZNAME:EST
DTSTART:19701101T020000
RRULE:FREQ=YEARLY;BYMONTH=11;BYDAY=1SU
END:STANDARD
END:VTIMEZONE
BEGIN:VEVENT
UID:putnam-287337@ygametime.com
DTSTAMP:20220326T123000Z
DTSTART;TZID=America/New_York:20220326T083000
DURATION:PT0H60M0S
SUMMARY:Rohman vs Null
DESCRIPTION:7-8 year olds | Spring Soccer\nPutnam County Family YMCA\n
URL;VALUE=URI:https://ygametime.com/branch/putnam/sports/2022-spring-spring-soccer/12041/?utm_medium=calendar&utm_source=team_cal&utm_content=league_url#game-287337
LOCATION:Field 4 (7/8)
BEGIN:VALARM
TRIGGER:-P2H
ACTION:DISPLAY
DESCRIPTION:Rohman vs Null
END:VALARM
END:VEVENT
BEGIN:VEVENT
UID:putnam-287345@ygametime.com
DTSTAMP:20220402T133000Z
DTSTART;TZID=America/New_York:20220402T093000
DURATION:PT0H60M0S
SUMMARY:Bottoms vs Rohman
DESCRIPTION:7-8 year olds | Spring Soccer\nPutnam County Family YMCA\n
URL;VALUE=URI:https://ygametime.com/branch/putnam/sports/2022-spring-spring-soccer/12041/?utm_medium=calendar&utm_source=team_cal&utm_content=league_url#game-287345
LOCATION:Field 5 (7/8)
BEGIN:VALARM
TRIGGER:-P2H
ACTION:DISPLAY
DESCRIPTION:Bottoms vs Rohman
END:VALARM
END:VEVENT
BEGIN:VEVENT
UID:putnam-287350@ygametime.com
DTSTAMP:20220409T143000Z
DTSTART;TZID=America/New_York:20220409T103000
DURATION:PT0H60M0S
SUMMARY:Flatt vs Rohman
DESCRIPTION:7-8 year olds | Spring Soccer\nPutnam County Family YMCA\n
URL;VALUE=URI:https://ygametime.com/branch/putnam/sports/2022-spring-spring-soccer/12041/?utm_medium=calendar&utm_source=team_cal&utm_content=league_url#game-287350
LOCATION:Field 4 (7/8)
BEGIN:VALARM
TRIGGER:-P2H
ACTION:DISPLAY
DESCRIPTION:Flatt vs Rohman
END:VALARM
END:VEVENT
BEGIN:VEVENT
UID:putnam-302222@ygametime.com
DTSTAMP:20220428T213000Z
DTSTART;TZID=America/New_York:20220428T173000
DURATION:PT0H60M0S
SUMMARY:Meadows vs Rohman
DESCRIPTION:7-8 year olds | Spring Soccer\nPutnam County Family YMCA\n
URL;VALUE=URI:https://ygametime.com/branch/putnam/sports/2022-spring-spring-soccer/12041/?utm_medium=calendar&utm_source=team_cal&utm_content=league_url#game-302222
LOCATION:Field 5 (7/8)
BEGIN:VALARM
TRIGGER:-P2H
ACTION:DISPLAY
DESCRIPTION:Meadows vs Rohman
END:VALARM
END:VEVENT
BEGIN:VEVENT
UID:putnam-287365@ygametime.com
DTSTAMP:20220430T143000Z
DTSTART;TZID=America/New_York:20220430T103000
DURATION:PT0H60M0S
SUMMARY:Rohman vs Flatt
DESCRIPTION:7-8 year olds | Spring Soccer\nPutnam County Family YMCA\n
URL;VALUE=URI:https://ygametime.com/branch/putnam/sports/2022-spring-spring-soccer/12041/?utm_medium=calendar&utm_source=team_cal&utm_content=league_url#game-287365
LOCATION:Field 5 (7/8)
BEGIN:VALARM
TRIGGER:-P2H
ACTION:DISPLAY
DESCRIPTION:Rohman vs Flatt
END:VALARM
END:VEVENT
BEGIN:VEVENT
UID:putnam-302726@ygametime.com
DTSTAMP:20220503T221500Z
DTSTART;TZID=America/New_York:20220503T181500
DURATION:PT0H60M0S
SUMMARY:Eldridge vs Rohman
DESCRIPTION:7-8 year olds | Spring Soccer\nPutnam County Family YMCA\n
URL;VALUE=URI:https://ygametime.com/branch/putnam/sports/2022-spring-spring-soccer/12041/?utm_medium=calendar&utm_source=team_cal&utm_content=league_url#game-302726
LOCATION:Field 4 (7/8)
BEGIN:VALARM
TRIGGER:-P2H
ACTION:DISPLAY
DESCRIPTION:Eldridge vs Rohman
END:VALARM
END:VEVENT
BEGIN:VEVENT
UID:putnam-287367@ygametime.com
DTSTAMP:20220507T143000Z
DTSTART;TZID=America/New_York:20220507T103000
DURATION:PT0H60M0S
SUMMARY:Rutherford vs Rohman
DESCRIPTION:7-8 year olds | Spring Soccer\nPutnam County Family YMCA\n
URL;VALUE=URI:https://ygametime.com/branch/putnam/sports/2022-spring-spring-soccer/12041/?utm_medium=calendar&utm_source=team_cal&utm_content=league_url#game-287367
LOCATION:Field 4 (7/8)
BEGIN:VALARM
TRIGGER:-P2H
ACTION:DISPLAY
DESCRIPTION:Rutherford vs Rohman
END:VALARM
END:VEVENT
BEGIN:VEVENT
UID:putnam-287355@ygametime.com
DTSTAMP:20220514T123000Z
DTSTART;TZID=America/New_York:20220514T083000
DURATION:PT0H60M0S
SUMMARY:Rohman vs Randolph
DESCRIPTION:7-8 year olds | Spring Soccer\nPutnam County Family YMCA\n
URL;VALUE=URI:https://ygametime.com/branch/putnam/sports/2022-spring-spring-soccer/12041/?utm_medium=calendar&utm_source=team_cal&utm_content=league_url#game-287355
LOCATION:Field 4 (7/8)
BEGIN:VALARM
TRIGGER:-P2H
ACTION:DISPLAY
DESCRIPTION:Rohman vs Randolph
END:VALARM
END:VEVENT
END:VCALENDAR

