BEGIN:VCALENDAR
VERSION:2.0
PRODID:-//YGAMETIME.com//YGT iCal Creator//EN
METHOD:PUBLISH
X-PUBLISHED-TTL:PT6H
REFRESH-INTERVAL;VALUE=DURATION:PT6H
CALSCALE:GREGORIAN
X-WR-CALNAME:YGAMETIME CALENDAR
BEGIN:VTIMEZONE
TZID:America/New_York
X-LIC-LOCATION:America/New_York
BEGIN:DAYLIGHT
TZOFFSETFROM:-0500
TZOFFSETTO:-0400
TZNAME:EDT
DTSTART:19700308T020000
RRULE:FREQ=YEARLY;BYMONTH=3;BYDAY=2SU
END:DAYLIGHT
BEGIN:STANDARD
TZOFFSETFROM:-0400
TZOFFSETTO:-0500
TZNAME:EST
DTSTART:19701101T020000
RRULE:FREQ=YEARLY;BYMONTH=11;BYDAY=1SU
END:STANDARD
END:VTIMEZONE
BEGIN:VEVENT
UID:putnam-287338@ygametime.com
DTSTAMP:20220326T133000Z
DTSTART;TZID=America/New_York:20220326T093000
DURATION:PT0H60M0S
SUMMARY:Eldridge vs Rutherford
DESCRIPTION:7-8 year olds | Spring Soccer\nPutnam County Family YMCA\n
URL;VALUE=URI:https://ygametime.com/branch/putnam/sports/2022-spring-spring-soccer/12041/?utm_medium=calendar&utm_source=team_cal&utm_content=league_url#game-287338
LOCATION:Field 5 (7/8)
BEGIN:VALARM
TRIGGER:-P2H
ACTION:DISPLAY
DESCRIPTION:Eldridge vs Rutherford
END:VALARM
END:VEVENT
BEGIN:VEVENT
UID:putnam-287341@ygametime.com
DTSTAMP:20220402T143000Z
DTSTART;TZID=America/New_York:20220402T103000
DURATION:PT0H60M0S
SUMMARY:Rutherford vs Flatt
DESCRIPTION:7-8 year olds | Spring Soccer\nPutnam County Family YMCA\n
URL;VALUE=URI:https://ygametime.com/branch/putnam/sports/2022-spring-spring-soccer/12041/?utm_medium=calendar&utm_source=team_cal&utm_content=league_url#game-287341
LOCATION:Field 4 (7/8)
BEGIN:VALARM
TRIGGER:-P2H
ACTION:DISPLAY
DESCRIPTION:Rutherford vs Flatt
END:VALARM
END:VEVENT
BEGIN:VEVENT
UID:putnam-287349@ygametime.com
DTSTAMP:20220409T163000Z
DTSTART;TZID=America/New_York:20220409T123000
DURATION:PT0H60M0S
SUMMARY:Rutherford vs Bottoms
DESCRIPTION:7-8 year olds | Spring Soccer\nPutnam County Family YMCA\n
URL;VALUE=URI:https://ygametime.com/branch/putnam/sports/2022-spring-spring-soccer/12041/?utm_medium=calendar&utm_source=team_cal&utm_content=league_url#game-287349
LOCATION:Field 4 (7/8)
BEGIN:VALARM
TRIGGER:-P2H
ACTION:DISPLAY
DESCRIPTION:Rutherford vs Bottoms
END:VALARM
END:VEVENT
BEGIN:VEVENT
UID:putnam-287364@ygametime.com
DTSTAMP:20220430T163000Z
DTSTART;TZID=America/New_York:20220430T123000
DURATION:PT0H60M0S
SUMMARY:Null vs Rutherford
DESCRIPTION:7-8 year olds | Spring Soccer\nPutnam County Family YMCA\n
URL;VALUE=URI:https://ygametime.com/branch/putnam/sports/2022-spring-spring-soccer/12041/?utm_medium=calendar&utm_source=team_cal&utm_content=league_url#game-287364
LOCATION:Field 5 (7/8)
BEGIN:VALARM
TRIGGER:-P2H
ACTION:DISPLAY
DESCRIPTION:Null vs Rutherford
END:VALARM
END:VEVENT
BEGIN:VEVENT
UID:putnam-303434@ygametime.com
DTSTAMP:20220502T221500Z
DTSTART;TZID=America/New_York:20220502T181500
DURATION:PT0H60M0S
SUMMARY:Rutherford vs Stiles
DESCRIPTION:7-8 year olds | Spring Soccer\nPutnam County Family YMCA\n
URL;VALUE=URI:https://ygametime.com/branch/putnam/sports/2022-spring-spring-soccer/12041/?utm_medium=calendar&utm_source=team_cal&utm_content=league_url#game-303434
LOCATION:Field 5 (7/8)
BEGIN:VALARM
TRIGGER:-P2H
ACTION:DISPLAY
DESCRIPTION:Rutherford vs Stiles
END:VALARM
END:VEVENT
BEGIN:VEVENT
UID:putnam-287367@ygametime.com
DTSTAMP:20220507T143000Z
DTSTART;TZID=America/New_York:20220507T103000
DURATION:PT0H60M0S
SUMMARY:Rutherford vs Rohman
DESCRIPTION:7-8 year olds | Spring Soccer\nPutnam County Family YMCA\n
URL;VALUE=URI:https://ygametime.com/branch/putnam/sports/2022-spring-spring-soccer/12041/?utm_medium=calendar&utm_source=team_cal&utm_content=league_url#game-287367
LOCATION:Field 4 (7/8)
BEGIN:VALARM
TRIGGER:-P2H
ACTION:DISPLAY
DESCRIPTION:Rutherford vs Rohman
END:VALARM
END:VEVENT
BEGIN:VEVENT
UID:putnam-287354@ygametime.com
DTSTAMP:20220514T164500Z
DTSTART;TZID=America/New_York:20220514T124500
DURATION:PT0H60M0S
SUMMARY:Meadows vs Rutherford
DESCRIPTION:7-8 year olds | Spring Soccer\nPutnam County Family YMCA\n
URL;VALUE=URI:https://ygametime.com/branch/putnam/sports/2022-spring-spring-soccer/12041/?utm_medium=calendar&utm_source=team_cal&utm_content=league_url#game-287354
LOCATION:Field 5 (7/8)
BEGIN:VALARM
TRIGGER:-P2H
ACTION:DISPLAY
DESCRIPTION:Meadows vs Rutherford
END:VALARM
END:VEVENT
END:VCALENDAR

